Uber Exif Photo
Make : Leica Camera AG
Camera Model Name : M Monochrom
Orientation : Horizontal (normal)
Software : Adobe Photoshop Lightroom 6.5 (Macintosh)
Modify Date : 2017:10:08 23:23:09
Exposure Time : 1/1000
F Number : 3.4
Exposure Program : Manual
ISO : 1250
Date/Time Original : 2016:12:11 13:06:15
Create Date : 2016:12:11 13:06:15
Shutter Speed Value : 1/1000
Aperture Value : 3.4
Exposure Compensation : 0
Max Aperture Value : 1.4
Metering Mode : Center-weighted average
Light Source : Unknown
Flash : No Flash
Focal Length : 50.0 mm
Color Space : sRGB
Exif Image Width : 1040
Exif Image Height : 1564
Scene Type : Directly photographed
Exposure Mode : Manual
Digital Zoom Ratio : 0
Focal Length In 35mm Format : 50 mm
Scene Capture Type : Standard
Serial Number : 4347302
Lens Model : Leica Summilux-M 50mm f/1.4 ASPH.
Luminance Adjustment Green : 0
Hue Adjustment Green : 0
Saturation Adjustment Yellow : 0
Parametric Darks : 0
Perspective Scale : 100
Clarity 2012 : 0
Hue Adjustment Magenta : 0
Color Noise Reduction : 0
Perspective Upright : Off
Has Crop : False
Hue Adjustment Aqua : 0
Red Saturation : 0
Parametric Shadows : 0
Hue Adjustment Orange : 0
White Balance : As Shot
Hue Adjustment Yellow : 0
Split Toning Shadow Saturation : 0
Lens Manual Distortion Amount : 0
Tone Curve Name : Linear
Shadows 2012 : 0
Hue Adjustment Blue : 0
Blacks 2012 : 0
Tone Curve Name 2012 : Linear
Luminance Adjustment Magenta : 0
Convert To Grayscale : False
Luminance Smoothing : 0
Highlights 2012 : 0
Luminance Adjustment Yellow : 0
Incremental Tint : 0
Parametric Midtone Split : 50
Perspective Aspect : 0
Shadow Tint : 0
Hue Adjustment Red : 0
Split Toning Highlight Saturation : 0
Split Toning Shadow Hue : 0
Has Settings : True
Lens Profile Setup : LensDefaults
Defringe Purple Hue Hi : 70
Dehaze : 0
Saturation Adjustment Orange : 0
Defringe Purple Hue Lo : 30
Post Crop Vignette Amount : 0
Split Toning Balance : 0
Lens Profile Enable : 0
Vignette Amount : 0
Perspective Rotate : 0.0
Process Version : 6.7
Saturation Adjustment Purple : 0
Saturation Adjustment Green : 0
Vibrance : 0
Parametric Highlights : 0
Green Saturation : 0
Parametric Shadow Split : 25
Luminance Adjustment Purple : 0
Luminance Adjustment Orange : 0
Green Hue : 0
Perspective Vertical : 0
Blue Saturation : 0
Sharpness : 0
Sharpen Detail : 25
Perspective Horizontal : 0
Blue Hue : 0
Luminance Adjustment Aqua : 0
Parametric Highlight Split : 75
Auto Lateral CA : 0
Incremental Temperature : 0
Red Hue : 0
Split Toning Highlight Hue : 0
Camera Profile : Embedded
Saturation Adjustment Aqua : 0
Saturation Adjustment Red : 0
Defringe Purple Amount : 0
Parametric Lights : -24
Sharpen Radius : +1.0
Luminance Adjustment Blue : 0
Tone Map Strength : 0
Hue Adjustment Purple : 0
Auto White Version : 134348800
Contrast 2012 : 0
Saturation Adjustment Blue : 0
Already Applied : True
Saturation : -100
Defringe Green Hue Hi : 60
Luminance Adjustment Red : 0
Grain Amount : 0
Version : 9.5
Defringe Green Amount : 0
Whites 2012 : 0
Defringe Green Hue Lo : 40
Sharpen Edge Masking : 0
Exposure 2012 : 0.00
Saturation Adjustment Magenta : 0
Lens : Leica Summilux-M 50mm f/1.4 ASPH.
Label : Red
Creator Tool : Adobe Photoshop Lightroom 6.5 (Macintosh)
Format : image/jpeg
Date Created : 2016:12:11 13:06:15
Tone Curve PV2012 Red : 0, 0, 255, 255
Tone Curve PV2012 Green : 0, 0, 255, 255
Tone Curve PV2012 : 0, 0, 255, 255
Tone Curve Green : 0, 0, 255, 255
Tone Curve Red : 0, 0, 255, 255
Tone Curve Blue : 0, 0, 255, 255
Tone Curve : 0, 0, 255, 255
Tone Curve PV2012 Blue : 0, 0, 255, 255
Image Width : 300
Image Height : 451
Bits Per Sample : 8
Color Components : 3
Aperture : 3.4
Image Size : 300x451
Megapixels : 0.135
Scale Factor To 35 mm Equivalent : 1.0
Shutter Speed : 1/1000
Circle Of Confusion : 0.030 mm
Field Of View : 39.6 deg
Focal Length : 50.0 mm (35 mm equivalent: 50.0 mm)
Hyperfocal Distance : 24.47 m
Light Value : 9.9
Lens ID : Summilux-M 50mm f/1.4 ASPH.