Uber Exif Photo
Keywords : Åhavevej 52 - haven
By-line : Erik Vinther Andersen
Copyright Notice : Erik Vinther Andersen
Copyright Flag : True
Make : Leica Camera AG
Camera Model Name : LEICA M10
Software : Adobe Photoshop Lightroom 5.7 (Macintosh)
Modify Date : 2017:06:15 11:21:16
Artist : Erik Vinther Andersen
Copyright : Erik Vinther Andersen
Exposure Time : 1/90
Exposure Program : Aperture-priority AE
ISO : 200
Date/Time Original : 2017:06:12 17:53:04
Create Date : 2017:06:12 17:53:04
Shutter Speed Value : 1/90
Exposure Compensation : 0
Max Aperture Value : 2.8
Metering Mode : Center-weighted average
Light Source : Unknown
Flash : No Flash
Focal Length : 28.0 mm
Color Space : sRGB
Scene Type : Directly photographed
Custom Rendered : Normal
Exposure Mode : Auto
White Balance : Auto
Digital Zoom Ratio : 0
Scene Capture Type : Standard
Contrast : Normal
Saturation : Normal
Sharpness : Normal
Serial Number : 5192333
Lens Info : 28mm f/760
Lens Make : Leica Camera AG
Lens Model : Elmarit-M 1:2.8/28 ASPH.
Profile Description : sRGB IEC61966-2.1
Creator Tool : Adobe Photoshop Lightroom 5.7 (Macintosh)
Format : image/jpeg
Lens : Elmarit-M 1:2.8/28 ASPH.
Date Created : 2017:06:12 17:53:04
Marked : True
Version : 8.7
Process Version : 6.7
Auto White Version : 134348800
Color Temperature : 5300
Tint : +6
Luminance Smoothing : 0
Color Noise Reduction : 25
Vignette Amount : 0
Shadow Tint : 0
Red Hue : 0
Red Saturation : 0
Green Hue : 0
Green Saturation : 0
Blue Hue : 0
Blue Saturation : 0
Gray Mixer Red : +31
Gray Mixer Orange : +40
Gray Mixer Yellow : +40
Gray Mixer Green : -22
Gray Mixer Aqua : -21
Gray Mixer Blue : +3
Gray Mixer Purple : +13
Gray Mixer Magenta : +7
Split Toning Shadow Hue : 0
Split Toning Shadow Saturation : 0
Split Toning Highlight Hue : 0
Split Toning Highlight Saturation : 0
Split Toning Balance : 0
Parametric Shadows : +25
Parametric Darks : +17
Parametric Lights : -35
Parametric Highlights : +20
Parametric Shadow Split : 25
Parametric Midtone Split : 50
Parametric Highlight Split : 75
Sharpen Radius : +1.0
Sharpen Detail : 25
Sharpen Edge Masking : 0
Post Crop Vignette Amount : -13
Post Crop Vignette Midpoint : 50
Post Crop Vignette Feather : 50
Post Crop Vignette Roundness : 0
Post Crop Vignette Style : Highlight Priority
Post Crop Vignette Highlight Contrast : 0
Grain Amount : 0
Color Noise Reduction Detail : 50
Color Noise Reduction Smoothness : 50
Lens Profile Enable : 0
Lens Manual Distortion Amount : 0
Perspective Vertical : 0
Perspective Horizontal : 0
Perspective Rotate : 0.0
Perspective Scale : 100
Perspective Aspect : 0
Perspective Upright : Off
Auto Lateral CA : 0
Exposure 2012 : -0.20
Contrast 2012 : +30
Highlights 2012 : +34
Shadows 2012 : 0
Whites 2012 : 0
Blacks 2012 : -91
Clarity 2012 : 0
Convert To Grayscale : True
Tone Curve Name : Linear
Tone Curve Name 2012 : Strong Contrast
Camera Profile : LEICA M10
Lens Profile Setup : LensDefaults
Has Settings : True
Crop Top : 0.042578
Crop Left : 0.043921
Crop Bottom : 1
Crop Right : 0.943648
Crop Angle : 1.6624
Crop Constrain To Warp : 0
Has Crop : True
Already Applied : True
Creator : Erik Vinther Andersen
Rights : Erik Vinther Andersen
Subject : Åhavevej 52 - haven
Creator Work Email : erik@vintherandersen.dk
Tone Curve : 0, 0, 255, 255
Tone Curve Red : 0, 0, 255, 255
Tone Curve Green : 0, 0, 255, 255
Tone Curve Blue : 0, 0, 255, 255
Tone Curve PV2012 : 0, 0, 32, 16, 64, 50, 128, 128, 192, 202, 255, 255
Tone Curve PV2012 Red : 0, 0, 255, 255
Tone Curve PV2012 Green : 0, 0, 255, 255
Tone Curve PV2012 Blue : 0, 0, 255, 255
Image Width : 300
Image Height : 200
Bits Per Sample : 8
Color Components : 3
Image Size : 300x200
Megapixels : 0.060
Shutter Speed : 1/90