Uber Exif Photo
Photometric Interpretation : RGB
Make : Leica Camera AG
Camera Model Name : LEICA M (Typ 240)
Orientation : Horizontal (normal)
Samples Per Pixel : 3
Software : Adobe Photoshop CC 2017 (Windows)
Modify Date : 2017:05:06 19:40:00
Exposure Time : 1/45
F Number : 4.0
Exposure Program : Manual
ISO : 640
Date/Time Original : 2017:04:08 19:42:12
Create Date : 2017:04:08 19:42:12
Shutter Speed Value : 1/45
Aperture Value : 4.0
Exposure Compensation : 0
Max Aperture Value : 2.8
Metering Mode : Center-weighted average
Light Source : Unknown
Flash : No Flash
Focal Length : 28.0 mm
Color Space : sRGB
Exif Image Width : 5274
Exif Image Height : 3523
Scene Type : Directly photographed
Custom Rendered : Normal
Exposure Mode : Manual
White Balance : Auto
Digital Zoom Ratio : 0
Scene Capture Type : Standard
Contrast : Normal
Saturation : Normal
Sharpness : Normal
Serial Number : 4826569
Lens Info : 28mm f/2.8-22
Lens Make : Leica Camera AG
Lens Model : Elmarit-M 1:2.8/28 ASPH.
Lens Serial Number : -------
Profile Description : sRGB IEC61966-2.1
Creator Tool : Adobe Photoshop Lightroom 6.6.1 (Windows)
Lens : Elmarit-M 1:2.8/28 ASPH.
Date Created : 2017:04:08 19:42:12
Color Mode : RGB
ICC Profile Name : sRGB IEC61966-2.1
Format : image/jpeg
Version : 9.6
Process Version : 6.7
Auto White Version : 134348800
Color Temperature : 6200
Tint : -5
Luminance Smoothing : 0
Color Noise Reduction : 25
Vignette Amount : 0
Shadow Tint : 0
Red Hue : 0
Red Saturation : 0
Green Hue : 0
Green Saturation : 0
Blue Hue : 0
Blue Saturation : 0
Vibrance : -2
Hue Adjustment Red : +39
Hue Adjustment Orange : -6
Hue Adjustment Yellow : -19
Hue Adjustment Green : -7
Hue Adjustment Aqua : -15
Hue Adjustment Blue : -23
Hue Adjustment Purple : -49
Hue Adjustment Magenta : 0
Saturation Adjustment Red : +9
Saturation Adjustment Orange : +51
Saturation Adjustment Yellow : +26
Saturation Adjustment Green : -30
Saturation Adjustment Aqua : -13
Saturation Adjustment Blue : -3
Saturation Adjustment Purple : -82
Saturation Adjustment Magenta : -47
Luminance Adjustment Red : +17
Luminance Adjustment Orange : +49
Luminance Adjustment Yellow : +41
Luminance Adjustment Green : -27
Luminance Adjustment Aqua : -44
Luminance Adjustment Blue : -47
Luminance Adjustment Purple : -58
Luminance Adjustment Magenta : -51
Split Toning Shadow Hue : 0
Split Toning Shadow Saturation : 0
Split Toning Highlight Hue : 0
Split Toning Highlight Saturation : 0
Split Toning Balance : +52
Parametric Shadows : 0
Parametric Darks : 0
Parametric Lights : 0
Parametric Highlights : 0
Parametric Shadow Split : 25
Parametric Midtone Split : 50
Parametric Highlight Split : 75
Sharpen Radius : +1.5
Sharpen Detail : 40
Sharpen Edge Masking : 30
Post Crop Vignette Amount : 0
Grain Amount : 0
Color Noise Reduction Detail : 50
Color Noise Reduction Smoothness : 50
Lens Profile Enable : 0
Lens Manual Distortion Amount : 0
Perspective Vertical : 0
Perspective Horizontal : 0
Perspective Rotate : 0.0
Perspective Scale : 100
Perspective Aspect : 0
Perspective Upright : Off
Perspective X : 0.00
Perspective Y : 0.00
Auto Lateral CA : 0
Exposure 2012 : +0.24
Contrast 2012 : -24
Highlights 2012 : -18
Shadows 2012 : +29
Whites 2012 : -18
Blacks 2012 : -10
Clarity 2012 : +26
Defringe Purple Amount : 0
Defringe Purple Hue Lo : 30
Defringe Purple Hue Hi : 70
Defringe Green Amount : 0
Defringe Green Hue Lo : 40
Defringe Green Hue Hi : 60
Dehaze : 0
Tone Map Strength : 0
Convert To Grayscale : False
Tone Curve Name : Linear
Tone Curve Name 2012 : Custom
Camera Profile : Adobe Standard
Lens Profile Setup : LensDefaults
Has Settings : True
Crop Top : 0.099619
Crop Left : 0.012142
Crop Bottom : 0.998183
Crop Right : 0.887428
Crop Angle : 0.698045
Crop Constrain To Warp : 0
Has Crop : True
Already Applied : True
Tone Curve : 0, 0, 255, 255
Tone Curve Red : 0, 0, 255, 255
Tone Curve Green : 0, 0, 255, 255
Tone Curve Blue : 0, 0, 255, 255
Tone Curve PV2012 : 0, 21, 55, 40, 173, 146, 221, 202, 255, 245
Tone Curve PV2012 Red : 0, 0, 49, 42, 87, 80, 171, 177, 234, 255
Tone Curve PV2012 Green : 0, 28, 62, 50, 105, 104, 142, 144, 181, 191, 222, 255
Tone Curve PV2012 Blue : 6, 0, 73, 76, 120, 114, 191, 204, 255, 237
Image Width : 300
Image Height : 200
Bits Per Sample : 8
Color Components : 3
Aperture : 4.0
Image Size : 300x200
Megapixels : 0.060
Scale Factor To 35 mm Equivalent : 1.1
Shutter Speed : 1/45
Circle Of Confusion : 0.027 mm
Field Of View : 59.4 deg
Focal Length : 28.0 mm (35 mm equivalent: 31.6 mm)
Hyperfocal Distance : 7.36 m
Light Value : 6.8