Uber Exif Photo
Make : LEICA
Camera Model Name : D-LUX 3
Software : Adobe Photoshop Lightroom 5.7.1 (Macintosh)
Modify Date : 2017:04:24 14:23:21
Exposure Time : 1/15
F Number : 4.9
Exposure Program : Program AE
ISO : 800
Date/Time Original : 2015:04:07 17:26:17
Create Date : 2015:04:07 17:26:17
Shutter Speed Value : 1/15
Aperture Value : 4.9
Exposure Compensation : 0
Max Aperture Value : 2.8
Metering Mode : Multi-segment
Light Source : Unknown
Flash : Off, Did not fire
Focal Length : 25.2 mm
Color Space : sRGB
Sensing Method : One-chip color area
Scene Type : Directly photographed
Custom Rendered : Normal
Exposure Mode : Auto
White Balance : Auto
Digital Zoom Ratio : 0
Focal Length In 35mm Format : 128 mm
Scene Capture Type : Standard
Gain Control : High gain up
Contrast : Normal
Saturation : Normal
Sharpness : Normal
Profile Description : sRGB IEC61966-2.1
Creator Tool : Adobe Photoshop Lightroom 5.7.1 (Macintosh)
Date Created : 2015:04:07 17:26:17
Format : image/jpeg
Version : 8.7.1
Process Version : 6.7
Auto White Version : 134348800
Incremental Temperature : 0
Incremental Tint : 0
Luminance Smoothing : 0
Color Noise Reduction : 0
Vignette Amount : 0
Shadow Tint : 0
Red Hue : 0
Red Saturation : 0
Green Hue : 0
Green Saturation : 0
Blue Hue : 0
Blue Saturation : 0
Gray Mixer Red : -10
Gray Mixer Orange : -20
Gray Mixer Yellow : -25
Gray Mixer Green : -28
Gray Mixer Aqua : -19
Gray Mixer Blue : +11
Gray Mixer Purple : +19
Gray Mixer Magenta : +6
Split Toning Shadow Hue : 200
Split Toning Shadow Saturation : 20
Split Toning Highlight Hue : 50
Split Toning Highlight Saturation : 35
Split Toning Balance : +40
Parametric Shadows : +77
Parametric Darks : -63
Parametric Lights : +43
Parametric Highlights : -31
Parametric Shadow Split : 30
Parametric Midtone Split : 50
Parametric Highlight Split : 75
Sharpen Radius : +1.0
Sharpen Detail : 35
Sharpen Edge Masking : 0
Post Crop Vignette Amount : 0
Grain Amount : 0
Lens Profile Enable : 0
Lens Manual Distortion Amount : 0
Perspective Vertical : 0
Perspective Horizontal : 0
Perspective Rotate : 0.0
Perspective Scale : 100
Perspective Aspect : 0
Perspective Upright : Off
Auto Lateral CA : 0
Exposure 2012 : +0.12
Contrast 2012 : +44
Highlights 2012 : -7
Shadows 2012 : +60
Whites 2012 : -15
Blacks 2012 : -30
Clarity 2012 : +80
Convert To Grayscale : True
Tone Curve Name : Linear
Tone Curve Name 2012 : Custom
Camera Profile : Embedded
Lens Profile Setup : LensDefaults
Has Settings : True
Has Crop : False
Already Applied : True
Tone Curve : 0, 0, 255, 255
Tone Curve Red : 0, 0, 255, 255
Tone Curve Green : 0, 0, 255, 255
Tone Curve Blue : 0, 0, 255, 255
Tone Curve PV2012 : 1, 30, 70, 74, 173, 172, 255, 255
Tone Curve PV2012 Red : 8, 0, 82, 79, 255, 255
Tone Curve PV2012 Green : 0, 0, 255, 255
Tone Curve PV2012 Blue : 0, 13, 63, 63, 157, 158, 255, 255
Image Width : 300
Image Height : 451
Bits Per Sample : 8
Color Components : 3
Aperture : 4.9
Image Size : 300x451
Megapixels : 0.135
Scale Factor To 35 mm Equivalent : 5.1
Shutter Speed : 1/15
Circle Of Confusion : 0.006 mm
Field Of View : 16.0 deg
Focal Length : 25.2 mm (35 mm equivalent: 128.0 mm)
Hyperfocal Distance : 21.91 m
Light Value : 5.5