Uber Exif Photo
Make : LEICA
Camera Model Name : D-LUX 3
Software : Adobe Photoshop Lightroom 5.7.1 (Macintosh)
Modify Date : 2017:03:26 11:11:21
Exposure Time : 1/20
F Number : 3.6
Exposure Program : Program AE
ISO : 200
Date/Time Original : 2014:12:29 11:17:15
Create Date : 2014:12:29 11:17:15
Shutter Speed Value : 1/20
Aperture Value : 3.6
Exposure Compensation : 0
Max Aperture Value : 2.8
Metering Mode : Multi-segment
Light Source : Unknown
Flash : Off, Did not fire
Focal Length : 10.0 mm
Color Space : sRGB
Sensing Method : One-chip color area
Scene Type : Directly photographed
Custom Rendered : Normal
Exposure Mode : Auto
White Balance : Auto
Digital Zoom Ratio : 0
Focal Length In 35mm Format : 51 mm
Scene Capture Type : Standard
Gain Control : Low gain up
Contrast : Normal
Saturation : Normal
Sharpness : Normal
Profile Description : sRGB IEC61966-2.1
Creator Tool : Adobe Photoshop Lightroom 5.7.1 (Macintosh)
Date Created : 2014:12:29 11:17:15
Format : image/jpeg
Version : 8.7.1
Process Version : 6.7
Auto White Version : 134348800
Incremental Temperature : 0
Incremental Tint : 0
Luminance Smoothing : 0
Color Noise Reduction : 25
Vignette Amount : 0
Shadow Tint : 0
Red Hue : 0
Red Saturation : 0
Green Hue : 0
Green Saturation : 0
Blue Hue : 0
Blue Saturation : 0
Gray Mixer Red : +37
Gray Mixer Orange : +100
Gray Mixer Yellow : +90
Gray Mixer Green : -27
Gray Mixer Aqua : -15
Gray Mixer Blue : -49
Gray Mixer Purple : +64
Gray Mixer Magenta : +22
Split Toning Shadow Hue : 0
Split Toning Shadow Saturation : 0
Split Toning Highlight Hue : 0
Split Toning Highlight Saturation : 0
Split Toning Balance : 0
Parametric Shadows : 0
Parametric Darks : -44
Parametric Lights : -74
Parametric Highlights : 0
Parametric Shadow Split : 25
Parametric Midtone Split : 50
Parametric Highlight Split : 75
Sharpen Radius : +1.5
Sharpen Detail : 35
Sharpen Edge Masking : 15
Post Crop Vignette Amount : 0
Grain Amount : 0
Color Noise Reduction Detail : 50
Color Noise Reduction Smoothness : 50
Lens Profile Enable : 0
Lens Manual Distortion Amount : 0
Perspective Vertical : 0
Perspective Horizontal : 0
Perspective Rotate : 0.0
Perspective Scale : 100
Perspective Aspect : 0
Perspective Upright : Off
Auto Lateral CA : 0
Exposure 2012 : +0.12
Contrast 2012 : +60
Highlights 2012 : -80
Shadows 2012 : +100
Whites 2012 : -20
Blacks 2012 : -60
Clarity 2012 : +80
Convert To Grayscale : True
Tone Curve Name : Linear
Tone Curve Name 2012 : Linear
Camera Profile : Embedded
Lens Profile Setup : LensDefaults
Has Settings : True
Has Crop : False
Already Applied : True
Tone Curve : 0, 0, 255, 255
Tone Curve Red : 0, 0, 255, 255
Tone Curve Green : 0, 0, 255, 255
Tone Curve Blue : 0, 0, 255, 255
Tone Curve PV2012 : 0, 0, 255, 255
Tone Curve PV2012 Red : 0, 0, 255, 255
Tone Curve PV2012 Green : 0, 0, 255, 255
Tone Curve PV2012 Blue : 0, 0, 255, 255
Image Width : 300
Image Height : 451
Bits Per Sample : 8
Color Components : 3
Aperture : 3.6
Image Size : 300x451
Megapixels : 0.135
Scale Factor To 35 mm Equivalent : 5.1
Shutter Speed : 1/20
Circle Of Confusion : 0.006 mm
Field Of View : 38.9 deg
Focal Length : 10.0 mm (35 mm equivalent: 51.0 mm)
Hyperfocal Distance : 4.71 m
Light Value : 7.0