Uber Exif Photo
Photometric Interpretation : RGB
Make : Leica Camera AG
Camera Model Name : LEICA M (Typ 240)
Orientation : Horizontal (normal)
Samples Per Pixel : 3
Software : Adobe Photoshop CC 2015.5 (Windows)
Modify Date : 2017:01:29 22:24:06
Exposure Time : 1/45
F Number : 2.8
Exposure Program : Manual
ISO : 2000
Date/Time Original : 2017:01:13 16:57:25
Create Date : 2017:01:13 16:57:25
Shutter Speed Value : 1/45
Aperture Value : 2.8
Exposure Compensation : +0.332
Max Aperture Value : 2.8
Metering Mode : Center-weighted average
Light Source : Unknown
Flash : No Flash
Focal Length : 28.0 mm
Color Space : sRGB
Exif Image Width : 5621
Exif Image Height : 3755
Scene Type : Directly photographed
Custom Rendered : Normal
Exposure Mode : Manual
White Balance : Auto
Digital Zoom Ratio : 0
Scene Capture Type : Standard
Contrast : Normal
Saturation : Normal
Sharpness : Normal
Serial Number : 4826569
Lens Info : 28mm f/2.8-22
Lens Make : Leica Camera AG
Lens Model : Elmarit-M 1:2.8/28 ASPH.
Lens Serial Number : -------
Profile Description : sRGB IEC61966-2.1
Creator Tool : Adobe Photoshop Lightroom 6.6.1 (Windows)
Rating : 5
Lens : Elmarit-M 1:2.8/28 ASPH.
Date Created : 2017:01:13 16:57:25
Color Mode : RGB
ICC Profile Name : sRGB IEC61966-2.1
Format : image/jpeg
Version : 9.6
Process Version : 6.7
Auto White Version : 134348800
Color Temperature : 3250
Tint : +12
Luminance Smoothing : 0
Color Noise Reduction : 25
Vignette Amount : 0
Shadow Tint : 0
Red Hue : +20
Red Saturation : 0
Green Hue : -15
Green Saturation : 0
Blue Hue : -5
Blue Saturation : 0
Vibrance : +12
Hue Adjustment Red : -10
Hue Adjustment Orange : 0
Hue Adjustment Yellow : 0
Hue Adjustment Green : -5
Hue Adjustment Aqua : 0
Hue Adjustment Blue : 0
Hue Adjustment Purple : 0
Hue Adjustment Magenta : +15
Saturation Adjustment Red : 0
Saturation Adjustment Orange : -6
Saturation Adjustment Yellow : +5
Saturation Adjustment Green : -10
Saturation Adjustment Aqua : -25
Saturation Adjustment Blue : -20
Saturation Adjustment Purple : -15
Saturation Adjustment Magenta : -20
Luminance Adjustment Red : -35
Luminance Adjustment Orange : -27
Luminance Adjustment Yellow : -22
Luminance Adjustment Green : -25
Luminance Adjustment Aqua : -5
Luminance Adjustment Blue : -25
Luminance Adjustment Purple : +10
Luminance Adjustment Magenta : -20
Split Toning Shadow Hue : 0
Split Toning Shadow Saturation : 0
Split Toning Highlight Hue : 50
Split Toning Highlight Saturation : 30
Split Toning Balance : -50
Parametric Shadows : 0
Parametric Darks : 0
Parametric Lights : -24
Parametric Highlights : 0
Parametric Shadow Split : 14
Parametric Midtone Split : 60
Parametric Highlight Split : 75
Sharpen Radius : +1.2
Sharpen Detail : 25
Sharpen Edge Masking : 0
Post Crop Vignette Amount : 0
Grain Amount : 8
Grain Size : 60
Grain Frequency : 40
Color Noise Reduction Detail : 50
Color Noise Reduction Smoothness : 50
Lens Profile Enable : 1
Lens Manual Distortion Amount : 0
Perspective Vertical : 0
Perspective Horizontal : 0
Perspective Rotate : 0.0
Perspective Scale : 100
Perspective Aspect : 0
Perspective Upright : Off
Perspective X : 0.00
Perspective Y : 0.00
Auto Lateral CA : 1
Exposure 2012 : -0.24
Contrast 2012 : 0
Highlights 2012 : -10
Shadows 2012 : +15
Whites 2012 : -10
Blacks 2012 : 0
Clarity 2012 : +48
Defringe Purple Amount : 0
Defringe Purple Hue Lo : 30
Defringe Purple Hue Hi : 70
Defringe Green Amount : 0
Defringe Green Hue Lo : 40
Defringe Green Hue Hi : 60
Dehaze : 0
Tone Map Strength : 0
Convert To Grayscale : False
Tone Curve Name : Linear
Tone Curve Name 2012 : Custom
Camera Profile : Polaroid 690 L
Lens Profile Setup : LensDefaults
Lens Profile Name : Adobe (Leica ELMARIT-M 28 mm f/2.8 ASPH.)
Lens Profile Filename : Leica Camera AG (Leica ELMARIT-M 28 mm f2.8 ASPH.) - RAW.lcp
Lens Profile Distortion Scale : 100
Lens Profile Chromatic Aberration Scale : 100
Lens Profile Vignetting Scale : 100
Has Settings : True
Crop Top : 0.035359
Crop Left : 0.026129
Crop Bottom : 0.994083
Crop Right : 0.958513
Crop Angle : 0.741117
Crop Constrain To Warp : 0
Has Crop : True
Already Applied : True
Tone Curve : 0, 0, 255, 255
Tone Curve Red : 0, 0, 255, 255
Tone Curve Green : 0, 0, 255, 255
Tone Curve Blue : 0, 0, 255, 255
Tone Curve PV2012 : 0, 30, 56, 72, 129, 130, 255, 255
Tone Curve PV2012 Red : 0, 0, 45, 21, 119, 124, 149, 167, 215, 232, 255, 255
Tone Curve PV2012 Green : 0, 0, 50, 20, 121, 121, 226, 234, 255, 251
Tone Curve PV2012 Blue : 0, 0, 55, 19, 120, 120, 194, 215, 255, 250
Image Width : 300
Image Height : 200
Bits Per Sample : 8
Color Components : 3
Aperture : 2.8
Image Size : 300x200
Megapixels : 0.060
Scale Factor To 35 mm Equivalent : 1.1
Shutter Speed : 1/45
Circle Of Confusion : 0.028 mm
Field Of View : 62.6 deg
Focal Length : 28.0 mm (35 mm equivalent: 29.6 mm)
Hyperfocal Distance : 9.86 m
Light Value : 4.1