Uber Exif Photo
Make : Leica Camera AG
Camera Model Name : M Monochrom
Software : Adobe Photoshop Lightroom 6.14 (Windows)
Modify Date : 2023:11:08 22:15:40
Exposure Time : 1/500
F Number : 2.4
Exposure Program : Aperture-priority AE
ISO : 320
Date/Time Original : 2016:08:08 12:45:09
Create Date : 2016:08:08 12:45:09
Shutter Speed Value : 1/500
Aperture Value : 2.4
Exposure Compensation : +0.332
Max Aperture Value : 1.0
Metering Mode : Center-weighted average
Light Source : Unknown
Flash : No Flash
Color Space : sRGB
Scene Type : Directly photographed
Exposure Mode : Manual
Digital Zoom Ratio : 0
Scene Capture Type : Standard
Serial Number : 4342411
Profile Description : sRGB IEC61966-2.1
Creator Tool : Adobe Photoshop Lightroom 6.14 (Windows)
Date Created : 2016:08:08 12:45:09
Format : image/jpeg
Version : 10.1
Process Version : 6.7
Sharpness : 53
Luminance Smoothing : 0
Vignette Amount : 0
Split Toning Shadow Hue : 0
Split Toning Shadow Saturation : 0
Split Toning Highlight Hue : 0
Split Toning Highlight Saturation : 0
Split Toning Balance : 0
Parametric Shadows : 0
Parametric Darks : 0
Parametric Lights : 0
Parametric Highlights : 0
Parametric Shadow Split : 25
Parametric Midtone Split : 50
Parametric Highlight Split : 75
Sharpen Radius : +1.0
Sharpen Detail : 25
Sharpen Edge Masking : 0
Post Crop Vignette Amount : -9
Post Crop Vignette Midpoint : 50
Post Crop Vignette Feather : 50
Post Crop Vignette Roundness : 0
Post Crop Vignette Style : Highlight Priority
Post Crop Vignette Highlight Contrast : 0
Grain Amount : 60
Grain Size : 25
Grain Frequency : 50
Lens Profile Enable : 0
Lens Manual Distortion Amount : 0
Perspective Vertical : 0
Perspective Horizontal : 0
Perspective Rotate : 0.0
Perspective Scale : 100
Perspective Aspect : 0
Perspective Upright : Off
Perspective X : 0.00
Perspective Y : 0.00
Exposure 2012 : +0.14
Contrast 2012 : +15
Highlights 2012 : -50
Shadows 2012 : -30
Whites 2012 : 0
Blacks 2012 : -10
Clarity 2012 : +30
Dehaze : 0
Tone Map Strength : 0
Tone Curve Name : Linear
Tone Curve Name 2012 : Strong Contrast
Lens Profile Setup : LensDefaults
Has Settings : True
Crop Top : 0.002917
Crop Left : 0.081711
Crop Bottom : 0.888588
Crop Right : 0.939445
Crop Angle : 0.852063
Crop Constrain To Warp : 0
Has Crop : True
Already Applied : True
Tone Curve : 0, 0, 255, 255
Tone Curve Red : 0, 0, 255, 255
Tone Curve Green : 0, 0, 255, 255
Tone Curve Blue : 0, 0, 255, 255
Tone Curve PV2012 : 0, 0, 32, 16, 64, 50, 128, 128, 192, 202, 255, 255
Tone Curve PV2012 Red : 0, 0, 255, 255
Tone Curve PV2012 Green : 0, 0, 255, 255
Tone Curve PV2012 Blue : 0, 0, 255, 255
Image Width : 266
Image Height : 400
Bits Per Sample : 8
Color Components : 3
Aperture : 2.4
Image Size : 266x400
Megapixels : 0.106
Scale Factor To 35 mm Equivalent : 13.1
Shutter Speed : 1/500
Circle Of Confusion : 0.002 mm
Light Value : 9.8