Uber Exif Photo
Photometric Interpretation : RGB
Make : Leica Camera AG
Camera Model Name : M9 Digital Camera
Orientation : Horizontal (normal)
Samples Per Pixel : 3
Planar Configuration : Chunky
Software : Adobe Photoshop CS6 (Macintosh)
Modify Date : 2016:02:02 00:54:58
Exposure Time : 1/60
F Number : 3.4
Exposure Program : Aperture-priority AE
ISO : 400
Date/Time Original : 2016:01:29 13:26:13
Create Date : 2016:01:29 13:26:13
Shutter Speed Value : 1/60
Aperture Value : 3.4
Exposure Compensation : 0
Max Aperture Value : 2.0
Metering Mode : Center-weighted average
Light Source : Other
Flash : No Flash
Focal Length : 35.0 mm
Color Space : Uncalibrated
Exif Image Width : 1920
Exif Image Height : 1278
Scene Type : Directly photographed
Custom Rendered : Normal
Exposure Mode : Manual
White Balance : Manual
Digital Zoom Ratio : 0
Focal Length In 35mm Format : 35 mm
Scene Capture Type : Standard
Contrast : Normal
Saturation : Normal
Sharpness : Normal
Lens Model : Leica Summicron-M 35mm f/2 ASPH.
Creator Tool : Adobe Photoshop Lightroom 4.4 (Macintosh)
Lens : Leica Summicron-M 35mm f/2 ASPH.
Date Created : 2016:01:29 13:26:13
Color Mode : RGB
ICC Profile Name : eciRGB v2 ICCv4
Format : image/jpeg
Version : 7.4
Process Version : 6.7
Incremental Temperature : -5
Incremental Tint : -36
Luminance Smoothing : 0
Color Noise Reduction : 25
Vignette Amount : 0
Shadow Tint : 0
Red Hue : 0
Red Saturation : 0
Green Hue : 0
Green Saturation : 0
Blue Hue : 0
Blue Saturation : 0
Vibrance : +24
Hue Adjustment Red : +96
Hue Adjustment Orange : 0
Hue Adjustment Yellow : 0
Hue Adjustment Green : +11
Hue Adjustment Aqua : 0
Hue Adjustment Blue : +11
Hue Adjustment Purple : 0
Hue Adjustment Magenta : 0
Saturation Adjustment Red : +3
Saturation Adjustment Orange : 0
Saturation Adjustment Yellow : 0
Saturation Adjustment Green : +25
Saturation Adjustment Aqua : 0
Saturation Adjustment Blue : -70
Saturation Adjustment Purple : 0
Saturation Adjustment Magenta : 0
Luminance Adjustment Red : 0
Luminance Adjustment Orange : 0
Luminance Adjustment Yellow : 0
Luminance Adjustment Green : 0
Luminance Adjustment Aqua : 0
Luminance Adjustment Blue : 0
Luminance Adjustment Purple : 0
Luminance Adjustment Magenta : 0
Split Toning Shadow Hue : 0
Split Toning Shadow Saturation : 0
Split Toning Highlight Hue : 0
Split Toning Highlight Saturation : 0
Split Toning Balance : 0
Parametric Shadows : 0
Parametric Darks : 0
Parametric Lights : 0
Parametric Highlights : 0
Parametric Shadow Split : 25
Parametric Midtone Split : 50
Parametric Highlight Split : 75
Sharpen Radius : +0.5
Sharpen Detail : 0
Sharpen Edge Masking : 0
Post Crop Vignette Amount : -10
Post Crop Vignette Midpoint : 50
Post Crop Vignette Feather : 50
Post Crop Vignette Roundness : 0
Post Crop Vignette Style : Highlight Priority
Post Crop Vignette Highlight Contrast : 0
Grain Amount : 0
Color Noise Reduction Detail : 50
Lens Profile Enable : 1
Lens Manual Distortion Amount : 0
Perspective Vertical : 0
Perspective Horizontal : 0
Perspective Rotate : 0.0
Perspective Scale : 100
Auto Lateral CA : 0
Exposure 2012 : +0.55
Contrast 2012 : +71
Highlights 2012 : -19
Shadows 2012 : +59
Whites 2012 : -81
Blacks 2012 : -19
Clarity 2012 : +30
Defringe Purple Amount : 0
Defringe Purple Hue Lo : 30
Defringe Purple Hue Hi : 70
Defringe Green Amount : 0
Defringe Green Hue Lo : 40
Defringe Green Hue Hi : 60
Convert To Grayscale : False
Tone Curve Name 2012 : Linear
Camera Profile : Adobe Standard
Lens Profile Setup : LensDefaults
Has Settings : True
Crop Top : 0.022608
Crop Left : 0.006295
Crop Bottom : 0.977392
Crop Right : 0.993705
Crop Angle : -0.882125
Crop Constrain To Warp : 0
Crop Width : 5099
Crop Height : 3394
Crop Unit : pixels
Has Crop : True
Already Applied : True
Tone Curve PV2012 : 0, 0, 255, 255
Tone Curve PV2012 Red : 0, 0, 255, 255
Tone Curve PV2012 Green : 0, 0, 255, 255
Tone Curve PV2012 Blue : 0, 0, 255, 255
Image Width : 308
Image Height : 208
Bits Per Sample : 8
Color Components : 1
Aperture : 3.4
Image Size : 308x208
Megapixels : 0.064
Scale Factor To 35 mm Equivalent : 1.0
Shutter Speed : 1/60
Circle Of Confusion : 0.030 mm
Field Of View : 54.4 deg
Focal Length : 35.0 mm (35 mm equivalent: 35.0 mm)
Hyperfocal Distance : 11.99 m
Light Value : 7.4
Lens ID : Summicron-M 35mm f/2 ASPH.