Uber Exif Photo
Make : LEICA CAMERA AG
Camera Model Name : LEICA Q (Typ 116)
Orientation : Horizontal (normal)
Software : Adobe Photoshop Lightroom 6.2.1 (Macintosh)
Modify Date : 2015:12:24 15:17:53
Exposure Time : 1/60
F Number : 4.0
Exposure Program : Aperture-priority AE
ISO : 640
Sensitivity Type : Standard Output Sensitivity
Date/Time Original : 2015:10:07 12:06:17
Create Date : 2015:10:07 12:06:17
Shutter Speed Value : 1/60
Aperture Value : 4.0
Exposure Compensation : 0
Max Aperture Value : 1.7
Metering Mode : Multi-segment
Light Source : Unknown
Flash : Off, Did not fire
Focal Length : 28.0 mm
Color Space : sRGB
Exif Image Width : 2000
Exif Image Height : 2000
Sensing Method : One-chip color area
Custom Rendered : Normal
White Balance : Auto
Digital Zoom Ratio : 1
Focal Length In 35mm Format : 28 mm
Scene Capture Type : Standard
Contrast : Normal
Saturation : Normal
Sharpness : Normal
Serial Number : 4971042
Lens Info : 28mm f/1.53125
Lens Make : LEICA CAMERA AG
Lens Model : 28.0 mm f/1.7
Lens Serial Number : N/A
Parametric Darks : 0
Perspective Scale : 100
Clarity 2012 : +100
Color Noise Reduction : 25
Perspective Upright : Off
Has Crop : True
Red Saturation : 0
Parametric Shadows : 0
Gray Mixer Magenta : 0
Gray Mixer Yellow : +38
Split Toning Shadow Saturation : 0
Lens Manual Distortion Amount : 0
Tone Curve Name : Linear
Shadows 2012 : +81
Blacks 2012 : -29
Tone Curve Name 2012 : Linear
Luminance Smoothing : 0
Convert To Grayscale : True
Highlights 2012 : -100
Parametric Midtone Split : 50
Perspective Aspect : 0
Shadow Tint : 0
Split Toning Highlight Saturation : 0
Split Toning Shadow Hue : 0
Has Settings : True
Lens Profile Setup : LensDefaults
Dehaze : 0
Gray Mixer Red : 0
Post Crop Vignette Amount : -16
Split Toning Balance : 0
Lens Profile Enable : 0
Vignette Amount : 0
Perspective Rotate : 0.0
Crop Right : 1
Process Version : 6.7
Gray Mixer Blue : -39
Parametric Highlights : 0
Green Saturation : 0
Gray Mixer Orange : +29
Parametric Shadow Split : 25
Sharpen Detail : 25
Green Hue : 0
Perspective Vertical : 0
Blue Saturation : 0
Crop Left : 0.333334
Crop Bottom : 0.981385
Perspective Horizontal : 0
Post Crop Vignette Roundness : 0
Blue Hue : 0
Crop Top : 0.018615
Parametric Highlight Split : 75
Post Crop Vignette Style : Highlight Priority
Auto Lateral CA : 1
Color Noise Reduction Smoothness : 50
Red Hue : 0
Tint : +5
Crop Angle : -1.08665
Split Toning Highlight Hue : 0
Camera Profile : Adobe Standard
Parametric Lights : 0
Sharpen Radius : +1.0
Crop Constrain To Warp : 0
Tone Map Strength : 0
Post Crop Vignette Highlight Contrast : 0
Auto White Version : 134348800
Contrast 2012 : +28
Already Applied : True
Gray Mixer Aqua : 0
Gray Mixer Green : 0
Grain Amount : 0
Version : 9.2
Gray Mixer Purple : 0
Whites 2012 : +27
Post Crop Vignette Midpoint : 47
Sharpen Edge Masking : 0
Color Noise Reduction Detail : 50
Exposure 2012 : +0.70
Post Crop Vignette Feather : 61
Color Temperature : 7250
Lens : 28.0 mm f/1.7
Creator Tool : Adobe Photoshop Lightroom 6.2.1 (Macintosh)
Format : image/jpeg
Date Created : 2015:10:07 12:06:17
Tone Curve PV2012 Red : 0, 0, 255, 255
Tone Curve PV2012 Green : 0, 0, 255, 255
Tone Curve PV2012 : 0, 0, 255, 255
Tone Curve Green : 0, 0, 255, 255
Tone Curve Red : 0, 0, 255, 255
Tone Curve Blue : 0, 0, 255, 255
Gradient Based Corr Defringe : 0.000000
Gradient Based Corr Highlights 2012 : -1.000000
Gradient Based Corr Clarity 2012 : 1.000000
Gradient Based Corr Temperature : 0.000000
Gradient Based Corr Saturation : 0.000000
Gradient Based Corr What : Correction
Gradient Based Corr Tint : 0.000000
Gradient Based Corr Brightness : 0.000000
Gradient Based Corr Shadows 2012 : 0.965726
Gradient Based Corr Sharpness : 0.000000
Gradient Based Corr Toning Saturation : 0.000000
Gradient Based Corr Amount : 1.000000
Gradient Based Corr Toning Hue : 233.000000
Gradient Based Corr Active : true
Gradient Based Corr Contrast 2012 : 0.000000
Gradient Based Corr Luminance Noise : 0.000000
Gradient Based Corr Exposure 2012 : 0.000000
Gradient Based Corr Moire : 0.000000
Gradient Based Corr Mask Full Y : 1.009460
Gradient Based Corr Mask What : Mask/Gradient
Gradient Based Corr Mask Zero Y : 1.024490
Gradient Based Corr Mask Value : 1.000000
Gradient Based Corr Mask Zero X : 0.599517
Gradient Based Corr Mask Full X : 0.599517
Tone Curve : 0, 0, 255, 255
Tone Curve PV2012 Blue : 0, 0, 255, 255
Image Width : 308
Image Height : 308
Bits Per Sample : 8
Color Components : 1
Aperture : 4.0
Image Size : 308x308
Megapixels : 0.095
Scale Factor To 35 mm Equivalent : 1.0
Shutter Speed : 1/60
Circle Of Confusion : 0.030 mm
Field Of View : 65.5 deg
Focal Length : 28.0 mm (35 mm equivalent: 28.0 mm)
Hyperfocal Distance : 6.52 m
Light Value : 7.2
Lens ID : 28.0mm f/1.7