Uber Exif Photo
Copyright Notice : FRANCE 2015
By-line : GEORGE KALAYDJIAN
Photometric Interpretation : RGB
Make : Leica Camera AG
Camera Model Name : LEICA M (Typ 240)
Orientation : Horizontal (normal)
Software : Adobe Photoshop CC 2014 (Macintosh)
Modify Date : 2015:09:18 20:47:33
Artist : GEORGE KALAYDJIAN
Copyright : FRANCE 2015
Exposure Time : 1/1000
F Number : 9.5
Exposure Program : Aperture-priority AE
ISO : 200
Date/Time Original : 2015:09:04 18:05:21
Create Date : 2015:09:04 18:05:21
Shutter Speed Value : 1/1000
Aperture Value : 9.5
Exposure Compensation : 0
Max Aperture Value : 2.8
Metering Mode : Multi-spot
Light Source : Unknown
Flash : No Flash
Focal Length : 28.0 mm
Color Space : Uncalibrated
Exif Image Width : 900
Exif Image Height : 1327
Scene Type : Directly photographed
Custom Rendered : Normal
Exposure Mode : Auto
White Balance : Auto
Digital Zoom Ratio : 0
Scene Capture Type : Standard
Contrast : Normal
Saturation : Normal
Sharpness : Normal
Serial Number : 4824753
Lens Info : 28mm f/2.8-22
Lens Make : Leica Camera AG
Lens Model : Elmarit-M 1:2.8/28 ASPH.
Lens Serial Number : -------
GPS Version ID : 2.2.0.0
GPS Altitude Ref : Above Sea Level
GPS Status : Measurement Void
GPS Dilution Of Precision : 0
GPS Speed : 0
GPS Track : 0
Profile Description : Adobe RGB (1998)
Sharpen Detail : 25
Blacks 2012 : -46
Luminance Adjustment Orange : 0
Hue Adjustment Yellow : 0
Saturation Adjustment Blue : 0
Parametric Highlight Split : 75
Lens Profile Enable : 1
Lens Profile Distortion Scale : 100
Post Crop Vignette Midpoint : 50
Split Toning Shadow Saturation : 0
Convert To Grayscale : False
Contrast 2012 : +24
Highlights 2012 : -100
Post Crop Vignette Highlight Contrast : 0
Split Toning Highlight Hue : 0
Saturation Adjustment Aqua : 0
Perspective Scale : 100
Luminance Noise Reduction Contrast : 0
Perspective Vertical : 0
Post Crop Vignette Feather : 50
Parametric Shadow Split : 25
Luminance Adjustment Green : 0
Perspective Rotate : 0.0
Split Toning Shadow Hue : 0
Luminance Adjustment Yellow : 0
Shadows 2012 : +100
Lens Profile Setup : LensDefaults
Whites 2012 : +39
Perspective Horizontal : 0
Lens Profile Filename : Leica Camera AG (Leica ELMARIT-M 28 mm f2.8 ASPH.) - RAW.lcp
Camera Profile : Adobe Standard
Saturation Adjustment Yellow : 0
Parametric Midtone Split : 50
Luminance Noise Reduction Detail : 50
Parametric Highlights : 0
Defringe Green Amount : 0
Parametric Darks : 0
Sharpen Radius : +1.0
Vibrance : 0
Lens Profile Vignetting Scale : 100
Shadow Tint : 0
Has Crop : False
Luminance Smoothing : 17
Tone Curve Name 2012 : Linear
Split Toning Highlight Saturation : 0
Defringe Purple Hue Hi : 70
Saturation Adjustment Orange : 0
Sharpen Edge Masking : 0
Color Temperature : 4950
Blue Saturation : 0
Hue Adjustment Green : 0
Vignette Amount : 0
Post Crop Vignette Roundness : 0
Red Saturation : 0
Parametric Lights : 0
Red Hue : 0
Split Toning Balance : 0
Hue Adjustment Purple : 0
Exposure 2012 : -1.15
Tone Curve Name : Linear
Color Noise Reduction Smoothness : 50
Color Noise Reduction Detail : 50
Saturation Adjustment Green : 0
Post Crop Vignette Style : Highlight Priority
Hue Adjustment Blue : 0
Luminance Adjustment Purple : 0
Perspective Aspect : 0
Perspective Upright : Off
Parametric Shadows : 0
Post Crop Vignette Amount : -6
Blue Hue : 0
Clarity 2012 : +21
Grain Amount : 0
Auto Lateral CA : 1
Hue Adjustment Aqua : 0
Process Version : 6.7
Tint : -3
Already Applied : True
Auto White Version : 134348800
Lens Profile Name : Adobe (Leica ELMARIT-M 28 mm f/2.8 ASPH.)
Luminance Adjustment Blue : 0
Lens Profile Chromatic Aberration Scale : 100
Luminance Adjustment Red : 0
Color Noise Reduction : 25
Green Hue : 0
Hue Adjustment Magenta : 0
Has Settings : True
Saturation Adjustment Red : 0
Hue Adjustment Red : 0
Hue Adjustment Orange : 0
Lens Manual Distortion Amount : 0
Green Saturation : 0
Defringe Purple Hue Lo : 30
Defringe Green Hue Hi : 60
Saturation Adjustment Purple : 0
Saturation Adjustment Magenta : 0
Luminance Adjustment Aqua : 0
Version : 8.7
Defringe Green Hue Lo : 40
Defringe Purple Amount : 0
Luminance Adjustment Magenta : 0
Creator Tool : Adobe Photoshop CC 2014 (Macintosh)
ICC Profile Name : Adobe RGB (1998)
Date Created : 2015:09:04 18:05:21
Color Mode : RGB
Lens : Elmarit-M 1:2.8/28 ASPH.
Format : image/jpeg
Tone Curve Blue : 0, 0, 255, 255
Tone Curve Green : 0, 0, 255, 255
Paint Correction Defringe : 0.000000
Paint Correction Highlights 2012 : 0.000000
Paint Correction Clarity 2012 : -1.000000
Paint Correction Temperature : 0.000000
Paint Correction Saturation : 0.000000
Paint Correction What : Correction
Paint Correction Tint : 0.000000
Paint Correction Brightness : 0.000000
Paint Correction Shadows 2012 : 0.000000
Paint Correction Sharpness : 0.250000
Paint Correction Toning Saturation : 0.000000
Paint Correction Amount : 1.000000
Paint Correction Toning Hue : 240.000000
Paint Correction Active : true
Paint Correction Contrast 2012 : 0.000000
Paint Correction Luminance Noise : 0.000000
Paint Correction Exposure 2012 : -0.099192
Paint Correction Moire : 0.000000
Paint Correction Mask What : Mask/Paint
Paint Correction Mask Radius : 0.134646
Paint Correction Mask Value : 0.278202
Paint Correction Mask Flow : 1.000000
Paint Correction Mask Center Weight : 0.000000
Tone Curve PV2012 Red : 0, 0, 255, 255
Tone Curve PV2012 : 0, 0, 255, 255
Tone Curve : 0, 0, 255, 255
Gradient Based Corr Defringe : 0.000000
Gradient Based Corr Highlights 2012 : 0.000000
Gradient Based Corr Clarity 2012 : -1.000000
Gradient Based Corr Temperature : 0.000000
Gradient Based Corr Saturation : 0.000000
Gradient Based Corr What : Correction
Gradient Based Corr Tint : 0.000000
Gradient Based Corr Brightness : 0.000000
Gradient Based Corr Shadows 2012 : 0.000000
Gradient Based Corr Sharpness : 0.250000
Gradient Based Corr Toning Saturation : 0.000000
Gradient Based Corr Amount : 1.000000
Gradient Based Corr Toning Hue : 240.000000
Gradient Based Corr Active : true
Gradient Based Corr Contrast 2012 : 0.000000
Gradient Based Corr Luminance Noise : 0.000000
Gradient Based Corr Exposure 2012 : -0.128423
Gradient Based Corr Moire : 0.000000
Gradient Based Corr Mask Full Y : 0.005356
Gradient Based Corr Mask What : Mask/Gradient
Gradient Based Corr Mask Zero Y : 0.365229
Gradient Based Corr Mask Value : 1.000000
Gradient Based Corr Mask Zero X : 0.584749
Gradient Based Corr Mask Full X : 0.622061
Tone Curve Red : 0, 0, 255, 255
Tone Curve PV2012 Green : 0, 0, 255, 255
Tone Curve PV2012 Blue : 0, 0, 255, 255
Creator : GEORGE KALAYDJIAN
Rights : FRANCE 2015
Image Width : 263
Image Height : 384
Bits Per Sample : 8
Color Components : 3
Aperture : 9.5
Image Size : 263x384
Megapixels : 0.101
Scale Factor To 35 mm Equivalent : 4.5
Shutter Speed : 1/1000
GPS Altitude : 0 m Above Sea Level
Circle Of Confusion : 0.007 mm
Field Of View : 16.4 deg
Focal Length : 28.0 mm (35 mm equivalent: 124.9 mm)
Hyperfocal Distance : 12.25 m
Light Value : 15.5