Uber Exif Photo
By-line : Kack Cheung
Copyright Notice : All right reserv~
Make : Leica Camera AG
Camera Model Name : LEICA M (Typ 240)
Software : Adobe Photoshop Lightroom 5.7 (Macintosh)
Modify Date : 2015:11:17 07:04:04
Artist : Kack Cheung
Copyright : All right reserv~
Exposure Time : 1/2000
F Number : 1.7
Exposure Program : Aperture-priority AE
ISO : 200
Date/Time Original : 2014:10:04 17:34:03
Create Date : 2014:10:04 17:34:03
Shutter Speed Value : 1/2000
Aperture Value : 1.7
Exposure Compensation : 0
Max Aperture Value : 1.4
Metering Mode : Center-weighted average
Light Source : Unknown
Flash : No Flash
Focal Length : 24.0 mm
Scene Type : Directly photographed
Custom Rendered : Normal
Exposure Mode : Auto
White Balance : Auto
Digital Zoom Ratio : 0
Scene Capture Type : Standard
Contrast : Normal
Saturation : Normal
Sharpness : Normal
Serial Number : 4786435
Lens Info : 24mm f/1-16
Lens Make : Leica Camera AG
Lens Model : Summilux-M 1:1.4/24 ASPH.
Lens Serial Number : -------
Profile Description : sRGB IEC61966-2.1
Format : image/jpeg
Creator Tool : Adobe Photoshop Lightroom 5.7 (Macintosh)
Lens : Summilux-M 1:1.4/24 ASPH.
Date Created : 2014:10:04 17:34:03
Version : 8.7
Process Version : 6.7
Auto White Version : 134348800
Color Temperature : 5156
Tint : -10
Luminance Smoothing : 0
Color Noise Reduction : 25
Vignette Amount : +9
Vignette Midpoint : 60
Shadow Tint : 0
Red Hue : 0
Red Saturation : -11
Green Hue : 0
Green Saturation : +36
Blue Hue : 0
Blue Saturation : +32
Vibrance : +8
Hue Adjustment Red : 0
Hue Adjustment Orange : 0
Hue Adjustment Yellow : 0
Hue Adjustment Green : 0
Hue Adjustment Aqua : 0
Hue Adjustment Blue : 0
Hue Adjustment Purple : 0
Hue Adjustment Magenta : 0
Saturation Adjustment Red : -2
Saturation Adjustment Orange : -19
Saturation Adjustment Yellow : -4
Saturation Adjustment Green : 0
Saturation Adjustment Aqua : 0
Saturation Adjustment Blue : -73
Saturation Adjustment Purple : 0
Saturation Adjustment Magenta : 0
Luminance Adjustment Red : -8
Luminance Adjustment Orange : +39
Luminance Adjustment Yellow : -22
Luminance Adjustment Green : -3
Luminance Adjustment Aqua : +48
Luminance Adjustment Blue : -100
Luminance Adjustment Purple : 0
Luminance Adjustment Magenta : 0
Split Toning Shadow Hue : 0
Split Toning Shadow Saturation : 0
Split Toning Highlight Hue : 0
Split Toning Highlight Saturation : 0
Split Toning Balance : 0
Parametric Shadows : +12
Parametric Darks : +27
Parametric Lights : +8
Parametric Highlights : +23
Parametric Shadow Split : 25
Parametric Midtone Split : 50
Parametric Highlight Split : 75
Sharpen Radius : +1.0
Sharpen Detail : 25
Sharpen Edge Masking : 0
Post Crop Vignette Amount : 0
Grain Amount : 0
Color Noise Reduction Detail : 50
Color Noise Reduction Smoothness : 50
Lens Profile Enable : 0
Lens Manual Distortion Amount : 0
Perspective Vertical : 0
Perspective Horizontal : 0
Perspective Rotate : 0.0
Perspective Scale : 100
Perspective Aspect : 0
Perspective Upright : Off
Auto Lateral CA : 0
Exposure 2012 : +1.15
Contrast 2012 : +12
Highlights 2012 : -69
Shadows 2012 : +25
Whites 2012 : +3
Blacks 2012 : -40
Clarity 2012 : +28
Defringe Purple Amount : 0
Defringe Purple Hue Lo : 30
Defringe Purple Hue Hi : 70
Defringe Green Amount : 0
Defringe Green Hue Lo : 40
Defringe Green Hue Hi : 60
Convert To Grayscale : False
Tone Curve Name : Linear
Tone Curve Name 2012 : Linear
Camera Profile : Adobe Standard
Lens Profile Setup : LensDefaults
Has Settings : True
Crop Top : 0.106061
Crop Left : 0.029367
Crop Bottom : 0.893939
Crop Right : 0.970633
Crop Angle : -4.53151
Crop Constrain To Warp : 0
Has Crop : True
Already Applied : True
Creator : Kack Cheung
Rights : All right reserv~
Tone Curve : 0, 0, 255, 255
Tone Curve Red : 0, 0, 255, 255
Tone Curve Green : 0, 0, 255, 255
Tone Curve Blue : 0, 0, 255, 255
Tone Curve PV2012 : 0, 0, 255, 255
Tone Curve PV2012 Red : 0, 0, 255, 255
Tone Curve PV2012 Green : 0, 0, 255, 255
Tone Curve PV2012 Blue : 0, 0, 255, 255
Image Width : 255
Image Height : 170
Bits Per Sample : 8
Color Components : 3
Aperture : 1.7
Image Size : 255x170
Megapixels : 0.043
Scale Factor To 35 mm Equivalent : 23.3
Shutter Speed : 1/2000
Circle Of Confusion : 0.001 mm
Field Of View : 3.7 deg
Focal Length : 24.0 mm (35 mm equivalent: 560.2 mm)
Hyperfocal Distance : 263.21 m
Light Value : 11.5
Lens ID : Summilux-M 1:1.4/24 ASPH.