Uber Exif Photo
Make : Leica Camera AG
Camera Model Name : LEICA M (Typ 240)
Software : Adobe Photoshop Lightroom 5.7 (Macintosh)
Modify Date : 2015:09:20 07:10:33
Exposure Time : 1/90
F Number : 1.4
Exposure Program : Aperture-priority AE
ISO : 200
Date/Time Original : 2015:09:19 19:23:49
Create Date : 2015:09:19 19:23:49
Shutter Speed Value : 1/90
Aperture Value : 1.4
Exposure Compensation : 0
Max Aperture Value : 1.4
Metering Mode : Center-weighted average
Light Source : Unknown
Flash : No Flash
Focal Length : 35.0 mm
Color Space : sRGB
Scene Type : Directly photographed
Custom Rendered : Normal
Exposure Mode : Auto
White Balance : Auto
Digital Zoom Ratio : 0
Scene Capture Type : Standard
Contrast : Normal
Saturation : Normal
Sharpness : Normal
Serial Number : 4786435
Lens Info : 35mm f/1.4-16
Lens Make : Leica Camera AG
Lens Model : Summilux-M 1:1.4/35 ASPH.
Lens Serial Number : -------
Profile Description : sRGB IEC61966-2.1
Creator Tool : Adobe Photoshop Lightroom 5.7 (Macintosh)
Lens : Summilux-M 1:1.4/35 ASPH.
Date Created : 2015:09:19 19:23:49
Format : image/jpeg
Version : 8.7
Process Version : 6.7
Auto White Version : 134348800
Color Temperature : 2459
Tint : -6
Luminance Smoothing : 0
Color Noise Reduction : 25
Vignette Amount : +20
Vignette Midpoint : 50
Shadow Tint : 0
Red Hue : 0
Red Saturation : -19
Green Hue : 0
Green Saturation : +8
Blue Hue : 0
Blue Saturation : +29
Vibrance : 0
Hue Adjustment Red : 0
Hue Adjustment Orange : 0
Hue Adjustment Yellow : 0
Hue Adjustment Green : 0
Hue Adjustment Aqua : 0
Hue Adjustment Blue : 0
Hue Adjustment Purple : 0
Hue Adjustment Magenta : 0
Saturation Adjustment Red : 0
Saturation Adjustment Orange : +24
Saturation Adjustment Yellow : +22
Saturation Adjustment Green : 0
Saturation Adjustment Aqua : 0
Saturation Adjustment Blue : 0
Saturation Adjustment Purple : 0
Saturation Adjustment Magenta : 0
Luminance Adjustment Red : 0
Luminance Adjustment Orange : +40
Luminance Adjustment Yellow : +7
Luminance Adjustment Green : 0
Luminance Adjustment Aqua : 0
Luminance Adjustment Blue : -54
Luminance Adjustment Purple : 0
Luminance Adjustment Magenta : 0
Split Toning Shadow Hue : 0
Split Toning Shadow Saturation : 0
Split Toning Highlight Hue : 0
Split Toning Highlight Saturation : 0
Split Toning Balance : 0
Parametric Shadows : -19
Parametric Darks : +35
Parametric Lights : -59
Parametric Highlights : +20
Parametric Shadow Split : 25
Parametric Midtone Split : 50
Parametric Highlight Split : 75
Sharpen Radius : +1.0
Sharpen Detail : 25
Sharpen Edge Masking : 0
Post Crop Vignette Amount : 0
Grain Amount : 0
Color Noise Reduction Detail : 50
Color Noise Reduction Smoothness : 50
Lens Profile Enable : 0
Lens Manual Distortion Amount : 0
Perspective Vertical : 0
Perspective Horizontal : 0
Perspective Rotate : 0.0
Perspective Scale : 100
Perspective Aspect : 0
Perspective Upright : Off
Auto Lateral CA : 0
Exposure 2012 : +0.75
Contrast 2012 : +20
Highlights 2012 : -51
Shadows 2012 : +84
Whites 2012 : -14
Blacks 2012 : -33
Clarity 2012 : +70
Defringe Purple Amount : 0
Defringe Purple Hue Lo : 30
Defringe Purple Hue Hi : 70
Defringe Green Amount : 0
Defringe Green Hue Lo : 40
Defringe Green Hue Hi : 60
Convert To Grayscale : False
Tone Curve Name : Linear
Tone Curve Name 2012 : Linear
Camera Profile : Adobe Standard
Lens Profile Setup : LensDefaults
Has Settings : True
Crop Top : 0.175636
Crop Left : 0.056291
Crop Bottom : 0.855345
Crop Right : 0.877127
Crop Angle : 0.711182
Crop Constrain To Warp : 0
Has Crop : True
Already Applied : True
Tone Curve : 0, 0, 255, 255
Tone Curve Red : 0, 0, 255, 255
Tone Curve Green : 0, 0, 255, 255
Tone Curve Blue : 0, 0, 255, 255
Tone Curve PV2012 : 0, 0, 255, 255
Tone Curve PV2012 Red : 0, 0, 255, 255
Tone Curve PV2012 Green : 0, 0, 255, 255
Tone Curve PV2012 Blue : 0, 0, 255, 255
Image Width : 255
Image Height : 137
Bits Per Sample : 8
Color Components : 3
Aperture : 1.4
Image Size : 255x137
Megapixels : 0.035
Scale Factor To 35 mm Equivalent : 24.7
Shutter Speed : 1/90
Circle Of Confusion : 0.001 mm
Field Of View : 2.4 deg
Focal Length : 35.0 mm (35 mm equivalent: 864.9 mm)
Hyperfocal Distance : 719.66 m
Light Value : 6.5
Lens ID : Summilux-M 1:1.4/35 ASPH.