Uber Exif Photo
Date Created : 2015:07:29
Photometric Interpretation : RGB
Make : Leica Camera AG
Camera Model Name : LEICA M (Typ 240)
Orientation : Horizontal (normal)
Samples Per Pixel : 3
Software : Adobe Photoshop CS5 Windows
Modify Date : 2015:07:30 16:41:01
Exposure Time : 1/125
F Number : 11.0
Exposure Program : Aperture-priority AE
ISO : 200
Date/Time Original : 2015:07:29 13:14:23
Create Date : 2015:07:29 13:14:23
Shutter Speed Value : 1/125
Aperture Value : 11.0
Exposure Compensation : 0
Max Aperture Value : 3.8
Metering Mode : Multi-spot
Light Source : Unknown
Focal Length : 18.0 mm
Color Space : sRGB
Exif Image Width : 800
Exif Image Height : 533
Scene Type : Directly photographed
Custom Rendered : Normal
Exposure Mode : Auto
White Balance : Auto
Digital Zoom Ratio : 0
Scene Capture Type : Standard
Contrast : Normal
Saturation : Normal
Sharpness : Hard
Serial Number : 4444694
Lens Info : 18mm f/3.8-16
Lens Make : Leica Camera AG
Lens Model : Super-Elmar-M 1:3.8/18 ASPH.
Lens Serial Number : -------
GPS Version ID : 2.2.0.0
GPS Altitude Ref : Above Sea Level
GPS Time Stamp : 00:00:00
GPS Status : Measurement Void
GPS Dilution Of Precision : 0
GPS Speed : 0
GPS Track : 0
GPS Date Stamp : 2000:00:00
Lens : Super-Elmar-M 1:3.8/18 ASPH.
Format : image/jpeg
Flash Fired : False
Flash Function : False
Flash Mode : Unknown
Flash Red Eye Mode : False
Flash Return : No return detection
Color Mode : RGB
ICC Profile Name : sRGB IEC61966-2.1
Creator Tool : Adobe Photoshop Camera Raw 6.7.1 (Windows)
Already Applied : True
Auto Lateral CA : 0
Blacks 2012 : 0
Blue Hue : 0
Blue Saturation : 0
Brightness : +50
Camera Profile : Embedded
Clarity : +16
Clarity 2012 : 0
Color Noise Reduction : 25
Color Noise Reduction Detail : 50
Contrast 2012 : 0
Convert To Grayscale : False
Defringe : 0
Exposure : 0.00
Exposure 2012 : 0.00
Fill Light : 0
Grain Amount : 0
Green Hue : 0
Green Saturation : 0
Has Crop : False
Has Settings : True
Highlight Recovery : 0
Highlights 2012 : 0
Hue Adjustment Aqua : 0
Hue Adjustment Blue : 0
Hue Adjustment Green : 0
Hue Adjustment Magenta : 0
Hue Adjustment Orange : 0
Hue Adjustment Purple : 0
Hue Adjustment Red : 0
Hue Adjustment Yellow : 0
Lens Manual Distortion Amount : 0
Lens Profile Enable : 0
Lens Profile Setup : LensDefaults
Luminance Adjustment Aqua : 0
Luminance Adjustment Blue : 0
Luminance Adjustment Green : 0
Luminance Adjustment Magenta : 0
Luminance Adjustment Orange : 0
Luminance Adjustment Purple : 0
Luminance Adjustment Red : 0
Luminance Adjustment Yellow : 0
Luminance Smoothing : 0
Parametric Darks : 0
Parametric Highlight Split : 75
Parametric Highlights : 0
Parametric Lights : 0
Parametric Midtone Split : 50
Parametric Shadow Split : 25
Parametric Shadows : 0
Perspective Horizontal : 0
Perspective Rotate : 0.0
Perspective Scale : 100
Perspective Vertical : 0
Post Crop Vignette Amount : 0
Process Version : 5.7
Raw File Name : L1000049.DNG
Red Hue : 0
Red Saturation : 0
Saturation Adjustment Aqua : 0
Saturation Adjustment Blue : 0
Saturation Adjustment Green : 0
Saturation Adjustment Magenta : 0
Saturation Adjustment Orange : 0
Saturation Adjustment Purple : 0
Saturation Adjustment Red : 0
Saturation Adjustment Yellow : 0
Shadow Tint : 0
Shadows : 5
Shadows 2012 : 0
Sharpen Detail : 25
Sharpen Edge Masking : 0
Sharpen Radius : +1.0
Split Toning Balance : 0
Split Toning Highlight Hue : 0
Split Toning Highlight Saturation : 0
Split Toning Shadow Hue : 0
Split Toning Shadow Saturation : 0
Tint : +12
Tone Curve : 0, 0, 32, 22, 64, 56, 128, 128, 192, 196, 255, 255
Tone Curve Blue : 0, 0, 255, 255
Tone Curve Green : 0, 0, 255, 255
Tone Curve Name : Medium Contrast
Tone Curve Name 2012 : Linear
Tone Curve PV2012 : 0, 0, 255, 255
Tone Curve PV2012 Blue : 0, 0, 255, 255
Tone Curve PV2012 Green : 0, 0, 255, 255
Tone Curve PV2012 Red : 0, 0, 255, 255
Tone Curve Red : 0, 0, 255, 255
Version : 6.7.1
Vibrance : +8
Vignette Amount : 0
Whites 2012 : 0
Image Width : 255
Image Height : 170
Bits Per Sample : 8
Color Components : 1
Aperture : 11.0
Image Size : 255x170
Megapixels : 0.043
Shutter Speed : 1/125
GPS Altitude : 0 m Above Sea Level
GPS Date/Time : 2000:00:00 00:00:00Z
Flash : No Flash
Light Value : 12.9