Uber Exif Photo
Make : Leica Camera AG
Camera Model Name : LEICA M MONOCHROM (Typ 246)
Orientation : Horizontal (normal)
Software : Adobe Photoshop Lightroom 5.6 (Macintosh)
Modify Date : 2015:07:30 10:07:19
Exposure Time : 1/4000
F Number : 6.8
Exposure Program : Aperture-priority AE
ISO : 320
Date/Time Original : 2015:07:30 09:27:34
Create Date : 2015:07:30 09:27:34
Shutter Speed Value : 1/4000
Aperture Value : 6.8
Exposure Compensation : 0
Max Aperture Value : 1.4
Metering Mode : Center-weighted average
Light Source : Unknown
Flash : No Flash
Focal Length : 50.0 mm
Color Space : sRGB
Exif Image Width : 3600
Exif Image Height : 2400
Scene Type : Directly photographed
Custom Rendered : Normal
Exposure Mode : Auto
Digital Zoom Ratio : 0
Scene Capture Type : Standard
Contrast : Normal
Sharpness : Normal
Lens Info : 50mm f/1.4-16
Lens Make : Leica Camera AG
Lens Model : Summilux-M 1:1.4/50 ASPH.
Lens Serial Number : -------
GPS Version ID : 2.2.0.0
GPS Altitude Ref : Above Sea Level
GPS Status : Measurement Void
GPS Dilution Of Precision : 0
GPS Speed : 0
GPS Track : 0
Highlights 2012 : 0
Defringe Purple Hue Lo : 30
Exposure 2012 : 0.00
Grain Amount : 0
Lens Manual Distortion Amount : 0
Hue Adjustment Purple : 0
Green Hue : 0
Luminance Adjustment Aqua : 0
Whites 2012 : 0
Parametric Highlight Split : 75
Version : 8.6
Lens Profile Enable : 0
Parametric Shadow Split : 25
Contrast 2012 : 0
Saturation Adjustment Yellow : 0
Perspective Vertical : 0
Sharpen Edge Masking : 0
Luminance Adjustment Yellow : 0
Defringe Green Hue Hi : 60
Red Saturation : 0
Perspective Rotate : 0.0
Tone Curve Name : Linear
Incremental Temperature : 0
Saturation Adjustment Aqua : 0
Parametric Shadows : 0
Vibrance : 0
Split Toning Shadow Hue : 0
Hue Adjustment Green : 0
Luminance Adjustment Green : 0
Hue Adjustment Yellow : 0
Perspective Aspect : 0
Parametric Highlights : 0
Luminance Adjustment Orange : 0
Saturation Adjustment Green : 0
Saturation Adjustment Orange : 0
Luminance Adjustment Purple : 0
Already Applied : True
Defringe Green Amount : 0
Shadows 2012 : 0
Process Version : 6.7
Luminance Adjustment Blue : 0
Has Settings : True
Clarity 2012 : +96
Hue Adjustment Orange : 0
Luminance Adjustment Magenta : 0
Lens Profile Setup : LensDefaults
Shadow Tint : 0
Hue Adjustment Blue : 0
Post Crop Vignette Amount : 0
Defringe Purple Hue Hi : 70
Split Toning Highlight Hue : 0
White Balance : As Shot
Perspective Upright : Off
Has Crop : False
Blue Hue : 0
Split Toning Shadow Saturation : 0
Perspective Scale : 100
Split Toning Highlight Saturation : 0
Parametric Lights : 0
Convert To Grayscale : False
Saturation Adjustment Magenta : 0
Blacks 2012 : 0
Auto White Version : 134348800
Defringe Green Hue Lo : 40
Luminance Smoothing : 0
Perspective Horizontal : 0
Saturation Adjustment Blue : 0
Incremental Tint : 0
Tone Curve Name 2012 : Linear
Green Saturation : 0
Saturation Adjustment Purple : 0
Blue Saturation : 0
Saturation : 0
Camera Profile : Embedded
Parametric Midtone Split : 50
Red Hue : 0
Parametric Darks : 0
Defringe Purple Amount : 0
Sharpen Detail : 25
Saturation Adjustment Red : 0
Hue Adjustment Red : 0
Luminance Adjustment Red : 0
Auto Lateral CA : 0
Hue Adjustment Aqua : 0
Split Toning Balance : 0
Sharpen Radius : +1.0
Vignette Amount : 0
Hue Adjustment Magenta : 0
Color Noise Reduction : 0
Lens : Summilux-M 1:1.4/50 ASPH.
Creator Tool : Adobe Photoshop Lightroom 5.6 (Macintosh)
Format : image/jpeg
Date Created : 2015:07:30 09:27:34
Tone Curve Blue : 0, 0, 255, 255
Tone Curve PV2012 Red : 0, 0, 255, 255
Tone Curve : 0, 0, 255, 255
Tone Curve PV2012 Green : 0, 0, 255, 255
Tone Curve Green : 0, 0, 255, 255
Tone Curve Red : 0, 0, 255, 255
Tone Curve PV2012 Blue : 0, 0, 255, 255
Tone Curve PV2012 : 0, 0, 255, 255
Image Width : 255
Image Height : 170
Bits Per Sample : 8
Color Components : 1
Aperture : 6.8
Image Size : 255x170
Megapixels : 0.043
Shutter Speed : 1/4000
GPS Altitude : 0 m Above Sea Level
Light Value : 15.8
Lens ID : Summilux-M 1:1.4/50 ASPH.