Uber Exif Photo
Make : Leica Camera AG
Camera Model Name : LEICA M (Typ 240)
Software : Adobe Photoshop Lightroom 5.6 (Macintosh)
Modify Date : 2015:06:19 15:46:15
Exposure Time : 1/125
F Number : 4.8
Exposure Program : Manual
ISO : 3200
Date/Time Original : 2008:04:10 04:59:38
Create Date : 2008:04:10 04:59:38
Shutter Speed Value : 1/125
Aperture Value : 4.8
Exposure Compensation : 0
Max Aperture Value : 2.0
Metering Mode : Center-weighted average
Light Source : Unknown
Flash : No Flash
Focal Length : 50.0 mm
Color Space : sRGB
Scene Type : Directly photographed
Custom Rendered : Normal
Exposure Mode : Manual
White Balance : Auto
Digital Zoom Ratio : 0
Scene Capture Type : Standard
Contrast : Low
Saturation : Normal
Sharpness : Normal
Serial Number : 4827280
Lens Model : Summicron-M 1:2/50
GPS Version ID : 2.2.0.0
GPS Altitude Ref : Above Sea Level
GPS Status : Measurement Void
GPS Dilution Of Precision : 0
GPS Speed : 0
GPS Track : 0
Profile Description : sRGB IEC61966-2.1
Creator Tool : Adobe Photoshop Lightroom 5.6 (Macintosh)
Lens : Summicron-M 1:2/50
Date Created : 2008:04:10 04:59:38
Format : image/jpeg
Version : 8.6
Process Version : 6.7
Auto White Version : 134348800
Color Temperature : 5500
Tint : +10
Luminance Smoothing : 0
Color Noise Reduction : 25
Vignette Amount : 0
Shadow Tint : 0
Red Hue : 0
Red Saturation : 0
Green Hue : 0
Green Saturation : 0
Blue Hue : 0
Blue Saturation : 0
Vibrance : 0
Hue Adjustment Red : 0
Hue Adjustment Orange : 0
Hue Adjustment Yellow : 0
Hue Adjustment Green : 0
Hue Adjustment Aqua : 0
Hue Adjustment Blue : 0
Hue Adjustment Purple : 0
Hue Adjustment Magenta : 0
Saturation Adjustment Red : 0
Saturation Adjustment Orange : 0
Saturation Adjustment Yellow : 0
Saturation Adjustment Green : 0
Saturation Adjustment Aqua : 0
Saturation Adjustment Blue : 0
Saturation Adjustment Purple : 0
Saturation Adjustment Magenta : 0
Luminance Adjustment Red : 0
Luminance Adjustment Orange : 0
Luminance Adjustment Yellow : 0
Luminance Adjustment Green : 0
Luminance Adjustment Aqua : 0
Luminance Adjustment Blue : 0
Luminance Adjustment Purple : 0
Luminance Adjustment Magenta : 0
Split Toning Shadow Hue : 0
Split Toning Shadow Saturation : 0
Split Toning Highlight Hue : 0
Split Toning Highlight Saturation : 0
Split Toning Balance : 0
Parametric Shadows : 0
Parametric Darks : 0
Parametric Lights : 0
Parametric Highlights : 0
Parametric Shadow Split : 25
Parametric Midtone Split : 50
Parametric Highlight Split : 75
Sharpen Radius : +1.0
Sharpen Detail : 25
Sharpen Edge Masking : 0
Post Crop Vignette Amount : -10
Post Crop Vignette Midpoint : 50
Post Crop Vignette Feather : 50
Post Crop Vignette Roundness : 0
Post Crop Vignette Style : Highlight Priority
Post Crop Vignette Highlight Contrast : 0
Grain Amount : 0
Color Noise Reduction Detail : 50
Color Noise Reduction Smoothness : 50
Lens Profile Enable : 0
Lens Manual Distortion Amount : 0
Perspective Vertical : 0
Perspective Horizontal : 0
Perspective Rotate : 0.0
Perspective Scale : 100
Perspective Aspect : 0
Perspective Upright : Off
Auto Lateral CA : 0
Exposure 2012 : -0.25
Contrast 2012 : 0
Highlights 2012 : 0
Shadows 2012 : 0
Whites 2012 : 0
Blacks 2012 : -18
Clarity 2012 : 0
Defringe Purple Amount : 0
Defringe Purple Hue Lo : 30
Defringe Purple Hue Hi : 70
Defringe Green Amount : 0
Defringe Green Hue Lo : 40
Defringe Green Hue Hi : 60
Convert To Grayscale : False
Tone Curve Name : Linear
Tone Curve Name 2012 : Linear
Camera Profile : Adobe Standard
Lens Profile Setup : LensDefaults
Has Settings : True
Has Crop : False
Already Applied : True
Tone Curve : 0, 0, 255, 255
Tone Curve Red : 0, 0, 255, 255
Tone Curve Green : 0, 0, 255, 255
Tone Curve Blue : 0, 0, 255, 255
Tone Curve PV2012 : 0, 0, 255, 255
Tone Curve PV2012 Red : 0, 0, 255, 255
Tone Curve PV2012 Green : 0, 0, 255, 255
Tone Curve PV2012 Blue : 0, 0, 255, 255
Image Width : 263
Image Height : 178
Bits Per Sample : 8
Color Components : 3
Aperture : 4.8
Image Size : 263x178
Megapixels : 0.047
Scale Factor To 35 mm Equivalent : 22.5
Shutter Speed : 1/125
GPS Altitude : 0 m Above Sea Level
Circle Of Confusion : 0.001 mm
Field Of View : 1.8 deg
Focal Length : 50.0 mm (35 mm equivalent: 1126.3 mm)
Hyperfocal Distance : 390.46 m
Light Value : 6.5
Lens ID : Summicron-M 1:2/50