Uber Exif Photo
Photometric Interpretation : RGB
Make : LEICA CAMERA AG
Camera Model Name : LEICA X2
Orientation : Horizontal (normal)
Planar Configuration : Chunky
Software : Adobe Photoshop CS5 Macintosh
Modify Date : 2014:08:21 09:04:00
Exposure Time : 1/320
F Number : 11.0
Exposure Program : Aperture-priority AE
ISO : 100
Date/Time Original : 2014:08:16 12:32:34
Create Date : 2014:08:16 12:32:34
Shutter Speed Value : 1/320
Aperture Value : 11.0
Exposure Compensation : 0
Max Aperture Value : 2.8
Metering Mode : Multi-segment
Light Source : Unknown
Flash : Off, Did not fire
Focal Length : 24.0 mm
Color Space : sRGB
Exif Image Width : 3000
Exif Image Height : 1987
Sensing Method : One-chip color area
Custom Rendered : Normal
White Balance : Auto
Digital Zoom Ratio : 1
Focal Length In 35mm Format : 36 mm
Scene Capture Type : Landscape
Contrast : Normal
Saturation : Normal
Sharpness : Normal
Profile Description : sRGB IEC61966-2.1
Creator Tool : Adobe Photoshop CS5 Macintosh
Rating : 3
Approximate Focus Distance : 4294967295
Date Created : 2014:08:16 12:32:34
Color Mode : RGB
ICC Profile Name : sRGB IEC61966-2.1
Format : image/jpeg
Version : 8.6
Process Version : 6.7
Auto White Version : 134348800
Incremental Temperature : 0
Incremental Tint : 0
Luminance Smoothing : 0
Color Noise Reduction : 0
Vignette Amount : 0
Shadow Tint : -4
Red Hue : +25
Red Saturation : +40
Green Hue : +35
Green Saturation : +5
Blue Hue : -20
Blue Saturation : -5
Vibrance : 0
Hue Adjustment Red : +5
Hue Adjustment Orange : +5
Hue Adjustment Yellow : 0
Hue Adjustment Green : +10
Hue Adjustment Aqua : +10
Hue Adjustment Blue : 0
Hue Adjustment Purple : +20
Hue Adjustment Magenta : +30
Saturation Adjustment Red : -20
Saturation Adjustment Orange : -20
Saturation Adjustment Yellow : -20
Saturation Adjustment Green : -35
Saturation Adjustment Aqua : +5
Saturation Adjustment Blue : +15
Saturation Adjustment Purple : -45
Saturation Adjustment Magenta : -45
Luminance Adjustment Red : +5
Luminance Adjustment Orange : 0
Luminance Adjustment Yellow : +10
Luminance Adjustment Green : 0
Luminance Adjustment Aqua : -5
Luminance Adjustment Blue : -15
Luminance Adjustment Purple : -15
Luminance Adjustment Magenta : 0
Split Toning Shadow Hue : 0
Split Toning Shadow Saturation : 0
Split Toning Highlight Hue : 0
Split Toning Highlight Saturation : 0
Split Toning Balance : 0
Parametric Shadows : 0
Parametric Darks : 0
Parametric Lights : -10
Parametric Highlights : -40
Parametric Shadow Split : 20
Parametric Midtone Split : 50
Parametric Highlight Split : 75
Sharpen Radius : +1.0
Sharpen Detail : 25
Sharpen Edge Masking : 0
Post Crop Vignette Amount : 0
Grain Amount : 0
Lens Profile Enable : 0
Lens Manual Distortion Amount : 0
Perspective Vertical : 0
Perspective Horizontal : 0
Perspective Rotate : 0.0
Perspective Scale : 100
Perspective Aspect : 0
Perspective Upright : Off
Auto Lateral CA : 0
Exposure 2012 : +0.30
Contrast 2012 : +21
Highlights 2012 : -60
Shadows 2012 : +35
Whites 2012 : -30
Blacks 2012 : +25
Clarity 2012 : -5
Defringe Purple Amount : 0
Defringe Purple Hue Lo : 30
Defringe Purple Hue Hi : 70
Defringe Green Amount : 0
Defringe Green Hue Lo : 40
Defringe Green Hue Hi : 60
Convert To Grayscale : False
Tone Curve Name : Linear
Tone Curve Name 2012 : Custom
Camera Profile : Embedded
Lens Profile Setup : LensDefaults
Has Settings : True
Crop Top : 0.046229
Crop Left : 0.035997
Crop Bottom : 0.952181
Crop Right : 1
Crop Angle : -1.61764
Crop Constrain To Warp : 0
Has Crop : True
Already Applied : True
Tone Curve : 0, 0, 255, 255
Tone Curve Red : 0, 0, 255, 255
Tone Curve Green : 0, 0, 255, 255
Tone Curve Blue : 0, 0, 255, 255
Tone Curve PV2012 : 0, 3, 20, 16, 63, 60, 124, 128, 190, 195, 255, 245
Tone Curve PV2012 Red : 0, 0, 41, 7, 78, 46, 126, 122, 179, 203, 255, 255
Tone Curve PV2012 Green : 0, 0, 36, 7, 77, 45, 124, 122, 179, 202, 219, 230, 255, 255
Tone Curve PV2012 Blue : 0, 0, 37, 8, 78, 45, 122, 118, 181, 206, 222, 235, 255, 255
Image Width : 300
Image Height : 199
Bits Per Sample : 8
Color Components : 3
Aperture : 11.0
Image Size : 300x199
Megapixels : 0.060
Scale Factor To 35 mm Equivalent : 1.5
Shutter Speed : 1/320
Circle Of Confusion : 0.020 mm
Depth Of Field : inf (2.61 m - inf)
Field Of View : 53.1 deg
Focal Length : 24.0 mm (35 mm equivalent: 36.0 mm)
Hyperfocal Distance : 2.61 m
Light Value : 15.2