Uber Exif Photo
By-line : Andre Bogaert
Copyright Notice : BogaertPhoto
Photometric Interpretation : RGB
Make : Leica Camera AG
Camera Model Name : LEICA M (Typ 240)
Orientation : Horizontal (normal)
Planar Configuration : Chunky
Software : Adobe Photoshop CC (Windows)
Modify Date : 2014:06:06 15:17:15
Artist : Andre Bogaert
Copyright : BogaertPhoto
Exposure Time : 1/500
F Number : 6.8
Exposure Program : Aperture-priority AE
ISO : 5000
Date/Time Original : 2014:05:26 02:31:27
Create Date : 2014:05:26 02:31:27
Shutter Speed Value : 1/500
Aperture Value : 6.8
Exposure Compensation : 0
Max Aperture Value : 4.0
Metering Mode : Center-weighted average
Light Source : Unknown
Flash : No Flash
Focal Length : 16.0 mm
Color Space : sRGB
Exif Image Width : 1500
Exif Image Height : 844
Scene Type : Directly photographed
Custom Rendered : Normal
Exposure Mode : Auto
White Balance : Auto
Digital Zoom Ratio : 0
Scene Capture Type : Standard
Contrast : Normal
Saturation : Normal
Sharpness : Normal
Serial Number : 4801939
Lens Model : Tri-Elmar-M 1:4/16-18-21 ASPH.
Profile Description : sRGB IEC61966-2.1
Format : image/jpeg
Creator Tool : Adobe Photoshop CC (Windows)
Rating : 0
Lens : Tri-Elmar-M 1:4/16-18-21 ASPH.
Date Created : 2014:05:26 02:31:27
Color Mode : RGB
ICC Profile Name : sRGB IEC61966-2.1
Raw File Name : L1004806.DNG
Version : 8.3
Process Version : 6.7
Auto White Version : 134348800
Color Temperature : 4100
Tint : +13
Luminance Smoothing : 26
Color Noise Reduction : 25
Vignette Amount : 0
Shadow Tint : 0
Red Hue : 0
Red Saturation : 0
Green Hue : 0
Green Saturation : 0
Blue Hue : 0
Blue Saturation : 0
Vibrance : 0
Hue Adjustment Red : 0
Hue Adjustment Orange : 0
Hue Adjustment Yellow : 0
Hue Adjustment Green : 0
Hue Adjustment Aqua : 0
Hue Adjustment Blue : 0
Hue Adjustment Purple : 0
Hue Adjustment Magenta : 0
Saturation Adjustment Red : 0
Saturation Adjustment Orange : 0
Saturation Adjustment Yellow : 0
Saturation Adjustment Green : 0
Saturation Adjustment Aqua : 0
Saturation Adjustment Blue : 0
Saturation Adjustment Purple : 0
Saturation Adjustment Magenta : 0
Luminance Adjustment Red : 0
Luminance Adjustment Orange : 0
Luminance Adjustment Yellow : 0
Luminance Adjustment Green : 0
Luminance Adjustment Aqua : 0
Luminance Adjustment Blue : 0
Luminance Adjustment Purple : 0
Luminance Adjustment Magenta : 0
Split Toning Shadow Hue : 0
Split Toning Shadow Saturation : 0
Split Toning Highlight Hue : 0
Split Toning Highlight Saturation : 0
Split Toning Balance : 0
Parametric Shadows : 0
Parametric Darks : 0
Parametric Lights : 0
Parametric Highlights : 0
Parametric Shadow Split : 25
Parametric Midtone Split : 50
Parametric Highlight Split : 75
Sharpen Radius : +1.0
Sharpen Detail : 39
Sharpen Edge Masking : 35
Post Crop Vignette Amount : 0
Grain Amount : 0
Luminance Noise Reduction Detail : 50
Color Noise Reduction Detail : 50
Luminance Noise Reduction Contrast : 31
Color Noise Reduction Smoothness : 55
Lens Profile Enable : 0
Lens Manual Distortion Amount : 0
Perspective Vertical : 0
Perspective Horizontal : 0
Perspective Rotate : 0.0
Perspective Scale : 100
Perspective Aspect : 0
Perspective Upright : Off
Auto Lateral CA : 0
Exposure 2012 : 0.00
Contrast 2012 : +14
Highlights 2012 : -14
Shadows 2012 : 0
Whites 2012 : 0
Blacks 2012 : 0
Clarity 2012 : +18
Defringe Purple Amount : 0
Defringe Purple Hue Lo : 30
Defringe Purple Hue Hi : 70
Defringe Green Amount : 0
Defringe Green Hue Lo : 40
Defringe Green Hue Hi : 60
Convert To Grayscale : False
Tone Curve Name 2012 : Linear
Camera Profile : Adobe Standard
Lens Profile Setup : LensDefaults
Has Settings : True
Has Crop : False
Already Applied : True
Creator : Andre Bogaert
Rights : BogaertPhoto
Tone Curve PV2012 : 0, 0, 255, 255
Tone Curve PV2012 Red : 0, 0, 255, 255
Tone Curve PV2012 Green : 0, 0, 255, 255
Tone Curve PV2012 Blue : 0, 0, 255, 255
Image Width : 300
Image Height : 169
Bits Per Sample : 8
Color Components : 3
Aperture : 6.8
Image Size : 300x169
Megapixels : 0.051
Scale Factor To 35 mm Equivalent : 4.2
Shutter Speed : 1/500
Circle Of Confusion : 0.007 mm
Field Of View : 30.3 deg
Focal Length : 16.0 mm (35 mm equivalent: 66.5 mm)
Hyperfocal Distance : 5.21 m
Light Value : 8.9