Uber Exif Photo
Photometric Interpretation : RGB
Make : Leica Camera AG
Camera Model Name : M9 Digital Camera
Orientation : Horizontal (normal)
Planar Configuration : Chunky
Software : Adobe Photoshop CS5 Macintosh
Modify Date : 2014:05:26 15:16:11
Exposure Time : 1/4000
F Number : 4.0
Exposure Program : Aperture-priority AE
ISO : 160
Date/Time Original : 2014:05:25 16:13:54
Create Date : 2014:05:25 16:13:54
Shutter Speed Value : 1/4000
Aperture Value : 4.0
Exposure Compensation : -1.33
Max Aperture Value : 2.0
Metering Mode : Center-weighted average
Light Source : Other
Flash : No Flash
Focal Length : 35.0 mm
Color Space : Uncalibrated
Exif Image Width : 1200
Exif Image Height : 798
Scene Type : Directly photographed
Exposure Mode : Manual
White Balance : Manual
Digital Zoom Ratio : 0
Focal Length In 35mm Format : 35 mm
Scene Capture Type : Standard
Serial Number : 4254831
Lens Model : Leica Summicron-M 35mm f/2 ASPH.
Creator Tool : Adobe Photoshop CS5 Macintosh
Lens : Leica Summicron-M 35mm f/2 ASPH.
Date Created : 2014:05:25 16:13:54
Color Mode : RGB
ICC Profile Name : eciRGB v2 ICCv4
Format : image/jpeg
Version : 7.4
Process Version : 6.7
Color Temperature : 5000
Tint : 0
Saturation : -100
Sharpness : 0
Luminance Smoothing : 0
Color Noise Reduction : 25
Vignette Amount : 0
Shadow Tint : 0
Red Hue : 0
Red Saturation : 0
Green Hue : 0
Green Saturation : 0
Blue Hue : 0
Blue Saturation : 0
Vibrance : +21
Hue Adjustment Red : 0
Hue Adjustment Orange : 0
Hue Adjustment Yellow : 0
Hue Adjustment Green : 0
Hue Adjustment Aqua : 0
Hue Adjustment Blue : 0
Hue Adjustment Purple : 0
Hue Adjustment Magenta : 0
Saturation Adjustment Red : -30
Saturation Adjustment Orange : -30
Saturation Adjustment Yellow : -30
Saturation Adjustment Green : -30
Saturation Adjustment Aqua : -30
Saturation Adjustment Blue : -30
Saturation Adjustment Purple : -30
Saturation Adjustment Magenta : -30
Luminance Adjustment Red : 0
Luminance Adjustment Orange : 0
Luminance Adjustment Yellow : 0
Luminance Adjustment Green : 0
Luminance Adjustment Aqua : 0
Luminance Adjustment Blue : 0
Luminance Adjustment Purple : 0
Luminance Adjustment Magenta : 0
Split Toning Shadow Hue : 0
Split Toning Shadow Saturation : 0
Split Toning Highlight Hue : 0
Split Toning Highlight Saturation : 0
Split Toning Balance : 0
Parametric Shadows : 0
Parametric Darks : 0
Parametric Lights : 0
Parametric Highlights : 0
Parametric Shadow Split : 25
Parametric Midtone Split : 50
Parametric Highlight Split : 75
Sharpen Radius : +0.5
Sharpen Detail : 0
Sharpen Edge Masking : 0
Post Crop Vignette Amount : -10
Post Crop Vignette Midpoint : 50
Post Crop Vignette Feather : 50
Post Crop Vignette Roundness : 0
Post Crop Vignette Style : Highlight Priority
Post Crop Vignette Highlight Contrast : 0
Grain Amount : 0
Color Noise Reduction Detail : 50
Lens Profile Enable : 1
Lens Manual Distortion Amount : 0
Perspective Vertical : 0
Perspective Horizontal : 0
Perspective Rotate : 0.0
Perspective Scale : 100
Auto Lateral CA : 1
Exposure 2012 : +0.50
Contrast 2012 : +61
Highlights 2012 : -100
Shadows 2012 : +100
Whites 2012 : +70
Blacks 2012 : +14
Clarity 2012 : +35
Defringe Purple Amount : 0
Defringe Purple Hue Lo : 30
Defringe Purple Hue Hi : 70
Defringe Green Amount : 0
Defringe Green Hue Lo : 40
Defringe Green Hue Hi : 60
Convert To Grayscale : False
Tone Curve Name 2012 : Linear
Camera Profile : Adobe Standard
Lens Profile Setup : LensDefaults
Lens Profile Name : Adobe (Leica SUMMICRON-M 35 mm f/2 ASPH.)
Lens Profile Filename : Leica Camera AG (Leica SUMMICRON-M 35 mm f2 ASPH.) - RAW.lcp
Lens Profile Distortion Scale : 100
Lens Profile Chromatic Aberration Scale : 100
Lens Profile Vignetting Scale : 100
Has Settings : True
Has Crop : False
Already Applied : True
Tone Curve PV2012 : 0, 0, 255, 255
Tone Curve PV2012 Red : 0, 0, 255, 255
Tone Curve PV2012 Green : 0, 0, 255, 255
Tone Curve PV2012 Blue : 0, 0, 255, 255
Image Width : 300
Image Height : 200
Bits Per Sample : 8
Color Components : 1
Aperture : 4.0
Image Size : 300x200
Megapixels : 0.060
Scale Factor To 35 mm Equivalent : 1.0
Shutter Speed : 1/4000
Circle Of Confusion : 0.030 mm
Field Of View : 54.4 deg
Focal Length : 35.0 mm (35 mm equivalent: 35.0 mm)
Hyperfocal Distance : 10.19 m
Light Value : 15.3
Lens ID : Summicron-M 35mm f/2 ASPH.