Uber Exif Photo
Make : Leica Camera AG
Camera Model Name : M8 Digital Camera
Software : Adobe Photoshop Lightroom 4.4 (Macintosh)
Modify Date : 2013:06:05 06:58:56
Exposure Time : 1/180
F Number : 1.4
Exposure Program : Aperture-priority AE
ISO : 160
Date/Time Original : 2012:09:26 13:57:05
Create Date : 2012:09:26 13:57:05
Shutter Speed Value : 1/180
Aperture Value : 1.4
Exposure Compensation : 0
Max Aperture Value : 1.4
Metering Mode : Center-weighted average
Light Source : Unknown
Flash : Auto, Did not fire
Focal Length : 50.0 mm
Scene Type : Directly photographed
White Balance : Auto
Digital Zoom Ratio : 0
Focal Length In 35mm Format : 67 mm
Scene Capture Type : Standard
Serial Number : 3111683
Lens Model : Leica Summilux-M 50mm f/1.4 ASPH.
Profile Description : sRGB IEC61966-2.1
Creator Tool : Adobe Photoshop Lightroom 4.4 (Macintosh)
Lens : Leica Summilux-M 50mm f/1.4 ASPH.
Date Created : 2012:09:26 13:57:05
Format : image/jpeg
Version : 7.4
Process Version : 6.7
Color Temperature : 3900
Tint : +20
Saturation : 0
Sharpness : 25
Luminance Smoothing : 0
Color Noise Reduction : 25
Vignette Amount : 0
Shadow Tint : 0
Red Hue : 0
Red Saturation : 0
Green Hue : 0
Green Saturation : 0
Blue Hue : 0
Blue Saturation : 0
Vibrance : 0
Hue Adjustment Red : 0
Hue Adjustment Orange : 0
Hue Adjustment Yellow : 0
Hue Adjustment Green : 0
Hue Adjustment Aqua : 0
Hue Adjustment Blue : 0
Hue Adjustment Purple : 0
Hue Adjustment Magenta : 0
Saturation Adjustment Red : 0
Saturation Adjustment Orange : 0
Saturation Adjustment Yellow : 0
Saturation Adjustment Green : 0
Saturation Adjustment Aqua : 0
Saturation Adjustment Blue : 0
Saturation Adjustment Purple : 0
Saturation Adjustment Magenta : 0
Luminance Adjustment Red : 0
Luminance Adjustment Orange : 0
Luminance Adjustment Yellow : 0
Luminance Adjustment Green : 0
Luminance Adjustment Aqua : 0
Luminance Adjustment Blue : 0
Luminance Adjustment Purple : 0
Luminance Adjustment Magenta : 0
Split Toning Shadow Hue : 0
Split Toning Shadow Saturation : 0
Split Toning Highlight Hue : 0
Split Toning Highlight Saturation : 0
Split Toning Balance : 0
Parametric Shadows : 0
Parametric Darks : -4
Parametric Lights : +22
Parametric Highlights : 0
Parametric Shadow Split : 25
Parametric Midtone Split : 50
Parametric Highlight Split : 75
Sharpen Radius : +1.0
Sharpen Detail : 25
Sharpen Edge Masking : 0
Post Crop Vignette Amount : 0
Grain Amount : 0
Color Noise Reduction Detail : 50
Lens Profile Enable : 0
Lens Manual Distortion Amount : 0
Perspective Vertical : 0
Perspective Horizontal : 0
Perspective Rotate : 0.0
Perspective Scale : 100
Auto Lateral CA : 0
Exposure 2012 : +0.05
Contrast 2012 : +1
Highlights 2012 : 0
Shadows 2012 : 0
Whites 2012 : 0
Blacks 2012 : 0
Clarity 2012 : 0
Defringe Purple Amount : 0
Defringe Purple Hue Lo : 30
Defringe Purple Hue Hi : 70
Defringe Green Amount : 0
Defringe Green Hue Lo : 40
Defringe Green Hue Hi : 60
Convert To Grayscale : False
Tone Curve Name 2012 : Linear
Camera Profile : Adobe Standard
Lens Profile Setup : LensDefaults
Has Settings : True
Crop Top : 0
Crop Left : 0
Crop Bottom : 1
Crop Right : 0.847777
Crop Angle : 0
Crop Constrain To Warp : 0
Crop Width : 3320
Crop Height : 2634
Crop Unit : pixels
Has Crop : True
Already Applied : True
Tone Curve PV2012 : 0, 0, 255, 255
Tone Curve PV2012 Red : 0, 0, 255, 255
Tone Curve PV2012 Green : 0, 0, 255, 255
Tone Curve PV2012 Blue : 0, 0, 255, 255
Image Width : 300
Image Height : 238
Bits Per Sample : 8
Color Components : 3
Aperture : 1.4
Image Size : 300x238
Megapixels : 0.071
Scale Factor To 35 mm Equivalent : 1.3
Shutter Speed : 1/180
Circle Of Confusion : 0.022 mm
Field Of View : 30.1 deg
Focal Length : 50.0 mm (35 mm equivalent: 67.0 mm)
Hyperfocal Distance : 79.64 m
Light Value : 7.8
Lens ID : Summilux-M 50mm f/1.4 ASPH.