Uber Exif Photo
Photometric Interpretation : RGB
Make : LEICA CAMERA AG
Camera Model Name : LEICA X2
Orientation : Horizontal (normal)
Software : Adobe Photoshop CS5 Windows
Modify Date : 2014:02:10 08:26:38
Maker Note Safety : Safe
Exposure Time : 1/400
F Number : 5.0
Exposure Program : Program AE
ISO : 100
Date/Time Original : 2014:02:09 12:59:46
Create Date : 2014:02:09 12:59:46
Shutter Speed Value : 1/400
Aperture Value : 5.0
Exposure Compensation : 0
Max Aperture Value : 2.8
Metering Mode : Multi-segment
Light Source : Unknown
Flash : Off, Did not fire
Focal Length : 24.0 mm
Color Space : sRGB
Exif Image Width : 1933
Exif Image Height : 1280
Sensing Method : One-chip color area
Custom Rendered : Custom
White Balance : Auto
Digital Zoom Ratio : 1
Focal Length In 35mm Format : 36 mm
Scene Capture Type : Landscape
Contrast : Normal
Saturation : Normal
Sharpness : Normal
Serial Number : 000004318141
Lens Info : 24mm f/2.8
Lens Model : 24.0 mm f/2.8
Profile Description : sRGB IEC61966-2.1
Creator Tool : Adobe Photoshop CS5 Windows
Lens : 24.0 mm f/2.8
Approximate Focus Distance : 7
Date Created : 2014:02:09 12:59:46
Color Mode : RGB
ICC Profile Name : sRGB IEC61966-2.1
Format : image/jpeg
Version : 7.3
Process Version : 6.7
Color Temperature : 5500
Tint : +12
Luminance Smoothing : 0
Color Noise Reduction : 25
Vignette Amount : 0
Shadow Tint : -5
Red Hue : +10
Red Saturation : +10
Green Hue : +10
Green Saturation : -10
Blue Hue : 0
Blue Saturation : +30
Vibrance : +5
Hue Adjustment Red : +12
Hue Adjustment Orange : -12
Hue Adjustment Yellow : -15
Hue Adjustment Green : +15
Hue Adjustment Aqua : 0
Hue Adjustment Blue : +10
Hue Adjustment Purple : +30
Hue Adjustment Magenta : +15
Saturation Adjustment Red : 0
Saturation Adjustment Orange : 0
Saturation Adjustment Yellow : 0
Saturation Adjustment Green : -10
Saturation Adjustment Aqua : 0
Saturation Adjustment Blue : +10
Saturation Adjustment Purple : 0
Saturation Adjustment Magenta : -15
Luminance Adjustment Red : -20
Luminance Adjustment Orange : -10
Luminance Adjustment Yellow : 0
Luminance Adjustment Green : -25
Luminance Adjustment Aqua : -15
Luminance Adjustment Blue : -30
Luminance Adjustment Purple : -5
Luminance Adjustment Magenta : -15
Split Toning Shadow Hue : 0
Split Toning Shadow Saturation : 0
Split Toning Highlight Hue : 275
Split Toning Highlight Saturation : 0
Split Toning Balance : 0
Parametric Shadows : 0
Parametric Darks : 0
Parametric Lights : 0
Parametric Highlights : 0
Parametric Shadow Split : 14
Parametric Midtone Split : 60
Parametric Highlight Split : 75
Sharpen Radius : +1.2
Sharpen Detail : 25
Sharpen Edge Masking : 0
Post Crop Vignette Amount : 0
Grain Amount : 15
Grain Size : 35
Grain Frequency : 35
Color Noise Reduction Detail : 50
Lens Profile Enable : 0
Lens Manual Distortion Amount : 0
Perspective Vertical : 0
Perspective Horizontal : 0
Perspective Rotate : 0.0
Perspective Scale : 100
Auto Lateral CA : 0
Exposure 2012 : 0.00
Contrast 2012 : 0
Highlights 2012 : -25
Shadows 2012 : +15
Whites 2012 : 0
Blacks 2012 : +15
Clarity 2012 : 0
Defringe Purple Amount : 0
Defringe Purple Hue Lo : 30
Defringe Purple Hue Hi : 70
Defringe Green Amount : 0
Defringe Green Hue Lo : 40
Defringe Green Hue Hi : 60
Convert To Grayscale : False
Tone Curve Name 2012 : Custom
Camera Profile : Fuji Fortia SP - L
Lens Profile Setup : LensDefaults
Has Settings : True
Crop Top : 0.017539
Crop Left : 0
Crop Bottom : 0.982461
Crop Right : 0.990156
Crop Angle : -0.677449
Crop Constrain To Warp : 0
Crop Width : 4842
Crop Height : 3207
Crop Unit : pixels
Has Crop : True
Already Applied : True
Tone Curve PV2012 : 0, 23, 46, 56, 115, 118, 198, 199, 255, 255
Tone Curve PV2012 Red : 0, 0, 37, 7, 56, 24, 104, 112, 172, 205, 255, 255
Tone Curve PV2012 Green : 0, 0, 37, 7, 55, 23, 104, 115, 174, 201, 255, 255
Tone Curve PV2012 Blue : 0, 13, 50, 38, 103, 117, 171, 204, 255, 253
Image Width : 300
Image Height : 199
Bits Per Sample : 8
Color Components : 3
Aperture : 5.0
Image Size : 300x199
Megapixels : 0.060
Scale Factor To 35 mm Equivalent : 1.5
Shutter Speed : 1/400
Circle Of Confusion : 0.020 mm
Depth Of Field : inf (3.16 m - inf)
Field Of View : 53.1 deg
Focal Length : 24.0 mm (35 mm equivalent: 36.0 mm)
Hyperfocal Distance : 5.75 m
Light Value : 13.3
Lens ID : 24.0mm f/2.8