Uber Exif Photo
By-line : Brian Whitcomb
Caption-Abstract : OLYMPUS DIGITAL CAMERA
Image Description : OLYMPUS DIGITAL CAMERA
Make : OLYMPUS IMAGING CORP.
Camera Model Name : E-M5
Software : Adobe Photoshop Lightroom 5.0 (Macintosh)
Modify Date : 2013:12:29 01:02:58
Artist : Brian Whitcomb
Exposure Time : 1/1600
F Number : 3.5
Exposure Program : Manual
ISO : 200
Sensitivity Type : Standard Output Sensitivity
Date/Time Original : 2013:12:21 15:35:35
Create Date : 2013:12:21 15:35:35
Shutter Speed Value : 1/1600
Aperture Value : 3.5
Exposure Compensation : 0
Max Aperture Value : 1.4
Metering Mode : Multi-segment
Light Source : Unknown
Flash : On, Did not fire
Focal Length : 25.0 mm
Color Space : sRGB
CFA Pattern : [Red,Green][Green,Blue]
Custom Rendered : Normal
Exposure Mode : Manual
White Balance : Auto
Digital Zoom Ratio : 1
Focal Length In 35mm Format : 50 mm
Scene Capture Type : Standard
Gain Control : None
Contrast : High
Saturation : High
Sharpness : Hard
Serial Number : BF3512136
Lens Info : 25mm f/1.4
Lens Model : LEICA DG SUMMILUX 25/F1.4
Lens Serial Number : 12091102204
Profile Description : sRGB IEC61966-2.1
Format : image/jpeg
Creator Tool : Adobe Photoshop Lightroom 5.0 (Macintosh)
Lens : LEICA DG SUMMILUX 25/F1.4
Approximate Focus Distance : 7.94
Flash Compensation : 0
Date Created : 2013:12:21 15:35:35
Version : 8.2
Process Version : 6.7
Auto White Version : 134348800
Color Temperature : 5592
Tint : +7
Luminance Smoothing : 0
Color Noise Reduction : 25
Vignette Amount : 0
Shadow Tint : 0
Red Hue : 0
Red Saturation : 0
Green Hue : 0
Green Saturation : 0
Blue Hue : 0
Blue Saturation : 0
Vibrance : +24
Hue Adjustment Red : 0
Hue Adjustment Orange : 0
Hue Adjustment Yellow : 0
Hue Adjustment Green : 0
Hue Adjustment Aqua : 0
Hue Adjustment Blue : 0
Hue Adjustment Purple : 0
Hue Adjustment Magenta : 0
Saturation Adjustment Red : 0
Saturation Adjustment Orange : 0
Saturation Adjustment Yellow : 0
Saturation Adjustment Green : 0
Saturation Adjustment Aqua : 0
Saturation Adjustment Blue : 0
Saturation Adjustment Purple : 0
Saturation Adjustment Magenta : 0
Luminance Adjustment Red : 0
Luminance Adjustment Orange : 0
Luminance Adjustment Yellow : 0
Luminance Adjustment Green : 0
Luminance Adjustment Aqua : 0
Luminance Adjustment Blue : 0
Luminance Adjustment Purple : 0
Luminance Adjustment Magenta : 0
Split Toning Shadow Hue : 0
Split Toning Shadow Saturation : 0
Split Toning Highlight Hue : 0
Split Toning Highlight Saturation : 0
Split Toning Balance : 0
Parametric Shadows : 0
Parametric Darks : 0
Parametric Lights : 0
Parametric Highlights : 0
Parametric Shadow Split : 25
Parametric Midtone Split : 50
Parametric Highlight Split : 75
Sharpen Radius : +1.0
Sharpen Detail : 25
Sharpen Edge Masking : 0
Post Crop Vignette Amount : -15
Post Crop Vignette Midpoint : 50
Post Crop Vignette Feather : 50
Post Crop Vignette Roundness : 0
Post Crop Vignette Style : Highlight Priority
Post Crop Vignette Highlight Contrast : 0
Grain Amount : 0
Color Noise Reduction Detail : 50
Color Noise Reduction Smoothness : 50
Lens Profile Enable : 0
Lens Manual Distortion Amount : 0
Perspective Vertical : 0
Perspective Horizontal : 0
Perspective Rotate : 0.0
Perspective Scale : 100
Perspective Aspect : 0
Perspective Upright : Off
Auto Lateral CA : 0
Exposure 2012 : 0.00
Contrast 2012 : +100
Highlights 2012 : -100
Shadows 2012 : 0
Whites 2012 : 0
Blacks 2012 : 0
Clarity 2012 : +11
Defringe Purple Amount : 0
Defringe Purple Hue Lo : 30
Defringe Purple Hue Hi : 70
Defringe Green Amount : 0
Defringe Green Hue Lo : 40
Defringe Green Hue Hi : 60
Convert To Grayscale : False
Tone Curve Name 2012 : Linear
Camera Profile : Adobe Standard
Lens Profile Setup : LensDefaults
Has Settings : True
Has Crop : False
Already Applied : True
Creator : Brian Whitcomb
Description : OLYMPUS DIGITAL CAMERA
Tone Curve PV2012 : 0, 0, 255, 255
Tone Curve PV2012 Red : 0, 0, 255, 255
Tone Curve PV2012 Green : 0, 0, 255, 255
Tone Curve PV2012 Blue : 0, 0, 255, 255
Paint Correction What : Correction
Paint Correction Amount : 1.000000
Paint Correction Active : true
Paint Correction Saturation : 0.000000
Paint Correction Sharpness : 0.000000
Paint Correction Brightness : 0.000000
Paint Correction Toning Hue : 240.000000
Paint Correction Toning Saturation : 0.000000
Paint Correction Exposure 2012 : 0.000000
Paint Correction Contrast 2012 : 0.000000
Paint Correction Highlights 2012 : -0.264154
Paint Correction Shadows 2012 : 0.000000
Paint Correction Clarity 2012 : 0.001471
Paint Correction Luminance Noise : 0.000460
Paint Correction Moire : 0.000000
Paint Correction Defringe : 0.000000
Paint Correction Temperature : 0.000000
Paint Correction Tint : 0.000000
Paint Correction Mask What : Mask/Paint
Paint Correction Mask Value : 0.821794
Paint Correction Mask Radius : 0.039372
Paint Correction Mask Flow : 1.000000
Paint Correction Mask Center Weight : 0.216229
Image Width : 300
Image Height : 200
Bits Per Sample : 8
Color Components : 3
Aperture : 3.5
Image Size : 300x200
Megapixels : 0.060
Scale Factor To 35 mm Equivalent : 2.0
Shutter Speed : 1/1600
Circle Of Confusion : 0.015 mm
Depth Of Field : 19.00 m (4.77 - 23.76 m)
Field Of View : 39.6 deg
Focal Length : 25.0 mm (35 mm equivalent: 50.0 mm)
Hyperfocal Distance : 11.89 m
Light Value : 13.3
Lens ID : LEICA DG SUMMILUX 25mm F1.4