Uber Exif Photo
Make : Leica Camera AG
Camera Model Name : M9 Digital Camera
Orientation : Horizontal (normal)
Software : Adobe Photoshop CS5 Macintosh
Modify Date : 2012:04:24 17:11:32
Maker Note Safety : Safe
Exposure Time : 1/60
F Number : 13.0
Exposure Program : Aperture-priority AE
ISO : 400
Date/Time Original : 2012:04:23 12:25:45
Create Date : 2012:04:23 12:25:45
Shutter Speed Value : 1/60
Aperture Value : 13.0
Exposure Compensation : 0
Max Aperture Value : 2.0
Metering Mode : Center-weighted average
Light Source : Other
Flash : No Flash
Focal Length : 35.0 mm
Color Space : sRGB
Exif Image Width : 973
Exif Image Height : 732
Scene Type : Directly photographed
Exposure Mode : Manual
White Balance : Manual
Digital Zoom Ratio : 0
Focal Length In 35mm Format : 35 mm
Scene Capture Type : Standard
Serial Number : 4254831
Lens Model : Leica Summicron-M 35mm f/2 ASPH.
Profile Description : sRGB IEC61966-2.1
Creator Tool : Adobe Photoshop CS5 Macintosh
Rating : 0
Lens : Leica Summicron-M 35mm f/2 ASPH.
Date Created : 2012:04:23 12:25:45
Color Mode : RGB
ICC Profile Name : sRGB IEC61966-2.1
Format : image/jpeg
Raw File Name : L1000521.DNG
Version : 6.7
Process Version : 5.7
Color Temperature : 5750
Tint : 0
Exposure : +0.15
Shadows : 5
Brightness : +45
Contrast : +76
Saturation : +10
Sharpness : 35
Luminance Smoothing : 10
Color Noise Reduction : 30
Vignette Amount : 0
Shadow Tint : +5
Red Hue : +5
Red Saturation : -5
Green Hue : +5
Green Saturation : -5
Blue Hue : -5
Blue Saturation : -10
Fill Light : 10
Vibrance : +10
Highlight Recovery : 0
Clarity : +10
Defringe : 2
Hue Adjustment Red : 0
Hue Adjustment Orange : 0
Hue Adjustment Yellow : 0
Hue Adjustment Green : 0
Hue Adjustment Aqua : 0
Hue Adjustment Blue : 0
Hue Adjustment Purple : 0
Hue Adjustment Magenta : 0
Saturation Adjustment Red : 0
Saturation Adjustment Orange : 0
Saturation Adjustment Yellow : 0
Saturation Adjustment Green : 0
Saturation Adjustment Aqua : 0
Saturation Adjustment Blue : 0
Saturation Adjustment Purple : 0
Saturation Adjustment Magenta : 0
Luminance Adjustment Red : 0
Luminance Adjustment Orange : 0
Luminance Adjustment Yellow : 0
Luminance Adjustment Green : 0
Luminance Adjustment Aqua : 0
Luminance Adjustment Blue : 0
Luminance Adjustment Purple : 0
Luminance Adjustment Magenta : 0
Split Toning Shadow Hue : 0
Split Toning Shadow Saturation : 0
Split Toning Highlight Hue : 0
Split Toning Highlight Saturation : 0
Split Toning Balance : 0
Parametric Shadows : 0
Parametric Darks : 0
Parametric Lights : 0
Parametric Highlights : 0
Parametric Shadow Split : 25
Parametric Midtone Split : 50
Parametric Highlight Split : 75
Sharpen Radius : +0.7
Sharpen Detail : 35
Sharpen Edge Masking : 1
Post Crop Vignette Amount : -30
Post Crop Vignette Midpoint : 50
Post Crop Vignette Feather : 50
Post Crop Vignette Roundness : -10
Post Crop Vignette Style : Highlight Priority
Post Crop Vignette Highlight Contrast : 5
Grain Amount : 0
Luminance Noise Reduction Detail : 50
Color Noise Reduction Detail : 30
Luminance Noise Reduction Contrast : 5
Lens Profile Enable : 1
Lens Manual Distortion Amount : 0
Perspective Vertical : 0
Perspective Horizontal : 0
Perspective Rotate : 0.0
Perspective Scale : 100
Auto Lateral CA : 1
Exposure 2012 : -0.25
Contrast 2012 : +47
Highlights 2012 : 0
Shadows 2012 : 0
Whites 2012 : -40
Blacks 2012 : -1
Clarity 2012 : +5
Convert To Grayscale : False
Tone Curve Name : Custom
Tone Curve Name 2012 : Custom
Camera Profile : Embedded
Lens Profile Setup : Custom
Lens Profile Name : Adobe (Leica SUMMARIT-S 1:2.5/35mm ASPH.)
Lens Profile Filename : Leica SUMMARIT-S 2.5 35 mm ASPH.lcp
Lens Profile Distortion Scale : 100
Lens Profile Chromatic Aberration Scale : 100
Lens Profile Vignetting Scale : 100
Has Settings : True
Crop Top : 0
Crop Left : 0.185559
Crop Bottom : 0.879813
Crop Right : 0.963509
Crop Angle : 0
Crop Constrain To Warp : 1
Has Crop : True
Already Applied : True
Tone Curve : 0, 0, 32, 22, 68, 54, 133, 127, 192, 196, 255, 255
Tone Curve Red : 0, 0, 255, 255
Tone Curve Green : 0, 0, 255, 255
Tone Curve Blue : 0, 0, 255, 255
Tone Curve PV2012 : 0, 0, 17, 18, 34, 34, 51, 48, 68, 62, 85, 78, 102, 94, 119, 112, 136, 130, 153, 149, 170, 168, 187, 187, 204, 205, 221, 222, 238, 239, 255, 255
Tone Curve PV2012 Red : 0, 0, 255, 255
Tone Curve PV2012 Green : 0, 0, 255, 255
Tone Curve PV2012 Blue : 0, 0, 255, 255
Image Width : 300
Image Height : 226
Bits Per Sample : 8
Color Components : 3
Aperture : 13.0
Image Size : 300x226
Megapixels : 0.068
Scale Factor To 35 mm Equivalent : 1.0
Shutter Speed : 1/60
Circle Of Confusion : 0.030 mm
Field Of View : 54.4 deg
Focal Length : 35.0 mm (35 mm equivalent: 35.0 mm)
Hyperfocal Distance : 3.14 m
Light Value : 11.3
Lens ID : Summicron-M 35mm f/2 ASPH.