Uber Exif Photo
Make : Leica Camera AG
Camera Model Name : LEICA M (Typ 240)
Software : Adobe Photoshop Lightroom 5.0 (Macintosh)
Modify Date : 2013:12:23 19:42:54
Exposure Time : 1/180
F Number : 4.8
Exposure Program : Aperture-priority AE
ISO : 200
Date/Time Original : 2013:12:23 15:18:02
Create Date : 2013:12:23 15:18:02
Shutter Speed Value : 1/180
Aperture Value : 4.8
Exposure Compensation : 0
Max Aperture Value : 3.4
Metering Mode : Center-weighted average
Light Source : Unknown
Flash : No Flash
Focal Length : 21.0 mm
Scene Type : Directly photographed
Custom Rendered : Normal
Exposure Mode : Auto
White Balance : Auto
Digital Zoom Ratio : 0
Scene Capture Type : Standard
Contrast : Normal
Saturation : Normal
Sharpness : Normal
Serial Number : 4787516
Lens Model : Super-Elmar-M 1:3.4/21 ASPH.
Creator Tool : Adobe Photoshop Lightroom 5.0 (Macintosh)
Lens : Super-Elmar-M 1:3.4/21 ASPH.
Date Created : 2013:12:23 15:18:02
Format : image/jpeg
Version : 8.2
Process Version : 6.7
Auto White Version : 134348800
Incremental Temperature : 0
Incremental Tint : 0
Luminance Smoothing : 0
Color Noise Reduction : 0
Vignette Amount : 0
Shadow Tint : 0
Red Hue : 0
Red Saturation : 0
Green Hue : 0
Green Saturation : 0
Blue Hue : 0
Blue Saturation : 0
Gray Mixer Red : +100
Gray Mixer Orange : +29
Gray Mixer Yellow : -14
Gray Mixer Green : -100
Gray Mixer Aqua : -100
Gray Mixer Blue : -98
Gray Mixer Purple : +100
Gray Mixer Magenta : +100
Split Toning Shadow Hue : 0
Split Toning Shadow Saturation : 0
Split Toning Highlight Hue : 0
Split Toning Highlight Saturation : 0
Split Toning Balance : 0
Parametric Shadows : 0
Parametric Darks : 0
Parametric Lights : 0
Parametric Highlights : 0
Parametric Shadow Split : 25
Parametric Midtone Split : 50
Parametric Highlight Split : 75
Sharpen Radius : +1.0
Sharpen Detail : 25
Sharpen Edge Masking : 0
Post Crop Vignette Amount : 0
Grain Amount : 0
Lens Profile Enable : 0
Lens Manual Distortion Amount : -3
Perspective Vertical : 0
Perspective Horizontal : 0
Perspective Rotate : 0.0
Perspective Scale : 100
Perspective Aspect : 0
Perspective Upright : Off
Auto Lateral CA : 0
Exposure 2012 : 0.00
Contrast 2012 : 0
Highlights 2012 : -7
Shadows 2012 : +29
Whites 2012 : 0
Blacks 2012 : -17
Clarity 2012 : +39
Convert To Grayscale : True
Tone Curve Name 2012 : Linear
Camera Profile : Embedded
Lens Profile Setup : LensDefaults
Has Settings : True
Has Crop : False
Already Applied : True
Tone Curve PV2012 : 0, 0, 255, 255
Tone Curve PV2012 Red : 0, 0, 255, 255
Tone Curve PV2012 Green : 0, 0, 255, 255
Tone Curve PV2012 Blue : 0, 0, 255, 255
Image Width : 300
Image Height : 267
Bits Per Sample : 8
Color Components : 1
Aperture : 4.8
Image Size : 300x267
Megapixels : 0.080
Scale Factor To 35 mm Equivalent : 17.8
Shutter Speed : 1/180
Circle Of Confusion : 0.002 mm
Field Of View : 5.5 deg
Focal Length : 21.0 mm (35 mm equivalent: 374.1 mm)
Hyperfocal Distance : 54.47 m
Light Value : 11.0