Uber Exif Photo
Make : Leaf
Camera Model Name : Aptus 75
Orientation : Horizontal (normal)
Software : Adobe Photoshop CS6 (Macintosh)
Modify Date : 2013:11:16 14:26:03
Exposure Time : 1/30
F Number : 6.5
ISO : 50
Date/Time Original : 2010:09:30 12:14:05
Create Date : 2010:09:30 12:14:05
Shutter Speed Value : 1/30
Aperture Value : 6.5
Color Space : Uncalibrated
Exif Image Width : 1920
Exif Image Height : 1277
Exposure Mode : Auto
Profile Description : Adobe RGB (1998)
Creator Tool : Firmware v4.700/
Rating : 0
Format : image/jpeg
Modified :
Modified Size :
Created :
Saturation : Custom Chairs_2.mos
Selection : No Selection
Gray Balance : Custom Autumn Leaves_4.mos
Filter : Green
Develop Curve : Original Grad_284
Height : 4992
Moire : No Reduction
Grain : Custom Chapel_2.mos
ICC Color : On
Scale : 100
Width : 6666
Color Look : ProPhoto RGB
Sharp : Custom Autumn Leaves_2.mos
Resolution : 300
Flags : ---
Date Created : 2010:09:30 12:14:05
Color Mode : RGB
ICC Profile Name : Adobe RGB (1998)
Raw File Name : Chairs_3.mos
Version : 8.2
Process Version : 5.7
White Balance : Custom
Auto White Version : 134348800
Color Temperature : 4500
Tint : -30
Exposure : -2.65
Shadows : 31
Brightness : +150
Contrast : +100
Sharpness : 0
Luminance Smoothing : 0
Color Noise Reduction : 25
Vignette Amount : 0
Shadow Tint : 0
Red Hue : 0
Red Saturation : 0
Green Hue : 0
Green Saturation : 0
Blue Hue : 0
Blue Saturation : 0
Fill Light : 100
Vibrance : +100
Highlight Recovery : 50
Clarity : +100
Hue Adjustment Red : 0
Hue Adjustment Orange : 0
Hue Adjustment Yellow : 0
Hue Adjustment Green : 0
Hue Adjustment Aqua : 0
Hue Adjustment Blue : 0
Hue Adjustment Purple : 0
Hue Adjustment Magenta : 0
Saturation Adjustment Red : 0
Saturation Adjustment Orange : 0
Saturation Adjustment Yellow : 0
Saturation Adjustment Green : 0
Saturation Adjustment Aqua : 0
Saturation Adjustment Blue : 0
Saturation Adjustment Purple : 0
Saturation Adjustment Magenta : 0
Luminance Adjustment Red : 0
Luminance Adjustment Orange : 0
Luminance Adjustment Yellow : 0
Luminance Adjustment Green : 0
Luminance Adjustment Aqua : 0
Luminance Adjustment Blue : 0
Luminance Adjustment Purple : 0
Luminance Adjustment Magenta : 0
Split Toning Shadow Hue : 0
Split Toning Shadow Saturation : 0
Split Toning Highlight Hue : 0
Split Toning Highlight Saturation : 0
Split Toning Balance : 0
Parametric Shadows : 0
Parametric Darks : 0
Parametric Lights : 0
Parametric Highlights : 0
Parametric Shadow Split : 25
Parametric Midtone Split : 50
Parametric Highlight Split : 75
Sharpen Radius : +0.5
Sharpen Detail : 0
Sharpen Edge Masking : 0
Post Crop Vignette Amount : 0
Grain Amount : 0
Color Noise Reduction Detail : 50
Color Noise Reduction Smoothness : 50
Lens Profile Enable : 0
Lens Manual Distortion Amount : 0
Perspective Vertical : 0
Perspective Horizontal : 0
Perspective Rotate : 0.0
Perspective Scale : 100
Perspective Aspect : 0
Perspective Upright : Off
Auto Lateral CA : 0
Defringe Purple Amount : 0
Defringe Purple Hue Lo : 30
Defringe Purple Hue Hi : 70
Defringe Green Amount : 0
Defringe Green Hue Lo : 40
Defringe Green Hue Hi : 60
Convert To Grayscale : False
Tone Curve Name : Medium Contrast
Camera Profile : Adobe Standard
Lens Profile Setup : LensDefaults
Has Settings : True
Crop Top : 0
Crop Left : 0
Crop Bottom : 1
Crop Right : 1
Crop Angle : 0
Crop Constrain To Warp : 1
Has Crop : True
Already Applied : True
Creator :
Title :
Rights :
Description :
Subject :
Tone Curve : 0, 0, 32, 22, 64, 56, 128, 128, 192, 196, 255, 255
Tone Curve Red : 0, 0, 255, 255
Tone Curve Green : 0, 0, 255, 255
Tone Curve Blue : 0, 0, 255, 255
Image Width : 300
Image Height : 200
Bits Per Sample : 8
Color Components : 3
Aperture : 6.5
Image Size : 300x200
Megapixels : 0.060
Scale Factor To 35 mm Equivalent : 2.6
Shutter Speed : 1/30
Circle Of Confusion : 0.012 mm
Light Value : 11.3