Uber Exif Photo
Make : LEICA CAMERA AG
Camera Model Name : LEICA X1
Orientation : Horizontal (normal)
Software : Adobe Photoshop CC (Windows)
Modify Date : 2013:11:01 18:14:08
Exposure Time : 1/1600
F Number : 6.3
Exposure Program : Program AE
ISO : 100
Date/Time Original : 2013:10:11 15:29:54
Create Date : 2013:10:11 15:29:54
Shutter Speed Value : 1/1600
Aperture Value : 6.3
Exposure Compensation : 0
Max Aperture Value : 2.8
Metering Mode : Multi-segment
Light Source : Unknown
Flash : Off, Did not fire
Focal Length : 24.0 mm
Color Space : Uncalibrated
Exif Image Width : 1920
Exif Image Height : 1347
Sensing Method : One-chip color area
Custom Rendered : Custom
White Balance : Auto
Digital Zoom Ratio : 1
Focal Length In 35mm Format : 36 mm
Scene Capture Type : Landscape
Contrast : High
Saturation : High
Sharpness : Hard
Serial Number : 000003814138
Lens Info : 24mm f/2.8
Lens Model : 24.0 mm f/2.8
Profile Description : Adobe RGB (1998)
Creator Tool : Adobe Photoshop CC (Windows)
Lens : 24.0 mm f/2.8
Approximate Focus Distance : 2.75
Date Created : 2013:10:11 15:29:54
Color Mode : RGB
ICC Profile Name : Adobe RGB (1998)
Format : image/jpeg
Version : 8.2
Process Version : 6.7
Auto White Version : 134348800
Color Temperature : 6450
Tint : +18
Luminance Smoothing : 51
Color Noise Reduction : 25
Vignette Amount : 0
Shadow Tint : 0
Red Hue : 0
Red Saturation : 0
Green Hue : 0
Green Saturation : 0
Blue Hue : 0
Blue Saturation : 0
Vibrance : 0
Hue Adjustment Red : 0
Hue Adjustment Orange : 0
Hue Adjustment Yellow : 0
Hue Adjustment Green : 0
Hue Adjustment Aqua : 0
Hue Adjustment Blue : 0
Hue Adjustment Purple : 0
Hue Adjustment Magenta : 0
Saturation Adjustment Red : 0
Saturation Adjustment Orange : 0
Saturation Adjustment Yellow : 0
Saturation Adjustment Green : 0
Saturation Adjustment Aqua : 0
Saturation Adjustment Blue : 0
Saturation Adjustment Purple : 0
Saturation Adjustment Magenta : 0
Luminance Adjustment Red : 0
Luminance Adjustment Orange : 0
Luminance Adjustment Yellow : 0
Luminance Adjustment Green : 0
Luminance Adjustment Aqua : 0
Luminance Adjustment Blue : -78
Luminance Adjustment Purple : 0
Luminance Adjustment Magenta : 0
Split Toning Shadow Hue : 0
Split Toning Shadow Saturation : 0
Split Toning Highlight Hue : 0
Split Toning Highlight Saturation : 0
Split Toning Balance : 0
Parametric Shadows : 0
Parametric Darks : 0
Parametric Lights : 0
Parametric Highlights : 0
Parametric Shadow Split : 25
Parametric Midtone Split : 50
Parametric Highlight Split : 75
Sharpen Radius : +2.1
Sharpen Detail : 61
Sharpen Edge Masking : 65
Post Crop Vignette Amount : 0
Grain Amount : 0
Luminance Noise Reduction Detail : 50
Color Noise Reduction Detail : 50
Luminance Noise Reduction Contrast : 0
Color Noise Reduction Smoothness : 50
Lens Profile Enable : 0
Lens Manual Distortion Amount : 0
Perspective Vertical : 0
Perspective Horizontal : 0
Perspective Rotate : 0.0
Perspective Scale : 100
Perspective Aspect : 0
Perspective Upright : Off
Auto Lateral CA : 0
Exposure 2012 : -0.83
Contrast 2012 : 0
Highlights 2012 : +26
Shadows 2012 : +38
Whites 2012 : 0
Blacks 2012 : +10
Clarity 2012 : +45
Defringe Purple Amount : 0
Defringe Purple Hue Lo : 30
Defringe Purple Hue Hi : 70
Defringe Green Amount : 0
Defringe Green Hue Lo : 40
Defringe Green Hue Hi : 60
Convert To Grayscale : False
Tone Curve Name 2012 : Linear
Camera Profile : Adobe Standard
Lens Profile Setup : LensDefaults
Has Settings : True
Crop Top : 0
Crop Left : 0.019283
Crop Bottom : 0.980496
Crop Right : 0.961965
Crop Angle : 1.04879
Crop Constrain To Warp : 0
Has Crop : True
Already Applied : True
Tone Curve PV2012 : 0, 0, 255, 255
Tone Curve PV2012 Red : 0, 0, 255, 255
Tone Curve PV2012 Green : 0, 0, 255, 255
Tone Curve PV2012 Blue : 0, 0, 255, 255
Gradient Based Corr What : Correction
Gradient Based Corr Amount : 1.000000
Gradient Based Corr Active : true
Gradient Based Corr Saturation : 0.000000
Gradient Based Corr Sharpness : 0.000000
Gradient Based Corr Brightness : 0.000000
Gradient Based Corr Toning Hue : 0.000000
Gradient Based Corr Toning Saturation : 0.000000
Gradient Based Corr Exposure 2012 : 0.310250
Gradient Based Corr Contrast 2012 : 0.000000
Gradient Based Corr Highlights 2012 : 0.000000
Gradient Based Corr Shadows 2012 : 0.000000
Gradient Based Corr Clarity 2012 : 0.000000
Gradient Based Corr Luminance Noise : 0.000000
Gradient Based Corr Moire : 0.000000
Gradient Based Corr Defringe : 0.000000
Gradient Based Corr Temperature : 0.000000
Gradient Based Corr Tint : 0.000000
Gradient Based Corr Mask What : Mask/Gradient
Gradient Based Corr Mask Value : 1.000000
Gradient Based Corr Mask Zero X : 0.505820
Gradient Based Corr Mask Zero Y : 0.367089
Gradient Based Corr Mask Full X : 0.505820
Gradient Based Corr Mask Full Y : 1.001580
Image Width : 300
Image Height : 210
Bits Per Sample : 8
Color Components : 3
Aperture : 6.3
Image Size : 300x210
Megapixels : 0.063
Scale Factor To 35 mm Equivalent : 1.5
Shutter Speed : 1/1600
Circle Of Confusion : 0.020 mm
Depth Of Field : 5.11 m (1.72 - 6.83 m)
Field Of View : 53.1 deg
Focal Length : 24.0 mm (35 mm equivalent: 36.0 mm)
Hyperfocal Distance : 4.56 m
Light Value : 16.0
Lens ID : 24.0mm f/2.8