Uber Exif Photo
Make : LEICA
Camera Model Name : D-LUX 6
Software : Adobe Photoshop Lightroom 5.0 (Macintosh)
Modify Date : 2013:10:28 23:43:29
Exposure Time : 1/320
F Number : 2.8
Exposure Program : Program AE
ISO : 80
Date/Time Original : 2013:10:08 18:35:05
Create Date : 2013:10:08 18:35:05
Shutter Speed Value : 1/320
Aperture Value : 2.8
Exposure Compensation : 0
Max Aperture Value : 2.3
Metering Mode : Spot
Light Source : Unknown
Flash : Off, Did not fire
Focal Length : 17.7 mm
Sensing Method : One-chip color area
Scene Type : Directly photographed
Custom Rendered : Normal
Exposure Mode : Auto
White Balance : Auto
Digital Zoom Ratio : 0
Focal Length In 35mm Format : 90 mm
Scene Capture Type : Standard
Gain Control : None
Contrast : Normal
Saturation : Normal
Sharpness : Normal
Profile Description : sRGB IEC61966-2.1
Label : Red
Creator Tool : Adobe Photoshop Lightroom 5.0 (Macintosh)
Date Created : 2013:10:08 18:35:05
Format : image/jpeg
Version : 8.2
Process Version : 6.7
Auto White Version : 134348800
Color Temperature : 4614
Tint : +7
Luminance Smoothing : 0
Color Noise Reduction : 25
Vignette Amount : 0
Shadow Tint : 0
Red Hue : 0
Red Saturation : 0
Green Hue : 0
Green Saturation : 0
Blue Hue : 0
Blue Saturation : 0
Vibrance : +22
Hue Adjustment Red : 0
Hue Adjustment Orange : 0
Hue Adjustment Yellow : 0
Hue Adjustment Green : 0
Hue Adjustment Aqua : 0
Hue Adjustment Blue : 0
Hue Adjustment Purple : 0
Hue Adjustment Magenta : 0
Saturation Adjustment Red : +18
Saturation Adjustment Orange : +81
Saturation Adjustment Yellow : +2
Saturation Adjustment Green : 0
Saturation Adjustment Aqua : +2
Saturation Adjustment Blue : +100
Saturation Adjustment Purple : +72
Saturation Adjustment Magenta : -17
Luminance Adjustment Red : 0
Luminance Adjustment Orange : 0
Luminance Adjustment Yellow : 0
Luminance Adjustment Green : 0
Luminance Adjustment Aqua : 0
Luminance Adjustment Blue : 0
Luminance Adjustment Purple : 0
Luminance Adjustment Magenta : 0
Split Toning Shadow Hue : 0
Split Toning Shadow Saturation : 0
Split Toning Highlight Hue : 0
Split Toning Highlight Saturation : 0
Split Toning Balance : 0
Parametric Shadows : 0
Parametric Darks : 0
Parametric Lights : 0
Parametric Highlights : 0
Parametric Shadow Split : 25
Parametric Midtone Split : 50
Parametric Highlight Split : 75
Sharpen Radius : +1.0
Sharpen Detail : 25
Sharpen Edge Masking : 0
Post Crop Vignette Amount : 0
Grain Amount : 0
Color Noise Reduction Detail : 50
Color Noise Reduction Smoothness : 50
Lens Profile Enable : 0
Lens Manual Distortion Amount : 0
Perspective Vertical : 0
Perspective Horizontal : 0
Perspective Rotate : 0.0
Perspective Scale : 100
Perspective Aspect : 0
Perspective Upright : Off
Auto Lateral CA : 0
Exposure 2012 : 0.00
Contrast 2012 : -21
Highlights 2012 : +31
Shadows 2012 : +17
Whites 2012 : +2
Blacks 2012 : 0
Clarity 2012 : 0
Defringe Purple Amount : 0
Defringe Purple Hue Lo : 30
Defringe Purple Hue Hi : 70
Defringe Green Amount : 0
Defringe Green Hue Lo : 40
Defringe Green Hue Hi : 60
Convert To Grayscale : False
Tone Curve Name 2012 : Linear
Camera Profile : Adobe Standard
Lens Profile Setup : LensDefaults
Has Settings : True
Has Crop : False
Already Applied : True
Tone Curve PV2012 : 0, 0, 255, 255
Tone Curve PV2012 Red : 0, 0, 255, 255
Tone Curve PV2012 Green : 0, 0, 255, 255
Tone Curve PV2012 Blue : 0, 0, 255, 255
Gradient Based Corr What : Correction
Gradient Based Corr Amount : 1.000000
Gradient Based Corr Active : true
Gradient Based Corr Saturation : 0.000000
Gradient Based Corr Sharpness : 0.000000
Gradient Based Corr Brightness : 0.000000
Gradient Based Corr Toning Hue : 240.000000
Gradient Based Corr Toning Saturation : 0.000000
Gradient Based Corr Exposure 2012 : -0.398805
Gradient Based Corr Contrast 2012 : -0.014430
Gradient Based Corr Highlights 2012 : 0.000000
Gradient Based Corr Shadows 2012 : -0.018382
Gradient Based Corr Clarity 2012 : 0.000000
Gradient Based Corr Luminance Noise : 0.000000
Gradient Based Corr Moire : 0.000000
Gradient Based Corr Defringe : 0.000000
Gradient Based Corr Temperature : 0.000000
Gradient Based Corr Tint : 0.000000
Gradient Based Corr Mask What : Mask/Gradient
Gradient Based Corr Mask Value : 1.000000
Gradient Based Corr Mask Zero X : 0.782060
Gradient Based Corr Mask Zero Y : 0.519786
Gradient Based Corr Mask Full X : 0.999402
Gradient Based Corr Mask Full Y : 0.493245
Image Width : 169
Image Height : 300
Bits Per Sample : 8
Color Components : 3
Aperture : 2.8
Image Size : 169x300
Megapixels : 0.051
Scale Factor To 35 mm Equivalent : 5.1
Shutter Speed : 1/320
Circle Of Confusion : 0.006 mm
Field Of View : 22.6 deg
Focal Length : 17.7 mm (35 mm equivalent: 90.0 mm)
Hyperfocal Distance : 18.94 m
Light Value : 11.6