Uber Exif Photo
Copyright Flag : False
Make : Panasonic
Camera Model Name : DMC-FZ18
Orientation : Horizontal (normal)
Software : Adobe Photoshop CS3 Windows
Modify Date : 2013:10:19 19:32:39
Exposure Time : 1/500
F Number : 4.5
Exposure Program : Shutter speed priority AE
ISO : 100
Date/Time Original : 2013:07:31 16:33:28
Create Date : 2013:07:31 16:33:28
Shutter Speed Value : 1/500
Aperture Value : 4.5
Exposure Compensation : 0
Max Aperture Value : 2.8
Metering Mode : Multi-segment
Light Source : Unknown
Focal Length : 4.6 mm
Color Space : sRGB
Exif Image Width : 3166
Exif Image Height : 2054
Sensing Method : One-chip color area
Scene Type : Directly photographed
Custom Rendered : Normal
Exposure Mode : Auto
White Balance : Auto
Digital Zoom Ratio : 0
Focal Length In 35mm Format : 28 mm
Scene Capture Type : Standard
Gain Control : None
Contrast : High
Saturation : Normal
Sharpness : Soft
Date/Time Digitized : 2013:07:31 16:33:28+02:00
Creator Tool : Adobe Photoshop CS3 Windows
Rating : 0
Format : image/jpeg
Raw File Name : P1110645.JPG
Version : 4.4.1
Incremental Temperature : 0
Incremental Tint : 0
Exposure : 0.00
Shadows : 3
Brightness : +12
Luminance Smoothing : 0
Color Noise Reduction : 0
Chromatic Aberration R : 0
Chromatic Aberration B : 0
Vignette Amount : 0
Shadow Tint : 0
Red Hue : 0
Red Saturation : 0
Green Hue : 0
Green Saturation : 0
Blue Hue : 0
Blue Saturation : 0
Fill Light : 0
Vibrance : +25
Highlight Recovery : 23
Clarity : 58
Defringe : 0
Hue Adjustment Red : 0
Hue Adjustment Orange : 0
Hue Adjustment Yellow : 0
Hue Adjustment Green : 0
Hue Adjustment Aqua : 0
Hue Adjustment Blue : 0
Hue Adjustment Purple : 0
Hue Adjustment Magenta : 0
Saturation Adjustment Red : 0
Saturation Adjustment Orange : 0
Saturation Adjustment Yellow : 0
Saturation Adjustment Green : 0
Saturation Adjustment Aqua : 0
Saturation Adjustment Blue : 0
Saturation Adjustment Purple : 0
Saturation Adjustment Magenta : 0
Luminance Adjustment Red : 0
Luminance Adjustment Orange : 0
Luminance Adjustment Yellow : 0
Luminance Adjustment Green : 0
Luminance Adjustment Aqua : 0
Luminance Adjustment Blue : 0
Luminance Adjustment Purple : 0
Luminance Adjustment Magenta : 0
Split Toning Shadow Hue : 0
Split Toning Shadow Saturation : 0
Split Toning Highlight Hue : 0
Split Toning Highlight Saturation : 0
Split Toning Balance : 0
Parametric Shadows : 0
Parametric Darks : 0
Parametric Lights : 0
Parametric Highlights : 0
Parametric Shadow Split : 25
Parametric Midtone Split : 50
Parametric Highlight Split : 75
Sharpen Radius : +1.0
Sharpen Detail : 25
Sharpen Edge Masking : 0
Convert To Grayscale : False
Tone Curve Name : Linear
Camera Profile : Embedded
Has Settings : True
Has Crop : False
Already Applied : True
Color Mode : RGB
ICC Profile Name : sRGB IEC61966-2.1
Flash Fired : False
Flash Return : No return detection
Flash Mode : Off
Flash Function : False
Flash Red Eye Mode : False
Tone Curve : 0, 0, 255, 255
Image Width : 300
Image Height : 195
Bits Per Sample : 8
Color Components : 1
Aperture : 4.5
Image Size : 300x195
Megapixels : 0.059
Scale Factor To 35 mm Equivalent : 6.1
Shutter Speed : 1/500
Flash : Off, Did not fire
Circle Of Confusion : 0.005 mm
Field Of View : 65.5 deg
Focal Length : 4.6 mm (35 mm equivalent: 28.0 mm)
Hyperfocal Distance : 0.95 m
Light Value : 13.3