Uber Exif Photo
Keywords : williamstown
Make : Leica Camera AG
Camera Model Name : M9 Digital Camera
Software : Adobe Photoshop Lightroom 5.0 (Macintosh)
Modify Date : 2013:10:02 00:05:22
Exposure Time : 1/3000
F Number : 2.8
Exposure Program : Aperture-priority AE
ISO : 160
Date/Time Original : 2013:09:21 16:31:16
Create Date : 2013:09:21 16:31:16
Shutter Speed Value : 1/3000
Aperture Value : 2.8
Exposure Compensation : +0.332
Max Aperture Value : 2.0
Metering Mode : Center-weighted average
Light Source : Other
Flash : No Flash
Focal Length : 90.0 mm
Contrast : Normal
Sharpening : Normal
Saturation : Normal
White Balance : Manual
JPEG Quality : Fine
WB RGB Levels : 0.5420140267 1 0.758272782
User Profile :
JPEG Size : 5216x3472
Firmware Version : 1.196
Base ISO : 160
Sensor Width : 5270
Sensor Height : 3516
Sensor Bit Depth : 14
Camera Temperature : 18 C
Lens Type : Apo-Summicron-M 90mm f/2 ASPH.
Approximate F Number : 3.0
Measured LV : 7.47
External Sensor Brightness Value : 6.27
Scene Type : Directly photographed
Exposure Mode : Manual
Digital Zoom Ratio : 0
Focal Length In 35mm Format : 90 mm
Scene Capture Type : Standard
Serial Number : 4337829
Lens Model : Leica Apo-Summicron-M 90mm f/2 ASPH.
Maker Note Safety : Safe
Profile Description : sRGB IEC61966-2.1
Creator Tool : Adobe Photoshop Lightroom 5.0 (Macintosh)
Lens : Leica Apo-Summicron-M 90mm f/2 ASPH.
Date Created : 2013:09:21 16:31:16
Format : image/jpeg
Version : 8.2
Process Version : 6.7
Auto White Version : 134348800
Color Temperature : 5328
Tint : -18
Sharpness : 0
Luminance Smoothing : 0
Color Noise Reduction : 0
Vignette Amount : 0
Shadow Tint : 0
Red Hue : 0
Red Saturation : 0
Green Hue : 0
Green Saturation : 0
Blue Hue : 0
Blue Saturation : 0
Vibrance : -1
Hue Adjustment Red : 0
Hue Adjustment Orange : 0
Hue Adjustment Yellow : 0
Hue Adjustment Green : 0
Hue Adjustment Aqua : 0
Hue Adjustment Blue : 0
Hue Adjustment Purple : 0
Hue Adjustment Magenta : 0
Saturation Adjustment Red : 0
Saturation Adjustment Orange : +49
Saturation Adjustment Yellow : +71
Saturation Adjustment Green : +4
Saturation Adjustment Aqua : +27
Saturation Adjustment Blue : +78
Saturation Adjustment Purple : 0
Saturation Adjustment Magenta : 0
Luminance Adjustment Red : 0
Luminance Adjustment Orange : 0
Luminance Adjustment Yellow : 0
Luminance Adjustment Green : 0
Luminance Adjustment Aqua : 0
Luminance Adjustment Blue : 0
Luminance Adjustment Purple : 0
Luminance Adjustment Magenta : 0
Split Toning Shadow Hue : 0
Split Toning Shadow Saturation : 0
Split Toning Highlight Hue : 0
Split Toning Highlight Saturation : 0
Split Toning Balance : -75
Parametric Shadows : 0
Parametric Darks : 0
Parametric Lights : 0
Parametric Highlights : 0
Parametric Shadow Split : 25
Parametric Midtone Split : 50
Parametric Highlight Split : 75
Sharpen Radius : +1.0
Sharpen Detail : 25
Sharpen Edge Masking : 0
Post Crop Vignette Amount : 0
Grain Amount : 0
Lens Profile Enable : 0
Lens Manual Distortion Amount : 0
Perspective Vertical : 0
Perspective Horizontal : 0
Perspective Rotate : 0.0
Perspective Scale : 100
Perspective Aspect : 0
Perspective Upright : Off
Auto Lateral CA : 0
Exposure 2012 : +0.10
Contrast 2012 : +8
Highlights 2012 : -9
Shadows 2012 : +48
Whites 2012 : -36
Blacks 2012 : -36
Clarity 2012 : +64
Defringe Purple Amount : 0
Defringe Purple Hue Lo : 30
Defringe Purple Hue Hi : 70
Defringe Green Amount : 0
Defringe Green Hue Lo : 40
Defringe Green Hue Hi : 60
Convert To Grayscale : False
Tone Curve Name 2012 : Linear
Camera Profile : Adobe Standard
Lens Profile Setup : LensDefaults
Has Settings : True
Crop Top : 0.047071
Crop Left : 0.102997
Crop Bottom : 0.86325
Crop Right : 0.964938
Crop Angle : -2.07569
Crop Constrain To Warp : 0
Has Crop : True
Already Applied : True
Subject : williamstown
Tone Curve PV2012 : 0, 0, 255, 255
Tone Curve PV2012 Red : 0, 0, 255, 255
Tone Curve PV2012 Green : 0, 0, 255, 255
Tone Curve PV2012 Blue : 0, 0, 255, 255
Image Width : 300
Image Height : 205
Bits Per Sample : 8
Color Components : 3
Aperture : 2.8
Blue Balance : 0.758273
Image Size : 300x205
Lens ID : Leica Apo-Summicron-M 90mm f/2 ASPH.
Megapixels : 0.061
Red Balance : 0.542014
Scale Factor To 35 mm Equivalent : 1.0
Shutter Speed : 1/3000
Circle Of Confusion : 0.030 mm
Field Of View : 22.6 deg
Focal Length : 90.0 mm (35 mm equivalent: 90.0 mm)
Hyperfocal Distance : 96.28 m
Light Value : 13.8