Uber Exif Photo
Make : Leica Camera AG
Camera Model Name : M9 Digital Camera
Software : Adobe Photoshop Lightroom 5.0 (Macintosh)
Modify Date : 2013:09:26 21:38:41
Exposure Time : 1/125
F Number : 2.8
Exposure Program : Manual
ISO : 400
Date/Time Original : 2013:08:24 19:42:29
Create Date : 2013:08:24 19:42:29
Shutter Speed Value : 1/125
Aperture Value : 2.8
Exposure Compensation : -0.664
Max Aperture Value : 2.0
Metering Mode : Center-weighted average
Light Source : Unknown
Flash : No Flash
Focal Length : 50.0 mm
Scene Type : Directly photographed
Exposure Mode : Auto bracket
White Balance : Auto
Digital Zoom Ratio : 0
Focal Length In 35mm Format : 50 mm
Scene Capture Type : Standard
Serial Number : 4424501
Lens Model : Leica Summicron-M 50mm f/2 (IV, V)
Creator Tool : Adobe Photoshop Lightroom 5.0 (Macintosh)
Lens : Leica Summicron-M 50mm f/2 (IV, V)
Date Created : 2013:08:24 19:42:29
Format : image/jpeg
Version : 8.2
Process Version : 6.7
Auto White Version : 134348800
Color Temperature : 10738
Tint : +12
Sharpness : 25
Luminance Smoothing : 0
Color Noise Reduction : 25
Vignette Amount : 0
Shadow Tint : -53
Red Hue : -2
Red Saturation : -60
Green Hue : +35
Green Saturation : 0
Blue Hue : +25
Blue Saturation : 0
Gray Mixer Red : -12
Gray Mixer Orange : -22
Gray Mixer Yellow : -26
Gray Mixer Green : -28
Gray Mixer Aqua : -15
Gray Mixer Blue : +17
Gray Mixer Purple : +20
Gray Mixer Magenta : +4
Split Toning Shadow Hue : 0
Split Toning Shadow Saturation : 0
Split Toning Highlight Hue : 0
Split Toning Highlight Saturation : 0
Split Toning Balance : 0
Parametric Shadows : 0
Parametric Darks : 0
Parametric Lights : 0
Parametric Highlights : 0
Parametric Shadow Split : 25
Parametric Midtone Split : 50
Parametric Highlight Split : 75
Sharpen Radius : +1.0
Sharpen Detail : 25
Sharpen Edge Masking : 0
Post Crop Vignette Amount : -42
Post Crop Vignette Midpoint : 89
Post Crop Vignette Feather : 50
Post Crop Vignette Roundness : +100
Post Crop Vignette Style : Highlight Priority
Post Crop Vignette Highlight Contrast : 0
Grain Amount : 0
Color Noise Reduction Detail : 50
Color Noise Reduction Smoothness : 50
Lens Profile Enable : 0
Lens Manual Distortion Amount : 0
Perspective Vertical : 0
Perspective Horizontal : 0
Perspective Rotate : 0.0
Perspective Scale : 100
Perspective Aspect : 0
Perspective Upright : Off
Auto Lateral CA : 0
Exposure 2012 : +2.05
Contrast 2012 : +54
Highlights 2012 : 0
Shadows 2012 : 0
Whites 2012 : 0
Blacks 2012 : 0
Clarity 2012 : -5
Convert To Grayscale : True
Tone Curve Name 2012 : Linear
Camera Profile : Adobe Standard
Lens Profile Setup : LensDefaults
Has Settings : True
Crop Top : 0.198961
Crop Left : 0.306411
Crop Bottom : 0.87425
Crop Right : 0.912591
Crop Angle : 0
Crop Constrain To Warp : 0
Has Crop : True
Already Applied : True
Tone Curve PV2012 : 0, 0, 255, 255
Tone Curve PV2012 Red : 0, 0, 255, 255
Tone Curve PV2012 Green : 0, 0, 255, 255
Tone Curve PV2012 Blue : 0, 0, 255, 255
Image Width : 300
Image Height : 222
Bits Per Sample : 8
Color Components : 1
Aperture : 2.8
Image Size : 300x222
Megapixels : 0.067
Scale Factor To 35 mm Equivalent : 1.0
Shutter Speed : 1/125
Circle Of Confusion : 0.030 mm
Field Of View : 39.6 deg
Focal Length : 50.0 mm (35 mm equivalent: 50.0 mm)
Hyperfocal Distance : 29.72 m
Light Value : 7.9
Lens ID : Summicron-M 50mm f/2 (IV, V)