Uber Exif Photo
Make : Leica Camera AG
Camera Model Name : M9 Digital Camera
Software : Adobe Photoshop Lightroom 5.0 (Macintosh)
Modify Date : 2013:09:17 09:06:02
Exposure Time : 1/500
F Number : 5.7
Exposure Program : Aperture-priority AE
ISO : 160
Date/Time Original : 2013:06:19 12:35:17
Create Date : 2013:06:19 12:35:17
Shutter Speed Value : 1/500
Aperture Value : 5.7
Exposure Compensation : +0.332
Max Aperture Value : 1.4
Metering Mode : Center-weighted average
Light Source : Daylight
Flash : No Flash
Focal Length : 50.0 mm
Scene Type : Directly photographed
Exposure Mode : Manual
White Balance : Manual
Digital Zoom Ratio : 0
Focal Length In 35mm Format : 50 mm
Scene Capture Type : Standard
Serial Number : 4253838
Lens Model : Leica Summilux-M 50mm f/1.4 ASPH.
Profile Description : sRGB IEC61966-2.1
Creator Tool : Adobe Photoshop Lightroom 5.0 (Macintosh)
Rating : 2
Lens : Leica Summilux-M 50mm f/1.4 ASPH.
Date Created : 2013:06:19 12:35:17
Format : image/jpeg
Version : 8.1
Process Version : 6.7
Color Temperature : 4671
Tint : +10
Saturation : 0
Sharpness : 25
Luminance Smoothing : 0
Color Noise Reduction : 25
Vignette Amount : 0
Shadow Tint : 0
Red Hue : 0
Red Saturation : 0
Green Hue : 0
Green Saturation : 0
Blue Hue : 0
Blue Saturation : 0
Vibrance : 0
Hue Adjustment Red : 0
Hue Adjustment Orange : 0
Hue Adjustment Yellow : 0
Hue Adjustment Green : 0
Hue Adjustment Aqua : 0
Hue Adjustment Blue : 0
Hue Adjustment Purple : 0
Hue Adjustment Magenta : 0
Saturation Adjustment Red : 0
Saturation Adjustment Orange : 0
Saturation Adjustment Yellow : 0
Saturation Adjustment Green : 0
Saturation Adjustment Aqua : 0
Saturation Adjustment Blue : 0
Saturation Adjustment Purple : 0
Saturation Adjustment Magenta : 0
Luminance Adjustment Red : 0
Luminance Adjustment Orange : 0
Luminance Adjustment Yellow : 0
Luminance Adjustment Green : 0
Luminance Adjustment Aqua : 0
Luminance Adjustment Blue : 0
Luminance Adjustment Purple : 0
Luminance Adjustment Magenta : 0
Split Toning Shadow Hue : 0
Split Toning Shadow Saturation : 0
Split Toning Highlight Hue : 0
Split Toning Highlight Saturation : 0
Split Toning Balance : 0
Parametric Shadows : 0
Parametric Darks : 0
Parametric Lights : 0
Parametric Highlights : 0
Parametric Shadow Split : 25
Parametric Midtone Split : 50
Parametric Highlight Split : 75
Sharpen Radius : +1.0
Sharpen Detail : 25
Sharpen Edge Masking : 0
Post Crop Vignette Amount : 0
Grain Amount : 0
Color Noise Reduction Detail : 50
Lens Profile Enable : 1
Lens Manual Distortion Amount : 0
Perspective Vertical : 0
Perspective Horizontal : 0
Perspective Rotate : 0.0
Perspective Scale : 100
Perspective Aspect : 0
Perspective Upright : Off
Auto Lateral CA : 0
Exposure 2012 : -0.20
Contrast 2012 : 0
Highlights 2012 : 0
Shadows 2012 : 0
Whites 2012 : 0
Blacks 2012 : 0
Clarity 2012 : 0
Defringe Purple Amount : 0
Defringe Purple Hue Lo : 30
Defringe Purple Hue Hi : 70
Defringe Green Amount : 0
Defringe Green Hue Lo : 40
Defringe Green Hue Hi : 60
Convert To Grayscale : False
Tone Curve Name 2012 : Linear
Camera Profile : Adobe Standard
Lens Profile Setup : LensDefaults
Lens Profile Name : Adobe (Leica SUMMILUX-M 50 mm f/1.4 ASPH.)
Lens Profile Filename : Leica Camera AG (Leica SUMMILUX-M 50 mm f1.4 ASPH.) - RAW.lcp
Lens Profile Distortion Scale : 100
Lens Profile Chromatic Aberration Scale : 100
Lens Profile Vignetting Scale : 100
Has Settings : True
Crop Top : 0.026485
Crop Left : 0.05297
Crop Bottom : 0.973515
Crop Right : 1
Crop Angle : 0
Crop Constrain To Warp : 0
Has Crop : True
Already Applied : True
Tone Curve PV2012 : 0, 0, 255, 255
Tone Curve PV2012 Red : 0, 0, 255, 255
Tone Curve PV2012 Green : 0, 0, 255, 255
Tone Curve PV2012 Blue : 0, 0, 255, 255
Image Width : 300
Image Height : 200
Bits Per Sample : 8
Color Components : 3
Aperture : 5.7
Image Size : 300x200
Megapixels : 0.060
Scale Factor To 35 mm Equivalent : 1.0
Shutter Speed : 1/500
Circle Of Confusion : 0.030 mm
Field Of View : 39.6 deg
Focal Length : 50.0 mm (35 mm equivalent: 50.0 mm)
Hyperfocal Distance : 14.60 m
Light Value : 13.3
Lens ID : Summilux-M 50mm f/1.4 ASPH.