Uber Exif Photo
By-line : Picasa
Make : LEICA
Camera Model Name : D-LUX 6
Software : Adobe Photoshop Lightroom 4.4 (Windows)
Modify Date : 2013:08:20 13:47:14
Artist : Picasa
Exposure Time : 1/2000
F Number : 2.2
Exposure Program : Aperture-priority AE
ISO : 80
Sensitivity Type : Standard Output Sensitivity
Date/Time Original : 2013:05:16 16:49:46
Create Date : 2013:05:16 16:49:46
Shutter Speed Value : 1/2000
Aperture Value : 2.2
Exposure Compensation : -0.33
Max Aperture Value : 1.4
Metering Mode : Multi-segment
Light Source : Unknown
Flash : Off, Did not fire
Focal Length : 4.7 mm
Exif Image Width : 1600
Exif Image Height : 1067
Related Image Width : 4750
Related Image Height : 3167
Sensing Method : One-chip color area
Scene Type : Directly photographed
Custom Rendered : Normal
Exposure Mode : Auto
White Balance : Auto
Digital Zoom Ratio : 0
Focal Length In 35mm Format : 24 mm
Scene Capture Type : Standard
Gain Control : None
Contrast : Normal
Saturation : Normal
Sharpness : Normal
Creator Tool : Adobe Photoshop Lightroom 4.4 (Windows)
Date Created : 2013:05:16 16:49:46
Format : image/jpeg
Version : 7.4
Process Version : 6.7
Incremental Temperature : 0
Incremental Tint : 0
Luminance Smoothing : 0
Color Noise Reduction : 0
Vignette Amount : 0
Shadow Tint : 0
Red Hue : 0
Red Saturation : 0
Green Hue : 0
Green Saturation : 0
Blue Hue : 0
Blue Saturation : 0
Gray Mixer Red : 0
Gray Mixer Orange : 0
Gray Mixer Yellow : 0
Gray Mixer Green : 0
Gray Mixer Aqua : 0
Gray Mixer Blue : 0
Gray Mixer Purple : 0
Gray Mixer Magenta : 0
Split Toning Shadow Hue : 0
Split Toning Shadow Saturation : 0
Split Toning Highlight Hue : 0
Split Toning Highlight Saturation : 0
Split Toning Balance : 0
Parametric Shadows : 0
Parametric Darks : 0
Parametric Lights : 0
Parametric Highlights : 0
Parametric Shadow Split : 25
Parametric Midtone Split : 50
Parametric Highlight Split : 75
Sharpen Radius : +1.0
Sharpen Detail : 25
Sharpen Edge Masking : 0
Post Crop Vignette Amount : 0
Grain Amount : 0
Lens Profile Enable : 0
Lens Manual Distortion Amount : 0
Perspective Vertical : 0
Perspective Horizontal : 0
Perspective Rotate : 0.0
Perspective Scale : 100
Auto Lateral CA : 0
Exposure 2012 : -0.16
Contrast 2012 : -100
Highlights 2012 : -90
Shadows 2012 : -66
Whites 2012 : -8
Blacks 2012 : -55
Clarity 2012 : -77
Convert To Grayscale : True
Tone Curve Name 2012 : Linear
Camera Profile : Embedded
Lens Profile Setup : LensDefaults
Has Settings : True
Crop Top : 0.00021
Crop Left : 0
Crop Bottom : 0.99979
Crop Right : 1
Crop Angle : 0
Crop Constrain To Warp : 0
Crop Width : 4750
Crop Height : 3167
Crop Unit : pixels
Has Crop : True
Already Applied : True
Creator : Picasa
Tone Curve PV2012 : 0, 0, 255, 255
Tone Curve PV2012 Red : 0, 0, 255, 255
Tone Curve PV2012 Green : 0, 0, 255, 255
Tone Curve PV2012 Blue : 0, 0, 255, 255
Image Width : 300
Image Height : 200
Bits Per Sample : 8
Color Components : 1
Aperture : 2.2
Image Size : 300x200
Megapixels : 0.060
Scale Factor To 35 mm Equivalent : 5.1
Shutter Speed : 1/2000
Circle Of Confusion : 0.006 mm
Field Of View : 73.7 deg
Focal Length : 4.7 mm (35 mm equivalent: 24.0 mm)
Hyperfocal Distance : 1.71 m
Light Value : 13.6