Uber Exif Photo
Keywords : IR
Make : NIKON CORPORATION
Camera Model Name : NIKON D70
Software : Adobe Photoshop Lightroom 5.0 (Macintosh)
Modify Date : 2013:08:07 23:16:31
Exposure Time : 1/60
F Number : 5.6
Exposure Program : Program AE
ISO : 1000
Date/Time Original : 2013:06:29 12:02:32
Create Date : 2013:06:29 12:02:32
Shutter Speed Value : 1/60
Aperture Value : 5.6
Exposure Compensation : 0
Max Aperture Value : 5.7
Metering Mode : Multi-segment
Light Source : Unknown
Flash : No Flash
Focal Length : 55.0 mm
Sensing Method : One-chip color area
Scene Type : Directly photographed
CFA Pattern : [Blue,Green][Green,Red]
Custom Rendered : Normal
Exposure Mode : Auto
White Balance : Manual
Digital Zoom Ratio : 1
Focal Length In 35mm Format : 82 mm
Scene Capture Type : Standard
Gain Control : Low gain up
Contrast : Low
Saturation : Normal
Sharpness : Soft
Subject Distance Range : Unknown
Serial Number : 0002a906
Lens Info : 18-55mm f/3.5-5.6
Lens Model : 18.0-55.0 mm f/3.5-5.6
Creator Tool : Adobe Photoshop Lightroom 5.0 (Macintosh)
Lens : 18.0-55.0 mm f/3.5-5.6
Image Number : 7359
Approximate Focus Distance : 0.38
Date Created : 2013:06:29 12:02:32.80
Format : image/jpeg
Version : 8.1
Process Version : 6.7
Incremental Temperature : 0
Incremental Tint : 0
Luminance Smoothing : 0
Color Noise Reduction : 0
Vignette Amount : 0
Shadow Tint : 0
Red Hue : 0
Red Saturation : 0
Green Hue : 0
Green Saturation : 0
Blue Hue : 0
Blue Saturation : 0
Gray Mixer Red : -10
Gray Mixer Orange : -16
Gray Mixer Yellow : -19
Gray Mixer Green : -22
Gray Mixer Aqua : -15
Gray Mixer Blue : +7
Gray Mixer Purple : +11
Gray Mixer Magenta : +1
Split Toning Shadow Hue : 0
Split Toning Shadow Saturation : 0
Split Toning Highlight Hue : 0
Split Toning Highlight Saturation : 0
Split Toning Balance : 0
Parametric Shadows : 0
Parametric Darks : 0
Parametric Lights : 0
Parametric Highlights : 0
Parametric Shadow Split : 25
Parametric Midtone Split : 50
Parametric Highlight Split : 75
Sharpen Radius : +1.0
Sharpen Detail : 25
Sharpen Edge Masking : 0
Post Crop Vignette Amount : 0
Grain Amount : 0
Lens Profile Enable : 0
Lens Manual Distortion Amount : 0
Perspective Vertical : 0
Perspective Horizontal : 0
Perspective Rotate : 0.0
Perspective Scale : 100
Perspective Aspect : 0
Perspective Upright : Off
Auto Lateral CA : 0
Exposure 2012 : 0.00
Contrast 2012 : 0
Highlights 2012 : -21
Shadows 2012 : -100
Whites 2012 : -7
Blacks 2012 : -88
Clarity 2012 : +29
Convert To Grayscale : True
Tone Curve Name 2012 : Linear
Camera Profile : Embedded
Lens Profile Setup : LensDefaults
Has Settings : True
Has Crop : False
Already Applied : True
Subject : IR
Tone Curve PV2012 : 0, 0, 255, 255
Tone Curve PV2012 Red : 0, 0, 255, 255
Tone Curve PV2012 Green : 0, 0, 255, 255
Tone Curve PV2012 Blue : 0, 0, 255, 255
Image Width : 199
Image Height : 300
Bits Per Sample : 8
Color Components : 1
Aperture : 5.6
Image Size : 199x300
Megapixels : 0.060
Scale Factor To 35 mm Equivalent : 1.5
Shutter Speed : 1/60
Create Date : 2013:06:29 12:02:32.80
Date/Time Original : 2013:06:29 12:02:32.80
Circle Of Confusion : 0.020 mm
Depth Of Field : 0.009 m (0.375 - 0.385 m)
Field Of View : 24.8 deg
Focal Length : 55.0 mm (35 mm equivalent: 82.0 mm)
Hyperfocal Distance : 26.80 m
Light Value : 7.6
Lens ID : AF-S DX VR Zoom-Nikkor 18-55mm f/3.5-5.6G