Uber Exif Photo
Object Name : Leica M Monochrom with Macro-Elmarit-R 60/2.8
Keywords : B&W, Leica M Monochrom, leica Macro-Elmarit-r 60/2.8
Copyright Notice : dierk topp
Caption-Abstract : light: two remote flashes Nikon SB800, PP: LR4 and Nik SIlver Efex
Copyright Flag : True
Image Description : light: two remote flashes Nikon SB800, PP: LR4 and Nik SIlver Efex
Make : Leica Camera AG
Camera Model Name : M Monochrom
Software : Adobe Photoshop Lightroom 4.2 (Windows)
Modify Date : 2013:03:20 15:40:02
Copyright : dierk topp
Exposure Time : 1/90
Exposure Program : Manual
ISO : 320
Date/Time Original : 2013:03:19 15:46:35
Create Date : 2013:03:19 15:46:35
Shutter Speed Value : 1/90
Exposure Compensation : +0.332
Max Aperture Value : 1.0
Metering Mode : Center-weighted average
Light Source : Unknown
Flash : No Flash
Color Space : Uncalibrated
Scene Type : Directly photographed
Exposure Mode : Manual
Digital Zoom Ratio : 0
Scene Capture Type : Standard
Serial Number : 4343114
Profile Description : sRGB IEC61966-2.1
Description : light: two remote flashes Nikon SB800, PP: LR4 and Nik SIlver Efex
Format : image/jpeg
Rights : dierk topp
Subject : B&W, Leica M Monochrom, leica Macro-Elmarit-r 60/2.8
Title : Leica M Monochrom with Macro-Elmarit-R 60/2.8
Saturation : Normal
Sharpness : Normal
Date Created : 2013:03:19 15:46:35
Property Release Status : Unknown (nil)
PLUS Version : 1.2.0
Creator Tool : Adobe Photoshop Lightroom 4.2 (Windows)
Rating : 5
Marked : True
Already Applied : True
Blue Hue : 0
Blue Saturation : 0
Camera Profile : Embedded
Color Noise Reduction : 0
Convert To Grayscale : False
Grain Amount : 0
Green Hue : 0
Green Saturation : 0
Has Crop : False
Has Settings : True
Hue Adjustment Aqua : 0
Hue Adjustment Blue : 0
Hue Adjustment Green : 0
Hue Adjustment Magenta : 0
Hue Adjustment Orange : 0
Hue Adjustment Purple : 0
Hue Adjustment Red : 0
Hue Adjustment Yellow : 0
Incremental Temperature : 0
Incremental Tint : 0
Lens Manual Distortion Amount : 0
Lens Profile Enable : 0
Lens Profile Setup : LensDefaults
Luminance Adjustment Aqua : 0
Luminance Adjustment Blue : 0
Luminance Adjustment Green : 0
Luminance Adjustment Magenta : 0
Luminance Adjustment Orange : 0
Luminance Adjustment Purple : 0
Luminance Adjustment Red : 0
Luminance Adjustment Yellow : 0
Luminance Smoothing : 0
Parametric Darks : 0
Parametric Highlight Split : 75
Parametric Highlights : 0
Parametric Lights : -15
Parametric Midtone Split : 50
Parametric Shadow Split : 25
Parametric Shadows : 0
Perspective Horizontal : 0
Perspective Rotate : 0.0
Perspective Scale : 100
Perspective Vertical : 0
Post Crop Vignette Amount : 0
Process Version : 6.7
Red Hue : 0
Red Saturation : 0
Saturation Adjustment Aqua : 0
Saturation Adjustment Blue : 0
Saturation Adjustment Green : 0
Saturation Adjustment Magenta : 0
Saturation Adjustment Orange : 0
Saturation Adjustment Purple : 0
Saturation Adjustment Red : 0
Saturation Adjustment Yellow : 0
Shadow Tint : 0
Sharpen Detail : 25
Sharpen Edge Masking : 0
Sharpen Radius : +1.0
Split Toning Balance : 0
Split Toning Highlight Hue : 0
Split Toning Highlight Saturation : 0
Split Toning Shadow Hue : 0
Split Toning Shadow Saturation : 0
Version : 7.2
Vibrance : 0
Vignette Amount : 0
Image Width : 212
Image Height : 300
Bits Per Sample : 8
Color Components : 3
Image Size : 212x300
Megapixels : 0.064
Scale Factor To 35 mm Equivalent : 17.1
Shutter Speed : 1/90
Circle Of Confusion : 0.002 mm