Uber Exif Photo
Make : LEICA CAMERA AG
Camera Model Name : LEICA X2
Software : Adobe Photoshop Lightroom 4.3 (Windows)
Modify Date : 2013:03:19 20:19:39
Exposure Time : 1/60
F Number : 5.6
Exposure Program : Aperture-priority AE
ISO : 100
Date/Time Original : 2013:03:17 14:07:31
Create Date : 2013:03:17 14:07:31
Shutter Speed Value : 1/60
Aperture Value : 5.6
Exposure Compensation : 0
Max Aperture Value : 2.8
Metering Mode : Center-weighted average
Light Source : Unknown
Flash : Off, Did not fire
Focal Length : 24.0 mm
Sensing Method : One-chip color area
Custom Rendered : Normal
White Balance : Auto
Digital Zoom Ratio : 1
Focal Length In 35mm Format : 36 mm
Scene Capture Type : Landscape
Contrast : Normal
Saturation : Normal
Sharpness : Normal
Serial Number : 000004335263
Lens Info : 24mm f/2.8
Lens Model : 24.0 mm f/2.8
Creator Tool : Adobe Photoshop Lightroom 4.3 (Windows)
Lens : 24.0 mm f/2.8
Approximate Focus Distance : 10
Date Created : 2013:03:17 14:07:31
Format : image/jpeg
Version : 7.3
Process Version : 6.7
Color Temperature : 5900
Tint : +11
Luminance Smoothing : 0
Color Noise Reduction : 25
Vignette Amount : 0
Shadow Tint : 0
Red Hue : 0
Red Saturation : 0
Green Hue : 0
Green Saturation : 0
Blue Hue : 0
Blue Saturation : 0
Gray Mixer Red : -4
Gray Mixer Orange : -12
Gray Mixer Yellow : -16
Gray Mixer Green : -22
Gray Mixer Aqua : -20
Gray Mixer Blue : +4
Gray Mixer Purple : +12
Gray Mixer Magenta : +5
Split Toning Shadow Hue : 0
Split Toning Shadow Saturation : 0
Split Toning Highlight Hue : 0
Split Toning Highlight Saturation : 0
Split Toning Balance : 0
Parametric Shadows : 0
Parametric Darks : 0
Parametric Lights : 0
Parametric Highlights : 0
Parametric Shadow Split : 25
Parametric Midtone Split : 50
Parametric Highlight Split : 75
Sharpen Radius : +1.3
Sharpen Detail : 16
Sharpen Edge Masking : 0
Post Crop Vignette Amount : -13
Post Crop Vignette Midpoint : 25
Post Crop Vignette Feather : 80
Post Crop Vignette Roundness : 0
Post Crop Vignette Style : Highlight Priority
Post Crop Vignette Highlight Contrast : 0
Grain Amount : 0
Color Noise Reduction Detail : 50
Lens Profile Enable : 0
Lens Manual Distortion Amount : 0
Perspective Vertical : 0
Perspective Horizontal : 0
Perspective Rotate : 0.0
Perspective Scale : 100
Auto Lateral CA : 0
Exposure 2012 : -0.71
Contrast 2012 : +55
Highlights 2012 : +67
Shadows 2012 : +73
Whites 2012 : -24
Blacks 2012 : -29
Clarity 2012 : +46
Convert To Grayscale : True
Tone Curve Name 2012 : Medium Contrast
Camera Profile : Adobe Standard
Lens Profile Setup : LensDefaults
Has Settings : True
Crop Top : 0.01773
Crop Left : 0.01582
Crop Bottom : 0.997731
Crop Right : 0.971982
Crop Angle : 0.652657
Crop Constrain To Warp : 1
Crop Width : 800
Crop Height : 530
Crop Unit : pixels
Has Crop : True
Already Applied : True
Tone Curve PV2012 : 0, 0, 32, 22, 64, 56, 128, 128, 192, 196, 255, 255
Tone Curve PV2012 Red : 0, 0, 255, 255
Tone Curve PV2012 Green : 0, 0, 255, 255
Tone Curve PV2012 Blue : 0, 0, 255, 255
Image Width : 199
Image Height : 300
Bits Per Sample : 8
Color Components : 1
Aperture : 5.6
Image Size : 199x300
Megapixels : 0.060
Scale Factor To 35 mm Equivalent : 1.5
Shutter Speed : 1/60
Circle Of Confusion : 0.020 mm
Depth Of Field : inf (3.40 m - inf)
Field Of View : 53.1 deg
Focal Length : 24.0 mm (35 mm equivalent: 36.0 mm)
Hyperfocal Distance : 5.13 m
Light Value : 10.9
Lens ID : 24.0mm f/2.8