Uber Exif Photo
Object Name : NEX7 with Leica APO-Macro-Elmarit-R 100/2.8
Keywords : Leica-APO-Macro-Elmarit-R 100/2.8, nex-7, vagt
Copyright Notice : dierk topp
Copyright Flag : True
Make : SONY
Camera Model Name : NEX-7
Software : Adobe Photoshop Lightroom 4.2 (Windows)
Modify Date : 2013:02:17 21:42:22
Copyright : dierk topp
Exposure Time : 1/200
Exposure Program : Manual
ISO : 100
Sensitivity Type : Recommended Exposure Index
Recommended Exposure Index : 100
Date/Time Original : 2013:02:17 15:26:00
Create Date : 2013:02:17 15:26:00
Shutter Speed Value : 1/200
Brightness Value : -5.0609375
Exposure Compensation : 0
Max Aperture Value : 1.0
Metering Mode : Multi-segment
Light Source : Unknown
Flash : Off, Did not fire
Color Space : Uncalibrated
Scene Type : Directly photographed
Custom Rendered : Normal
Exposure Mode : Manual
White Balance : Auto
Scene Capture Type : Standard
Contrast : Normal
Saturation : Normal
Sharpness : Normal
Lens Model : ----
Lens : ----
Format : image/jpeg
Rights : dierk topp
Subject : Leica-APO-Macro-Elmarit-R 100/2.8, nex-7, vagt
Title : NEX7 with Leica APO-Macro-Elmarit-R 100/2.8
Date Created : 2013:02:17 15:26:00
Property Release Status : Unknown (nil)
PLUS Version : 1.2.0
Creator Tool : Adobe Photoshop Lightroom 4.2 (Windows)
Rating : 5
Marked : True
Already Applied : True
Blue Hue : 0
Blue Saturation : 0
Camera Profile : Adobe Standard
Color Noise Reduction : 25
Color Noise Reduction Detail : 50
Convert To Grayscale : True
Gradient Based Corr Active : True
Gradient Based Corr Amount : 1.000000
Gradient Based Corr Mask Full X : 0.513597
Gradient Based Corr Mask Full Y : 1.021740
Gradient Based Corr Mask Value : 1.000000
Gradient Based Corr Mask What : Mask/Gradient
Gradient Based Corr Mask Zero X : 0.513597
Gradient Based Corr Mask Zero Y : 0.492754
Gradient Based Corr Brightness : 0.000000
Gradient Based Corr Saturation : 0.000000
Gradient Based Corr Sharpness : 0.626170
Gradient Based Corr Toning Hue : 0.000000
Gradient Based Corr Toning Saturation : 0.000000
Gradient Based Corr What : Correction
Grain Amount : 0
Gray Mixer Aqua : -19
Gray Mixer Blue : +8
Gray Mixer Green : -26
Gray Mixer Magenta : +6
Gray Mixer Orange : -5
Gray Mixer Purple : +16
Gray Mixer Red : +14
Gray Mixer Yellow : -23
Green Hue : 0
Green Saturation : 0
Has Crop : False
Has Settings : True
Lens Manual Distortion Amount : 0
Lens Profile Enable : 0
Lens Profile Setup : LensDefaults
Luminance Smoothing : 0
Parametric Darks : +15
Parametric Highlight Split : 75
Parametric Highlights : 0
Parametric Lights : -23
Parametric Midtone Split : 50
Parametric Shadow Split : 25
Parametric Shadows : 0
Perspective Horizontal : 0
Perspective Rotate : 0.0
Perspective Scale : 100
Perspective Vertical : 0
Post Crop Vignette Amount : 0
Process Version : 6.7
Red Hue : 0
Red Saturation : 0
Shadow Tint : 0
Sharpen Detail : 25
Sharpen Edge Masking : 0
Sharpen Radius : +1.0
Split Toning Balance : 0
Split Toning Highlight Hue : 0
Split Toning Highlight Saturation : 0
Split Toning Shadow Hue : 0
Split Toning Shadow Saturation : 0
Color Temperature : 4950
Tint : -27
Version : 7.2
Vignette Amount : 0
Image Width : 207
Image Height : 300
Bits Per Sample : 8
Color Components : 1
Image Size : 207x300
Megapixels : 0.062
Scale Factor To 35 mm Equivalent : 30.3
Shutter Speed : 1/200
Circle Of Confusion : 0.001 mm