Uber Exif Photo
Keywords : "December 2012", "Leica Digital", "leica Summilux 50mm Asph", Brighton, Family, M9
Make : Leica Camera AG
Camera Model Name : M9 Digital Camera
Software : Adobe Photoshop Lightroom 4.1 (Macintosh)
Modify Date : 2012:12:01 21:40:38
Exposure Time : 1/2000
F Number : 1.4
Exposure Program : Aperture-priority AE
ISO : 250
Date/Time Original : 2012:12:01 16:01:26
Create Date : 2012:12:01 16:01:26
Shutter Speed Value : 1/2000
Aperture Value : 1.4
Exposure Compensation : -0.332
Max Aperture Value : 1.4
Metering Mode : Center-weighted average
Light Source : Unknown
Flash : No Flash
Focal Length : 50.0 mm
Contrast : Normal
Sharpening : Normal
Saturation : Normal
White Balance : Auto
JPEG Quality : Fine
WB RGB Levels : 0.4333589018 1 0.8760091964
User Profile : Profile 1
JPEG Size : 5216x3472
Firmware Version : 1.176
Base ISO : 160
Sensor Width : 5270
Sensor Height : 3516
Sensor Bit Depth : 14
Camera Temperature : 9 C
Lens Type : Summilux-M 50mm f/1.4 (II)
Approximate F Number : 1.0
Measured LV : 6.11
External Sensor Brightness Value : 3.76
Scene Type : Directly photographed
Exposure Mode : Manual
Digital Zoom Ratio : 0
Focal Length In 35mm Format : 50 mm
Scene Capture Type : Standard
Serial Number : 3907400
Lens Model : Leica Summilux-M 50mm f/1.4 (II)
Maker Note Safety : Safe
Creator Tool : Adobe Photoshop Lightroom 4.1 (Macintosh)
Rating : 5
Lens : Leica Summilux-M 50mm f/1.4 (II)
Date Created : 2012:12:01 16:01:26
Format : image/jpeg
Version : 7.1
Process Version : 6.7
Color Temperature : 5957
Tint : +8
Sharpness : 0
Luminance Smoothing : 0
Color Noise Reduction : 25
Vignette Amount : 0
Shadow Tint : 0
Red Hue : 0
Red Saturation : 0
Green Hue : 0
Green Saturation : 0
Blue Hue : 0
Blue Saturation : 0
Gray Mixer Red : -14
Gray Mixer Orange : -24
Gray Mixer Yellow : -29
Gray Mixer Green : -30
Gray Mixer Aqua : -14
Gray Mixer Blue : +21
Gray Mixer Purple : +23
Gray Mixer Magenta : +4
Split Toning Shadow Hue : 0
Split Toning Shadow Saturation : 0
Split Toning Highlight Hue : 0
Split Toning Highlight Saturation : 0
Split Toning Balance : 0
Parametric Shadows : 0
Parametric Darks : 0
Parametric Lights : 0
Parametric Highlights : 0
Parametric Shadow Split : 25
Parametric Midtone Split : 50
Parametric Highlight Split : 75
Sharpen Radius : +1.0
Sharpen Detail : 25
Sharpen Edge Masking : 0
Post Crop Vignette Amount : 0
Grain Amount : 0
Color Noise Reduction Detail : 50
Lens Profile Enable : 0
Lens Manual Distortion Amount : 0
Perspective Vertical : 0
Perspective Horizontal : 0
Perspective Rotate : 0.0
Perspective Scale : 100
Auto Lateral CA : 0
Exposure 2012 : +0.35
Contrast 2012 : +60
Highlights 2012 : -69
Shadows 2012 : 0
Whites 2012 : -90
Blacks 2012 : 0
Clarity 2012 : +17
Convert To Grayscale : True
Tone Curve Name 2012 : Linear
Camera Profile : Adobe Standard
Lens Profile Setup : LensDefaults
Has Settings : True
Crop Top : 0.018081
Crop Left : 0.055898
Crop Bottom : 0.936097
Crop Right : 1
Crop Angle : -0.736325
Crop Constrain To Warp : 0
Crop Width : 2500
Crop Height : 1663
Crop Unit : pixels
Has Crop : True
Already Applied : True
Subject : "December 2012", "Leica Digital", "leica Summilux 50mm Asph", Brighton, Family, M9
Tone Curve PV2012 : 0, 0, 255, 255
Tone Curve PV2012 Red : 0, 0, 255, 255
Tone Curve PV2012 Green : 0, 0, 255, 255
Tone Curve PV2012 Blue : 0, 0, 255, 255
Gradient Based Corr What : Correction
Gradient Based Corr Amount : 1.000000
Gradient Based Corr Active : true
Gradient Based Corr Saturation : 0.143346
Gradient Based Corr Sharpness : 0.000000
Gradient Based Corr Brightness : 0.000000
Gradient Based Corr Toning Hue : 240.000000
Gradient Based Corr Toning Saturation : 0.000000
Gradient Based Corr Exposure 2012 : -0.041345
Gradient Based Corr Contrast 2012 : 0.432935
Gradient Based Corr Highlights 2012 : 0.000000
Gradient Based Corr Shadows 2012 : 0.000000
Gradient Based Corr Clarity 2012 : 0.840765
Gradient Based Corr Luminance Noise : 0.000000
Gradient Based Corr Moire : 0.000000
Gradient Based Corr Defringe : 0.000000
Gradient Based Corr Temperature : 0.000000
Gradient Based Corr Tint : 0.000000
Gradient Based Corr Mask What : Mask/Gradient
Gradient Based Corr Mask Value : 1.000000
Gradient Based Corr Mask Zero X : 0.498511
Gradient Based Corr Mask Zero Y : 0.447165
Gradient Based Corr Mask Full X : 0.494768
Gradient Based Corr Mask Full Y : 0.009464
Image Width : 300
Image Height : 200
Bits Per Sample : 8
Color Components : 1
Aperture : 1.4
Blue Balance : 0.876009
Image Size : 300x200
Lens ID : Leica Summilux-M 50mm f/1.4 (II)
Megapixels : 0.060
Red Balance : 0.433359
Scale Factor To 35 mm Equivalent : 1.0
Shutter Speed : 1/2000
Circle Of Confusion : 0.030 mm
Field Of View : 39.6 deg
Focal Length : 50.0 mm (35 mm equivalent: 50.0 mm)
Hyperfocal Distance : 59.43 m
Light Value : 10.6