Uber Exif Photo
Photometric Interpretation : RGB
Make : Panasonic
Camera Model Name : DMC-GX1
Orientation : Horizontal (normal)
Software : Adobe Photoshop CS5 Windows
Modify Date : 2013:01:05 17:10:54
Exposure Time : 1/25
F Number : 5.6
Exposure Program : Aperture-priority AE
ISO : 800
Date/Time Original : 2013:01:05 16:11:31
Create Date : 2013:01:05 16:11:31
Shutter Speed Value : 1/25
Aperture Value : 5.6
Exposure Compensation : 0
Max Aperture Value : 2.8
Metering Mode : Multi-segment
Light Source : Unknown
Flash : Off, Did not fire
Focal Length : 45.0 mm
Color Space : Uncalibrated
Exif Image Width : 1590
Exif Image Height : 1200
Sensing Method : One-chip color area
Scene Type : Directly photographed
Custom Rendered : Normal
Exposure Mode : Auto
White Balance : Auto
Digital Zoom Ratio : 0
Focal Length In 35mm Format : 90 mm
Scene Capture Type : Standard
Gain Control : High gain up
Contrast : Normal
Saturation : High
Sharpness : Hard
Lens Model : LEICA DG MACRO-ELMARIT 45/F2.8
Lens Serial Number : 09110090478
Profile Description : Adobe RGB (1998)
Lens : LEICA DG MACRO-ELMARIT 45/F2.8
Rating : 0
Creator Tool : Adobe Photoshop CS5 Windows
Date Created : 2013:01:05 16:11:31
Color Mode : RGB
ICC Profile Name : Adobe RGB (1998)
Format : image/jpeg
Raw File Name : P1010573.RW2
Version : 6.7
Process Version : 5.7
Color Temperature : 5500
Tint : +10
Exposure : +0.45
Shadows : 27
Brightness : +54
Luminance Smoothing : 0
Color Noise Reduction : 25
Vignette Amount : 0
Shadow Tint : 0
Red Hue : 0
Red Saturation : 0
Green Hue : 0
Green Saturation : 0
Blue Hue : 0
Blue Saturation : 0
Fill Light : 37
Vibrance : +14
Highlight Recovery : 0
Clarity : +18
Defringe : 0
Hue Adjustment Red : 0
Hue Adjustment Orange : 0
Hue Adjustment Yellow : 0
Hue Adjustment Green : 0
Hue Adjustment Aqua : 0
Hue Adjustment Blue : 0
Hue Adjustment Purple : 0
Hue Adjustment Magenta : 0
Saturation Adjustment Red : 0
Saturation Adjustment Orange : 0
Saturation Adjustment Yellow : 0
Saturation Adjustment Green : 0
Saturation Adjustment Aqua : 0
Saturation Adjustment Blue : 0
Saturation Adjustment Purple : 0
Saturation Adjustment Magenta : 0
Luminance Adjustment Red : 0
Luminance Adjustment Orange : 0
Luminance Adjustment Yellow : 0
Luminance Adjustment Green : 0
Luminance Adjustment Aqua : 0
Luminance Adjustment Blue : 0
Luminance Adjustment Purple : 0
Luminance Adjustment Magenta : 0
Split Toning Shadow Hue : 0
Split Toning Shadow Saturation : 0
Split Toning Highlight Hue : 0
Split Toning Highlight Saturation : 0
Split Toning Balance : 0
Parametric Shadows : 0
Parametric Darks : 0
Parametric Lights : 0
Parametric Highlights : 0
Parametric Shadow Split : 25
Parametric Midtone Split : 50
Parametric Highlight Split : 75
Sharpen Radius : +1.0
Sharpen Detail : 25
Sharpen Edge Masking : 0
Post Crop Vignette Amount : 0
Grain Amount : 0
Color Noise Reduction Detail : 50
Lens Profile Enable : 0
Lens Manual Distortion Amount : 0
Perspective Vertical : 0
Perspective Horizontal : 0
Perspective Rotate : 0.0
Perspective Scale : 100
Auto Lateral CA : 0
Exposure 2012 : 0.00
Contrast 2012 : 0
Highlights 2012 : 0
Shadows 2012 : 0
Whites 2012 : 0
Blacks 2012 : 0
Clarity 2012 : 0
Convert To Grayscale : False
Tone Curve Name : Medium Contrast
Tone Curve Name 2012 : Linear
Camera Profile : Adobe Standard
Lens Profile Setup : LensDefaults
Has Settings : True
Has Crop : False
Already Applied : True
Tone Curve : 0, 0, 32, 22, 64, 56, 128, 128, 192, 196, 255, 255
Tone Curve Red : 0, 0, 255, 255
Tone Curve Green : 0, 0, 255, 255
Tone Curve Blue : 0, 0, 255, 255
Tone Curve PV2012 : 0, 0, 255, 255
Tone Curve PV2012 Red : 0, 0, 255, 255
Tone Curve PV2012 Green : 0, 0, 255, 255
Tone Curve PV2012 Blue : 0, 0, 255, 255
Image Width : 300
Image Height : 226
Bits Per Sample : 8
Color Components : 3
Aperture : 5.6
Image Size : 300x226
Megapixels : 0.068
Scale Factor To 35 mm Equivalent : 2.0
Shutter Speed : 1/25
Circle Of Confusion : 0.015 mm
Field Of View : 22.6 deg
Focal Length : 45.0 mm (35 mm equivalent: 90.0 mm)
Hyperfocal Distance : 24.07 m
Light Value : 6.6
Lens ID : LEICA DG MACRO-ELMARIT 45mm F2.8