Uber Exif Photo
Make : LEICA CAMERA AG
Camera Model Name : LEICA X1
Software : Adobe Photoshop Lightroom 3.6 (Windows)
Modify Date : 2012:04:27 11:33:09
Exposure Time : 1/2000
F Number : 4.0
Exposure Program : Aperture-priority AE
ISO : 100
Date/Time Original : 2012:04:26 08:57:45
Create Date : 2012:04:26 08:57:45
Shutter Speed Value : 1/2000
Aperture Value : 4.0
Exposure Compensation : 0
Max Aperture Value : 2.8
Subject Distance : 4.5 m
Metering Mode : Multi-segment
Light Source : Unknown
Flash : Off, Did not fire
Focal Length : 24.0 mm
Original File Name : L1008012.DNG
Original Directory : 100LEICA
Focus Distance : 4.5 m
Exposure Mode : Aperture-priority AE
File Index : 8012
Film Mode : Vivid
WB RGB Levels : 0.5626373626 1.044897959 0.7252124646
Internal Serial Number : 000000000000
Sensing Method : One-chip color area
Custom Rendered : Custom
White Balance : Auto
Digital Zoom Ratio : 1
Focal Length In 35mm Format : 36 mm
Scene Capture Type : Landscape
Contrast : Normal
Saturation : Normal
Sharpness : Normal
Serial Number : 000003812502
Lens Info : 24mm f/2.8
Lens Model : 24.0 mm f/2.8
Maker Note Safety : Safe
Profile Description : ProPhoto RGB
Creator Tool : Adobe Photoshop Lightroom 3.6 (Windows)
Lens : 24.0 mm f/2.8
Approximate Focus Distance : 4.5
Date Created : 2012:04:26 08:57:45
Format : image/jpeg
Version : 6.6
Process Version : 5.7
Color Temperature : 5050
Tint : +16
Exposure : 0.00
Shadows : 34
Brightness : +50
Luminance Smoothing : 0
Color Noise Reduction : 25
Chromatic Aberration R : 0
Chromatic Aberration B : 0
Vignette Amount : 0
Shadow Tint : 0
Red Hue : 0
Red Saturation : 0
Green Hue : 0
Green Saturation : 0
Blue Hue : 0
Blue Saturation : 0
Fill Light : 97
Vibrance : 0
Highlight Recovery : 0
Clarity : 0
Defringe : 0
Hue Adjustment Red : +100
Hue Adjustment Orange : +100
Hue Adjustment Yellow : +100
Hue Adjustment Green : -100
Hue Adjustment Aqua : -100
Hue Adjustment Blue : 0
Hue Adjustment Purple : -100
Hue Adjustment Magenta : -100
Saturation Adjustment Red : -100
Saturation Adjustment Orange : -100
Saturation Adjustment Yellow : -100
Saturation Adjustment Green : -100
Saturation Adjustment Aqua : +100
Saturation Adjustment Blue : -100
Saturation Adjustment Purple : -100
Saturation Adjustment Magenta : -100
Luminance Adjustment Red : -100
Luminance Adjustment Orange : -100
Luminance Adjustment Yellow : -100
Luminance Adjustment Green : -100
Luminance Adjustment Aqua : +100
Luminance Adjustment Blue : -100
Luminance Adjustment Purple : -100
Luminance Adjustment Magenta : -100
Split Toning Shadow Hue : 0
Split Toning Shadow Saturation : 0
Split Toning Highlight Hue : 0
Split Toning Highlight Saturation : 0
Split Toning Balance : 0
Parametric Shadows : 0
Parametric Darks : 0
Parametric Lights : 0
Parametric Highlights : 0
Parametric Shadow Split : 25
Parametric Midtone Split : 50
Parametric Highlight Split : 75
Sharpen Radius : +1.0
Sharpen Detail : 25
Sharpen Edge Masking : 0
Post Crop Vignette Amount : 0
Grain Amount : 0
Color Noise Reduction Detail : 50
Lens Profile Enable : 0
Lens Manual Distortion Amount : 0
Perspective Vertical : 0
Perspective Horizontal : 0
Perspective Rotate : 0.0
Perspective Scale : 100
Convert To Grayscale : False
Tone Curve Name : Medium Contrast
Camera Profile : Adobe Standard
Lens Profile Setup : LensDefaults
Has Settings : True
Crop Top : 0.036245
Crop Left : 0.411371
Crop Bottom : 0.928057
Crop Right : 0.797794
Crop Angle : -0.5
Crop Constrain To Warp : 0
Crop Width : 1628
Crop Height : 2561
Crop Unit : pixels
Has Crop : True
Already Applied : True
Tone Curve : 0, 0, 32, 22, 64, 56, 128, 128, 192, 196, 255, 255
Image Width : 191
Image Height : 300
Bits Per Sample : 8
Color Components : 3
Aperture : 4.0
Blue Balance : 0.694051
Image Size : 191x300
Megapixels : 0.057
Red Balance : 0.538462
Scale Factor To 35 mm Equivalent : 1.5
Shutter Speed : 1/2000
Circle Of Confusion : 0.020 mm
Depth Of Field : 9.15 m (2.77 - 11.92 m)
Field Of View : 52.9 deg (4.48 m)
Focal Length : 24.0 mm (35 mm equivalent: 36.0 mm)
Hyperfocal Distance : 7.19 m
Light Value : 15.0
Lens ID : 24.0mm f/2.8