Uber Exif Photo
Keywords : Düzce, Leica, M8, konser, yonca lodi
By-line : © ozgurcakici.com
Copyright Notice : © ozgurcakici.com
Copyright Flag : True
URL : © ozgurcakici.com
Make : Leica Camera AG
Camera Model Name : M8 Digital Camera
Software : Adobe Photoshop Lightroom 4.2 (Macintosh)
Modify Date : 2012:12:07 17:54:17
Artist : © ozgurcakici.com
Copyright : © ozgurcakici.com
Exposure Time : 1/1500
F Number : 3.4
Exposure Program : Aperture-priority AE
ISO : 320
Date/Time Original : 2012:07:07 23:01:37
Create Date : 2012:07:07 23:01:37
Shutter Speed Value : 1/1500
Aperture Value : 3.4
Exposure Compensation : 0
Max Aperture Value : 1.0
Metering Mode : Center-weighted average
Light Source : Unknown
Flash : Auto, Did not fire
Scene Type : Directly photographed
White Balance : Auto
Digital Zoom Ratio : 0
Scene Capture Type : Standard
Serial Number : 3105104
Creator Tool : Adobe Photoshop Lightroom 4.2 (Macintosh)
Date Created : 2012:07:07 23:01:37
Format : image/jpeg
Web Statement : © ozgurcakici.com
Marked : True
Version : 7.2
Process Version : 6.7
Color Temperature : 2000
Tint : -150
Sharpness : 76
Luminance Smoothing : 69
Color Noise Reduction : 39
Vignette Amount : 0
Shadow Tint : 0
Red Hue : 0
Red Saturation : 0
Green Hue : 0
Green Saturation : 0
Blue Hue : 0
Blue Saturation : 0
Gray Mixer Red : -20
Gray Mixer Orange : -34
Gray Mixer Yellow : -41
Gray Mixer Green : -39
Gray Mixer Aqua : -3
Gray Mixer Blue : +51
Gray Mixer Purple : +49
Gray Mixer Magenta : +15
Split Toning Shadow Hue : 0
Split Toning Shadow Saturation : 0
Split Toning Highlight Hue : 0
Split Toning Highlight Saturation : 0
Split Toning Balance : 0
Parametric Shadows : 0
Parametric Darks : 0
Parametric Lights : 0
Parametric Highlights : 0
Parametric Shadow Split : 25
Parametric Midtone Split : 50
Parametric Highlight Split : 75
Sharpen Radius : +1.0
Sharpen Detail : 25
Sharpen Edge Masking : 79
Post Crop Vignette Amount : 0
Grain Amount : 0
Luminance Noise Reduction Detail : 50
Color Noise Reduction Detail : 75
Luminance Noise Reduction Contrast : 0
Lens Profile Enable : 0
Lens Manual Distortion Amount : 0
Perspective Vertical : 0
Perspective Horizontal : 0
Perspective Rotate : 0.0
Perspective Scale : 100
Auto Lateral CA : 0
Exposure 2012 : +0.85
Contrast 2012 : -25
Highlights 2012 : -47
Shadows 2012 : +56
Whites 2012 : -100
Blacks 2012 : -18
Clarity 2012 : +73
Convert To Grayscale : True
Tone Curve Name 2012 : Linear
Camera Profile : Adobe Standard
Lens Profile Setup : LensDefaults
Has Settings : True
Has Crop : False
Already Applied : True
Creator : © ozgurcakici.com
Rights : © ozgurcakici.com
Subject : Düzce, Leica, M8, konser, yonca lodi
Usage Terms : © ozgurcakici.com
Tone Curve PV2012 : 0, 0, 255, 255
Tone Curve PV2012 Red : 0, 0, 255, 255
Tone Curve PV2012 Green : 0, 0, 255, 255
Tone Curve PV2012 Blue : 0, 0, 255, 255
Paint Correction What : Correction
Paint Correction Amount : 1.000000
Paint Correction Active : true
Paint Correction Saturation : 0.000000
Paint Correction Sharpness : 0.000000
Paint Correction Brightness : 0.000000
Paint Correction Toning Hue : 240.000000
Paint Correction Toning Saturation : 0.000000
Paint Correction Exposure 2012 : 0.273350
Paint Correction Contrast 2012 : -0.201746
Paint Correction Highlights 2012 : 0.000000
Paint Correction Shadows 2012 : 0.000000
Paint Correction Clarity 2012 : 0.000000
Paint Correction Luminance Noise : 0.000000
Paint Correction Moire : 0.000000
Paint Correction Temperature : 0.000000
Paint Correction Tint : 0.000000
Paint Correction Mask What : Mask/Paint
Paint Correction Mask Value : 1.000000
Paint Correction Mask Radius : 0.014340
Paint Correction Mask Flow : 0.510734
Paint Correction Mask Center Weight : 0.000000
Image Width : 300
Image Height : 202
Bits Per Sample : 8
Color Components : 1
Aperture : 3.4
Image Size : 300x202
Megapixels : 0.061
Scale Factor To 35 mm Equivalent : 17.6
Shutter Speed : 1/1500
Circle Of Confusion : 0.002 mm
Light Value : 12.4