Uber Exif Photo
Keywords : Carl Zeiss 35mm f/2, Dünya Madenciler Günü, Leica, M8, Sheraton, bros technic, gig, konser, maslak, yonca lodi
By-line : © ozgurcakici.com
Copyright Notice : © ozgurcakici.com
Copyright Flag : True
URL : © ozgurcakici.com
Make : Leica Camera AG
Camera Model Name : M8 Digital Camera
Software : Adobe Photoshop Lightroom 4.2 (Macintosh)
Modify Date : 2012:12:05 13:24:06
Artist : © ozgurcakici.com
Copyright : © ozgurcakici.com
Exposure Time : 1/45
F Number : 2.4
Exposure Program : Aperture-priority AE
ISO : 160
Date/Time Original : 2012:12:04 22:16:59
Create Date : 2012:12:04 22:16:59
Shutter Speed Value : 1/45
Aperture Value : 2.4
Exposure Compensation : 0
Max Aperture Value : 1.0
Metering Mode : Center-weighted average
Light Source : Unknown
Flash : Auto, Did not fire
Scene Type : Directly photographed
White Balance : Auto
Digital Zoom Ratio : 0
Scene Capture Type : Standard
Serial Number : 3108573
Creator Tool : Adobe Photoshop Lightroom 4.2 (Macintosh)
Date Created : 2012:12:04 22:16:59
Format : image/jpeg
Web Statement : © ozgurcakici.com
Marked : True
Version : 7.2
Process Version : 6.7
Color Temperature : 50000
Tint : +4
Sharpness : 73
Luminance Smoothing : 0
Color Noise Reduction : 25
Vignette Amount : 0
Shadow Tint : 0
Red Hue : 0
Red Saturation : 0
Green Hue : 0
Green Saturation : 0
Blue Hue : 0
Blue Saturation : 0
Gray Mixer Red : -14
Gray Mixer Orange : -26
Gray Mixer Yellow : -31
Gray Mixer Green : -32
Gray Mixer Aqua : -12
Gray Mixer Blue : +31
Gray Mixer Purple : +33
Gray Mixer Magenta : +10
Split Toning Shadow Hue : 0
Split Toning Shadow Saturation : 0
Split Toning Highlight Hue : 0
Split Toning Highlight Saturation : 0
Split Toning Balance : 0
Parametric Shadows : 0
Parametric Darks : 0
Parametric Lights : 0
Parametric Highlights : 0
Parametric Shadow Split : 25
Parametric Midtone Split : 50
Parametric Highlight Split : 75
Sharpen Radius : +1.0
Sharpen Detail : 25
Sharpen Edge Masking : 74
Post Crop Vignette Amount : 0
Grain Amount : 0
Color Noise Reduction Detail : 50
Lens Profile Enable : 0
Lens Manual Distortion Amount : 0
Perspective Vertical : 0
Perspective Horizontal : 0
Perspective Rotate : 0.0
Perspective Scale : 100
Auto Lateral CA : 0
Exposure 2012 : -0.20
Contrast 2012 : -24
Highlights 2012 : -50
Shadows 2012 : +50
Whites 2012 : +28
Blacks 2012 : -9
Clarity 2012 : +12
Convert To Grayscale : True
Tone Curve Name 2012 : Linear
Camera Profile : Adobe Standard
Lens Profile Setup : LensDefaults
Has Settings : True
Has Crop : False
Already Applied : True
Creator : © ozgurcakici.com
Rights : © ozgurcakici.com
Subject : Carl Zeiss 35mm f/2, Dünya Madenciler Günü, Leica, M8, Sheraton, bros technic, gig, konser, maslak, yonca lodi
Usage Terms : © ozgurcakici.com
Tone Curve PV2012 : 0, 0, 255, 255
Tone Curve PV2012 Red : 0, 0, 255, 255
Tone Curve PV2012 Green : 0, 0, 255, 255
Tone Curve PV2012 Blue : 0, 0, 255, 255
Image Width : 300
Image Height : 202
Bits Per Sample : 8
Color Components : 1
Aperture : 2.4
Image Size : 300x202
Megapixels : 0.061
Scale Factor To 35 mm Equivalent : 17.6
Shutter Speed : 1/45
Circle Of Confusion : 0.002 mm
Light Value : 7.3