Uber Exif Photo
Caption-Abstract : Thailand
Writer-Editor : Lee Craker
Special Instructions : For preview only, signed release must be on file to use.
By-line : Lee Craker
By-line Title : Photojournalist
Sub-location : Nakhon Nayok
Province-State : Nakhon Nayok
Country-Primary Location Name : Thailand
Country-Primary Location Code : TH
Keywords : Thailand, Siam, Klongtoey, Bangkok, People, Gold, ancient, antique, art, asia, asian, belief, big, blue, buddha, buddhism, buddhist, cloud, culture, east, face, faith, figure, glowing, gold, golden, heritage, huge, icon, idol, image, meditate, meditation, monk, oriental, precious, religion, religious, sacred, sculpture, siam, sitting, sky, spiritual, spirituality, statue, style, temple, thai, thailand, tourism, traditional, travel, wat, worship, yellow "Lee Craker", M9, Leica, M8, Nikon, iPhone
Copyright Notice : (c) Lee Craker, all rights reserved
Copyright Flag : True
Image Description : Thailand
Make : Leica Camera AG
Camera Model Name : M9 Digital Camera
Orientation : Horizontal (normal)
Software : Adobe Photoshop CS6 (Macintosh)
Modify Date : 2012:12:06 20:16:27
Artist : Lee Craker
Copyright : (c) Lee Craker, all rights reserved
Maker Note Safety : Safe
Exposure Time : 1/90
F Number : 2.5
Exposure Program : Aperture-priority AE
ISO : 160
Date/Time Original : 2012:05:30 07:57:28
Create Date : 2012:05:30 07:57:28
Shutter Speed Value : 1/90
Aperture Value : 2.5
Exposure Compensation : 0
Max Aperture Value : 2.5
Metering Mode : Center-weighted average
Light Source : Unknown
Flash : No Flash
Focal Length : 35.0 mm
Color Space : sRGB
Exif Image Width : 3000
Exif Image Height : 1996
Scene Type : Directly photographed
Exposure Mode : Manual
White Balance : Auto
Digital Zoom Ratio : 0
Focal Length In 35mm Format : 35 mm
Scene Capture Type : Standard
Serial Number : 4201650
Lens Model : Leica Summarit-M 35mm f/2.5
Creator Tool : 1.138
Rating : 0
Lens : Leica Summarit-M 35mm f/2.5
Authors Position : Photojournalist
Headline : Thailand
Caption Writer : Lee Craker
City : Nakhon Nayok
State : Nakhon Nayok
Country : Thailand
Instructions : For preview only, signed release must be on file to use.
Credit : Photo by Lee Craker
Source : Lee Craker
Date Created : 2012:05:30 07:57:28+07:00
Color Mode : RGB
ICC Profile Name : sRGB IEC61966-2.1
Preserved File Name : L1007499.DNG
Format : image/jpeg
Intellectual Genre : Photography
Location : Nakhon Nayok
Country Code : TH 764
Marked : True
Property Release Status : Not Applicable
Raw File Name : 20120530_M9_0048.DNG
Version : 7.1
Process Version : 6.7
Color Temperature : 4800
Tint : +10
Saturation : 0
Sharpness : 25
Luminance Smoothing : 0
Color Noise Reduction : 25
Vignette Amount : 0
Shadow Tint : 0
Red Hue : 0
Red Saturation : 0
Green Hue : 0
Green Saturation : 0
Blue Hue : 0
Blue Saturation : 0
Vibrance : 0
Hue Adjustment Red : 0
Hue Adjustment Orange : 0
Hue Adjustment Yellow : 0
Hue Adjustment Green : 0
Hue Adjustment Aqua : 0
Hue Adjustment Blue : 0
Hue Adjustment Purple : 0
Hue Adjustment Magenta : 0
Saturation Adjustment Red : 0
Saturation Adjustment Orange : 0
Saturation Adjustment Yellow : 0
Saturation Adjustment Green : 0
Saturation Adjustment Aqua : 0
Saturation Adjustment Blue : 0
Saturation Adjustment Purple : 0
Saturation Adjustment Magenta : 0
Luminance Adjustment Red : 0
Luminance Adjustment Orange : 0
Luminance Adjustment Yellow : 0
Luminance Adjustment Green : 0
Luminance Adjustment Aqua : 0
Luminance Adjustment Blue : 0
Luminance Adjustment Purple : 0
Luminance Adjustment Magenta : 0
Split Toning Shadow Hue : 0
Split Toning Shadow Saturation : 0
Split Toning Highlight Hue : 0
Split Toning Highlight Saturation : 0
Split Toning Balance : 0
Parametric Shadows : 0
Parametric Darks : 0
Parametric Lights : 0
Parametric Highlights : 0
Parametric Shadow Split : 25
Parametric Midtone Split : 50
Parametric Highlight Split : 75
Sharpen Radius : +1.0
Sharpen Detail : 25
Sharpen Edge Masking : 0
Post Crop Vignette Amount : 0
Grain Amount : 0
Color Noise Reduction Detail : 50
Lens Profile Enable : 0
Lens Manual Distortion Amount : 0
Perspective Vertical : 0
Perspective Horizontal : 0
Perspective Rotate : 0.0
Perspective Scale : 100
Auto Lateral CA : 0
Exposure 2012 : +0.60
Contrast 2012 : +30
Highlights 2012 : -81
Shadows 2012 : 0
Whites 2012 : 0
Blacks 2012 : +44
Clarity 2012 : 0
Defringe Purple Amount : 0
Defringe Purple Hue Lo : 30
Defringe Purple Hue Hi : 70
Defringe Green Amount : 0
Defringe Green Hue Lo : 40
Defringe Green Hue Hi : 60
Convert To Grayscale : False
Tone Curve Name 2012 : Linear
Camera Profile : Adobe Standard
Lens Profile Setup : LensDefaults
Has Settings : True
Has Crop : False
Already Applied : True
Creator : Lee Craker
Description : Thailand
Subject : Thailand, Siam, Klongtoey, Bangkok, People, Gold, ancient, antique, art, asia, asian, belief, big, blue, buddha, buddhism, buddhist, cloud, culture, east, face, faith, figure, glowing, gold, golden, heritage, huge, icon, idol, image, meditate, meditation, monk, oriental, precious, religion, religious, sacred, sculpture, siam, sitting, sky, spiritual, spirituality, statue, style, temple, thai, thailand, tourism, traditional, travel, wat, worship, yellow "Lee Craker", M9, Leica, M8, Nikon, iPhone
Rights : (c) Lee Craker, all rights reserved
Creator Address : 49 Moo b Baan Tamaprang
Creator City : Nakhon Nayok
Creator Region : Nahinlad Sub District, Pakpli District
Creator Postal Code : 26130
Creator Country : Thailand
Creator Work Telephone : 66-0806115349, 719-623-7014
Creator Work Email : lee@leecraker.com
Creator Work URL : http://www.leecraker.com
Subject Code : Photojournalism
Usage Terms : To display image must have the byline of: "Photo by Lee Craker, all rights reserved"..Prohibited uses: .Resale or redistribution in any form.Online print-on-demand products.Use in any logo or trademark.Displaying an original image digitally larger than 400 x 400 pixels.Any alteration of the image.Any use not described Above.
Image Creator Name : Lee Craker
Copyright Owner Name : Lee Craker
Tone Curve PV2012 : 0, 0, 255, 255
Tone Curve PV2012 Red : 0, 0, 255, 255
Tone Curve PV2012 Green : 0, 0, 255, 255
Tone Curve PV2012 Blue : 0, 0, 255, 255
Image Width : 300
Image Height : 200
Bits Per Sample : 8
Color Components : 1
Aperture : 2.5
Image Size : 300x200
Megapixels : 0.060
Scale Factor To 35 mm Equivalent : 1.0
Shutter Speed : 1/90
Circle Of Confusion : 0.030 mm
Field Of View : 54.4 deg
Focal Length : 35.0 mm (35 mm equivalent: 35.0 mm)
Hyperfocal Distance : 16.31 m
Light Value : 8.5
Lens ID : Summarit-M 35mm f/2.5