Uber Exif Photo
Copyright Notice : © 2010 by Daniel Roznovjak, Roeschibachstr. 24, 8037 Zurich, Switzerland. +41795044192.This photo may not be published, alienta
Copyright Flag : True
Photometric Interpretation : RGB
Make : LEICA CAMERA AG
Camera Model Name : LEICA X1
Orientation : Horizontal (normal)
Software : Adobe Photoshop CS5 Macintosh
Modify Date : 2012:12:04 13:11:26
Copyright : © 2010 by Daniel Roznovjak, Roeschibachstr. 24, 8037 Zurich, Switzerland. +41795044192.This photo may not be published, alientated or used otherwise without my permission!
Maker Note Safety : Safe
Exposure Time : 30
F Number : 7.1
Exposure Program : Aperture-priority AE
ISO : 800
Date/Time Original : 2010:11:25 23:08:07
Create Date : 2010:11:25 23:08:07
Shutter Speed Value : 30
Aperture Value : 7.1
Exposure Compensation : 0
Max Aperture Value : 2.8
Subject Distance : 1.8 m
Metering Mode : Multi-segment
Light Source : Unknown
Flash : Off, Did not fire
Focal Length : 24.0 mm
Color Space : Uncalibrated
Exif Image Width : 2250
Exif Image Height : 1500
Sensing Method : One-chip color area
Custom Rendered : Custom
White Balance : Auto
Digital Zoom Ratio : 1
Focal Length In 35mm Format : 35 mm
Scene Capture Type : Landscape
Contrast : Normal
Saturation : Normal
Sharpness : Hard
Profile Description : Adobe RGB (1998)
Creator Tool : Adobe Photoshop CS5 Macintosh
Rating : 4
Serial Number : 000003824131
Lens Info : 24mm f/2.8
Lens : 24.0 mm f/2.8
Approximate Focus Distance : 1.8
Raw File Name : L1001741.DNG
Version : 6.0
Process Version : 5.7
Color Temperature : 3350
Tint : +17
Exposure : +0.25
Shadows : 5
Brightness : +50
Luminance Smoothing : 33
Color Noise Reduction : 25
Chromatic Aberration R : 0
Chromatic Aberration B : 0
Vignette Amount : 0
Shadow Tint : 0
Red Hue : 0
Red Saturation : 0
Green Hue : 0
Green Saturation : 0
Blue Hue : 0
Blue Saturation : 0
Fill Light : 0
Vibrance : 0
Highlight Recovery : 13
Clarity : +13
Defringe : 0
Hue Adjustment Red : 0
Hue Adjustment Orange : 0
Hue Adjustment Yellow : 0
Hue Adjustment Green : 0
Hue Adjustment Aqua : 0
Hue Adjustment Blue : 0
Hue Adjustment Purple : 0
Hue Adjustment Magenta : 0
Saturation Adjustment Red : 0
Saturation Adjustment Orange : -3
Saturation Adjustment Yellow : 0
Saturation Adjustment Green : 0
Saturation Adjustment Aqua : 0
Saturation Adjustment Blue : +13
Saturation Adjustment Purple : -47
Saturation Adjustment Magenta : -42
Luminance Adjustment Red : +29
Luminance Adjustment Orange : +36
Luminance Adjustment Yellow : +19
Luminance Adjustment Green : 0
Luminance Adjustment Aqua : +9
Luminance Adjustment Blue : +50
Luminance Adjustment Purple : +23
Luminance Adjustment Magenta : +28
Split Toning Shadow Hue : 0
Split Toning Shadow Saturation : 0
Split Toning Highlight Hue : 0
Split Toning Highlight Saturation : 0
Split Toning Balance : 0
Parametric Shadows : 0
Parametric Darks : 0
Parametric Lights : 0
Parametric Highlights : 0
Parametric Shadow Split : 25
Parametric Midtone Split : 50
Parametric Highlight Split : 75
Sharpen Radius : +0.9
Sharpen Detail : 50
Sharpen Edge Masking : 0
Post Crop Vignette Amount : 0
Grain Amount : 0
Luminance Noise Reduction Detail : 50
Color Noise Reduction Detail : 50
Luminance Noise Reduction Contrast : 0
Convert To Grayscale : False
Tone Curve Name : Medium Contrast
Camera Profile : Adobe Standard
Has Settings : True
Has Crop : False
Already Applied : True
Format : image/jpeg
Date Created : 2010:11:25 23:08:07
Color Mode : RGB
ICC Profile Name : Adobe RGB (1998)
Marked : True
Tone Curve : 0, 0, 32, 22, 64, 56, 128, 128, 192, 196, 255, 255
Rights : © 2010 by Daniel Roznovjak, Roeschibachstr. 24, 8037 Zurich, Switzerland. +41795044192.This photo may not be published, alientated or used otherwise without my permission!
Image Width : 300
Image Height : 200
Bits Per Sample : 8
Color Components : 3
Aperture : 7.1
Image Size : 300x200
Megapixels : 0.060
Scale Factor To 35 mm Equivalent : 1.5
Shutter Speed : 30
Circle Of Confusion : 0.021 mm
Depth Of Field : 2.04 m (1.24 - 3.28 m)
Field Of View : 54.4 deg
Focal Length : 24.0 mm (35 mm equivalent: 35.0 mm)
Hyperfocal Distance : 3.94 m
Light Value : -2.3
Lens ID : 24.0mm f/2.8