Uber Exif Photo
Copyright Flag : False
Make : LEICA
Camera Model Name : V-LUX 1
Orientation : Horizontal (normal)
Software : Adobe Photoshop CS5 Macintosh
Modify Date : 2012:11:15 15:55:22
Exposure Time : 1/30
F Number : 3.6
Exposure Program : Program AE
ISO : 100
Date/Time Original : 2008:10:28 15:44:32
Create Date : 2008:10:28 15:44:32
Shutter Speed Value : 1/30
Aperture Value : 3.6
Exposure Compensation : 0
Max Aperture Value : 2.8
Metering Mode : Multi-segment
Light Source : Unknown
Flash : Off, Did not fire
Focal Length : 27.2 mm
Color Space : Uncalibrated
Exif Image Width : 1500
Exif Image Height : 1309
Sensing Method : One-chip color area
Scene Type : Directly photographed
Custom Rendered : Custom
Exposure Mode : Auto
White Balance : Auto
Digital Zoom Ratio : 0
Focal Length In 35mm Format : 184 mm
Scene Capture Type : Standard
Gain Control : None
Contrast : Normal
Saturation : Normal
Sharpness : Normal
Profile Description : Adobe RGB (1998)
Creator Tool : Adobe Photoshop CS5 Macintosh
Already Applied : True
Has Crop : True
Crop Angle : 0
Crop Right : 0.96483
Crop Bottom : 0.982812
Crop Left : 0.216882
Crop Top : 0.345313
Has Settings : True
Camera Profile : Embedded
Tone Curve Name : Linear
Convert To Grayscale : False
Post Crop Vignette Amount : 0
Sharpen Edge Masking : 0
Sharpen Detail : 25
Sharpen Radius : +1.0
Parametric Highlight Split : 75
Parametric Midtone Split : 50
Parametric Shadow Split : 25
Parametric Highlights : 0
Parametric Lights : +18
Parametric Darks : -8
Parametric Shadows : 0
Split Toning Balance : 0
Split Toning Highlight Saturation : 0
Split Toning Highlight Hue : 0
Split Toning Shadow Saturation : 0
Split Toning Shadow Hue : 0
Luminance Adjustment Magenta : -23
Luminance Adjustment Purple : 0
Luminance Adjustment Blue : 0
Luminance Adjustment Aqua : 0
Luminance Adjustment Green : -28
Luminance Adjustment Yellow : +14
Luminance Adjustment Orange : -33
Luminance Adjustment Red : +9
Saturation Adjustment Magenta : 0
Saturation Adjustment Purple : 0
Saturation Adjustment Blue : 0
Saturation Adjustment Aqua : 0
Saturation Adjustment Green : 0
Saturation Adjustment Yellow : +28
Saturation Adjustment Orange : +31
Saturation Adjustment Red : +29
Hue Adjustment Magenta : 0
Hue Adjustment Purple : 0
Hue Adjustment Blue : 0
Hue Adjustment Aqua : 0
Hue Adjustment Green : 0
Hue Adjustment Yellow : 0
Hue Adjustment Orange : 0
Hue Adjustment Red : 0
Defringe : 0
Clarity : +91
Highlight Recovery : 0
Vibrance : +30
Fill Light : 3
Blue Saturation : 0
Blue Hue : 0
Green Saturation : 0
Green Hue : 0
Red Saturation : 0
Red Hue : 0
Shadow Tint : 0
Vignette Amount : 0
Chromatic Aberration B : 0
Chromatic Aberration R : 0
Color Noise Reduction : 0
Luminance Smoothing : 0
Brightness : +16
Shadows : 3
Exposure : 0.00
Incremental Tint : 0
Incremental Temperature : 0
Version : 4.6
Raw File Name : L1030216.JPG
Format : image/jpeg
ICC Profile Name : Adobe RGB (1998)
Color Mode : RGB
Date Created : 2008:10:28 15:44:32
Marked : False
Tone Curve : 0, 0, 255, 255
Image Width : 300
Image Height : 262
Bits Per Sample : 8
Color Components : 3
Aperture : 3.6
Image Size : 300x262
Megapixels : 0.079
Scale Factor To 35 mm Equivalent : 6.8
Shutter Speed : 1/30
Circle Of Confusion : 0.004 mm
Field Of View : 11.2 deg
Focal Length : 27.2 mm (35 mm equivalent: 184.0 mm)
Hyperfocal Distance : 46.27 m
Light Value : 8.6