Uber Exif Photo
By-line : Rudy Prager
Copyright Notice : Rudysign
Make : Leica Camera AG
Camera Model Name : M8 Digital Camera
Software : Adobe Photoshop Camera Raw 6.4.1
Modify Date : 2012:11:07 23:13:27
Artist : Rudy Prager
Copyright : Rudysign
Exposure Time : 1/15
F Number : 2.4
Exposure Program : Aperture-priority AE
ISO : 640
Date/Time Original : 2012:11:07 05:00:50
Create Date : 2012:11:07 05:00:50
Shutter Speed Value : 1/15
Aperture Value : 2.4
Exposure Compensation : 0
Max Aperture Value : 1.0
Metering Mode : Center-weighted average
Light Source : Unknown
Flash : Auto, Did not fire
Scene Type : Directly photographed
White Balance : Auto
Digital Zoom Ratio : 0
Scene Capture Type : Standard
Serial Number : 3110864
Profile Description : Adobe RGB (1998)
Creator Tool : Adobe Photoshop Camera Raw 6.4.1
Date Created : 2012:11:07 05:00:50
Format : image/jpeg
Raw File Name : L1007488.DNG
Version : 6.4.1
Process Version : 5.7
Color Temperature : 3550
Tint : +8
Exposure : -0.35
Shadows : 5
Brightness : +50
Contrast : +19
Saturation : 0
Sharpness : 44
Luminance Smoothing : 0
Color Noise Reduction : 25
Chromatic Aberration R : 0
Chromatic Aberration B : 0
Vignette Amount : 0
Shadow Tint : 0
Red Hue : 0
Red Saturation : 0
Green Hue : 0
Green Saturation : 0
Blue Hue : 0
Blue Saturation : 0
Fill Light : 0
Vibrance : 0
Highlight Recovery : 53
Clarity : +88
Defringe : 0
Hue Adjustment Red : 0
Hue Adjustment Orange : 0
Hue Adjustment Yellow : 0
Hue Adjustment Green : 0
Hue Adjustment Aqua : 0
Hue Adjustment Blue : 0
Hue Adjustment Purple : 0
Hue Adjustment Magenta : 0
Saturation Adjustment Red : 0
Saturation Adjustment Orange : 0
Saturation Adjustment Yellow : 0
Saturation Adjustment Green : 0
Saturation Adjustment Aqua : 0
Saturation Adjustment Blue : 0
Saturation Adjustment Purple : 0
Saturation Adjustment Magenta : 0
Luminance Adjustment Red : 0
Luminance Adjustment Orange : 0
Luminance Adjustment Yellow : 0
Luminance Adjustment Green : 0
Luminance Adjustment Aqua : 0
Luminance Adjustment Blue : 0
Luminance Adjustment Purple : 0
Luminance Adjustment Magenta : 0
Split Toning Shadow Hue : 0
Split Toning Shadow Saturation : 0
Split Toning Highlight Hue : 0
Split Toning Highlight Saturation : 0
Split Toning Balance : 0
Parametric Shadows : 0
Parametric Darks : 0
Parametric Lights : 0
Parametric Highlights : 0
Parametric Shadow Split : 25
Parametric Midtone Split : 50
Parametric Highlight Split : 75
Sharpen Radius : +1.0
Sharpen Detail : 25
Sharpen Edge Masking : 0
Post Crop Vignette Amount : 0
Grain Amount : 0
Color Noise Reduction Detail : 50
Lens Profile Enable : 0
Lens Manual Distortion Amount : 0
Perspective Vertical : 0
Perspective Horizontal : 0
Perspective Rotate : 0.0
Perspective Scale : 100
Convert To Grayscale : False
Tone Curve Name : Medium Contrast
Camera Profile : Adobe Standard
Lens Profile Setup : LensDefaults
Has Settings : True
Crop Top : 0
Crop Left : 0.003376
Crop Bottom : 1
Crop Right : 0.860759
Crop Angle : 0
Crop Constrain To Warp : 1
Has Crop : True
Already Applied : True
Creator : Rudy Prager
Rights : Rudysign
Tone Curve : 0, 0, 32, 22, 64, 56, 128, 128, 192, 196, 255, 255
Image Width : 300
Image Height : 235
Bits Per Sample : 8
Color Components : 3
Aperture : 2.4
Image Size : 300x235
Megapixels : 0.070
Scale Factor To 35 mm Equivalent : 16.7
Shutter Speed : 1/15
Circle Of Confusion : 0.002 mm
Light Value : 3.8