Uber Exif Photo
Make : Panasonic
Camera Model Name : DMC-GX1
Orientation : Horizontal (normal)
Software : Adobe Photoshop CS4 Windows
Modify Date : 2012:10:27 17:38:55
Exposure Time : 1/100
F Number : 5.6
Exposure Program : Aperture-priority AE
ISO : 160
Date/Time Original : 2012:10:22 14:56:56
Create Date : 2012:10:22 14:56:56
Shutter Speed Value : 1/100
Aperture Value : 5.6
Exposure Compensation : 0
Max Aperture Value : 2.8
Metering Mode : Multi-segment
Light Source : Unknown
Focal Length : 45.0 mm
Color Space : sRGB
Exif Image Width : 1599
Exif Image Height : 1200
Sensing Method : One-chip color area
Scene Type : Directly photographed
Custom Rendered : Normal
Exposure Mode : Auto bracket
White Balance : Auto
Digital Zoom Ratio : 0
Focal Length In 35mm Format : 90 mm
Scene Capture Type : Standard
Gain Control : Low gain up
Contrast : Normal
Saturation : High
Sharpness : Hard
Lens Model : LEICA DG MACRO-ELMARIT 45/F2.8
Lens Serial Number : 09110090478
Profile Description : sRGB IEC61966-2.1
Lens : LEICA DG MACRO-ELMARIT 45/F2.8
Creator Tool : Adobe Photoshop Lightroom 4.2 (Windows)
Date Created : 2012:10:22
Color Mode : RGB
ICC Profile Name : sRGB IEC61966-2.1
Format : image/jpeg
Version : 7.2
Process Version : 6.7
Color Temperature : 6048
Tint : +10
Luminance Smoothing : 0
Color Noise Reduction : 25
Vignette Amount : 0
Shadow Tint : 0
Red Hue : 0
Red Saturation : 0
Green Hue : 0
Green Saturation : 0
Blue Hue : 0
Blue Saturation : 0
Vibrance : +48
Hue Adjustment Red : +4
Hue Adjustment Orange : -9
Hue Adjustment Yellow : -18
Hue Adjustment Green : -4
Hue Adjustment Aqua : 0
Hue Adjustment Blue : 0
Hue Adjustment Purple : 0
Hue Adjustment Magenta : 0
Saturation Adjustment Red : 0
Saturation Adjustment Orange : +47
Saturation Adjustment Yellow : +20
Saturation Adjustment Green : +11
Saturation Adjustment Aqua : 0
Saturation Adjustment Blue : 0
Saturation Adjustment Purple : 0
Saturation Adjustment Magenta : 0
Luminance Adjustment Red : 0
Luminance Adjustment Orange : -4
Luminance Adjustment Yellow : +24
Luminance Adjustment Green : +31
Luminance Adjustment Aqua : 0
Luminance Adjustment Blue : 0
Luminance Adjustment Purple : 0
Luminance Adjustment Magenta : 0
Split Toning Shadow Hue : 0
Split Toning Shadow Saturation : 0
Split Toning Highlight Hue : 0
Split Toning Highlight Saturation : 0
Split Toning Balance : 0
Parametric Shadows : 0
Parametric Darks : 0
Parametric Lights : 0
Parametric Highlights : 0
Parametric Shadow Split : 25
Parametric Midtone Split : 50
Parametric Highlight Split : 75
Sharpen Radius : +1.0
Sharpen Detail : 25
Sharpen Edge Masking : 0
Post Crop Vignette Amount : 0
Grain Amount : 0
Color Noise Reduction Detail : 50
Lens Profile Enable : 0
Lens Manual Distortion Amount : 0
Perspective Vertical : 0
Perspective Horizontal : 0
Perspective Rotate : 0.0
Perspective Scale : 100
Auto Lateral CA : 0
Exposure 2012 : 0.00
Contrast 2012 : 0
Highlights 2012 : +7
Shadows 2012 : +55
Whites 2012 : -21
Blacks 2012 : -12
Clarity 2012 : +60
Defringe Purple Amount : 0
Defringe Purple Hue Lo : 30
Defringe Purple Hue Hi : 70
Defringe Green Amount : 0
Defringe Green Hue Lo : 40
Defringe Green Hue Hi : 60
Convert To Grayscale : False
Tone Curve Name 2012 : Linear
Camera Profile : Adobe Standard
Lens Profile Setup : LensDefaults
Has Settings : True
Crop Top : 0.026953
Crop Left : 0.005878
Crop Bottom : 0.973047
Crop Right : 0.994122
Crop Angle : -1.1915
Crop Constrain To Warp : 0
Crop Width : 4469
Crop Height : 3356
Crop Unit : pixels
Has Crop : True
Already Applied : True
Date/Time Digitized : 2012:10:22 14:56:56-04:00
Tone Curve PV2012 : 0, 0, 255, 255
Tone Curve PV2012 Red : 0, 0, 255, 255
Tone Curve PV2012 Green : 0, 0, 255, 255
Tone Curve PV2012 Blue : 0, 0, 255, 255
Flash Fired : False
Flash Return : No return detection
Flash Mode : Off
Flash Function : False
Flash Red Eye Mode : False
Image Width : 300
Image Height : 225
Bits Per Sample : 8
Color Components : 3
Aperture : 5.6
Image Size : 300x225
Megapixels : 0.068
Scale Factor To 35 mm Equivalent : 2.0
Shutter Speed : 1/100
Flash : Off, Did not fire
Circle Of Confusion : 0.015 mm
Field Of View : 22.6 deg
Focal Length : 45.0 mm (35 mm equivalent: 90.0 mm)
Hyperfocal Distance : 24.07 m
Light Value : 10.9
Lens ID : LEICA DG MACRO-ELMARIT 45mm F2.8