Uber Exif Photo
By-line : Rudy Prager
Copyright Notice : Rudysign
Make : Leica Camera AG
Camera Model Name : M8 Digital Camera
Software : Adobe Photoshop Camera Raw 6.4.1
Modify Date : 2012:10:05 18:45:07
Artist : Rudy Prager
Copyright : Rudysign
Exposure Time : 1/180
F Number : 3.4
Exposure Program : Aperture-priority AE
ISO : 320
Date/Time Original : 2012:10:04 04:25:15
Create Date : 2012:10:04 04:25:15
Shutter Speed Value : 1/180
Aperture Value : 3.4
Exposure Compensation : 0
Max Aperture Value : 2.0
Metering Mode : Center-weighted average
Light Source : Unknown
Flash : Auto, Did not fire
Focal Length : 75.0 mm
Scene Type : Directly photographed
White Balance : Auto
Digital Zoom Ratio : 0
Focal Length In 35mm Format : 101 mm
Scene Capture Type : Standard
Serial Number : 3110864
Lens Model : Leica Apo-Summicron-M 75mm f/2 ASPH.
Profile Description : Adobe RGB (1998)
Creator Tool : Adobe Photoshop Camera Raw 6.4.1
Lens : Leica Apo-Summicron-M 75mm f/2 ASPH.
Date Created : 2012:10:04 04:25:15
Format : image/jpeg
Raw File Name : L1007196-2.jpg
Version : 6.4.1
Process Version : 5.7
Incremental Temperature : 0
Incremental Tint : 0
Exposure : 0.00
Shadows : 0
Brightness : 0
Contrast : 0
Saturation : 0
Sharpness : 0
Luminance Smoothing : 0
Color Noise Reduction : 0
Chromatic Aberration R : 0
Chromatic Aberration B : 0
Vignette Amount : 0
Shadow Tint : 0
Red Hue : 0
Red Saturation : 0
Green Hue : 0
Green Saturation : 0
Blue Hue : 0
Blue Saturation : 0
Fill Light : 9
Vibrance : 0
Highlight Recovery : 0
Clarity : 0
Defringe : 0
Hue Adjustment Red : 0
Hue Adjustment Orange : 0
Hue Adjustment Yellow : 0
Hue Adjustment Green : 0
Hue Adjustment Aqua : 0
Hue Adjustment Blue : 0
Hue Adjustment Purple : 0
Hue Adjustment Magenta : 0
Saturation Adjustment Red : 0
Saturation Adjustment Orange : 0
Saturation Adjustment Yellow : 0
Saturation Adjustment Green : 0
Saturation Adjustment Aqua : 0
Saturation Adjustment Blue : 0
Saturation Adjustment Purple : 0
Saturation Adjustment Magenta : 0
Luminance Adjustment Red : 0
Luminance Adjustment Orange : 0
Luminance Adjustment Yellow : 0
Luminance Adjustment Green : 0
Luminance Adjustment Aqua : 0
Luminance Adjustment Blue : 0
Luminance Adjustment Purple : 0
Luminance Adjustment Magenta : 0
Split Toning Shadow Hue : 0
Split Toning Shadow Saturation : 0
Split Toning Highlight Hue : 0
Split Toning Highlight Saturation : 0
Split Toning Balance : 0
Parametric Shadows : 0
Parametric Darks : 0
Parametric Lights : +30
Parametric Highlights : +68
Parametric Shadow Split : 25
Parametric Midtone Split : 50
Parametric Highlight Split : 75
Sharpen Radius : +1.0
Sharpen Detail : 25
Sharpen Edge Masking : 0
Post Crop Vignette Amount : -42
Post Crop Vignette Midpoint : 50
Post Crop Vignette Feather : 50
Post Crop Vignette Roundness : 0
Post Crop Vignette Style : Highlight Priority
Post Crop Vignette Highlight Contrast : 0
Grain Amount : 0
Lens Profile Enable : 0
Lens Manual Distortion Amount : 0
Perspective Vertical : 0
Perspective Horizontal : 0
Perspective Rotate : 0.0
Perspective Scale : 100
Convert To Grayscale : False
Tone Curve Name : Linear
Camera Profile : Embedded
Lens Profile Setup : LensDefaults
Has Settings : True
Has Crop : False
Already Applied : True
Creator : Rudy Prager
Rights : Rudysign
Tone Curve : 0, 0, 255, 255
Image Width : 269
Image Height : 300
Bits Per Sample : 8
Color Components : 3
Aperture : 3.4
Image Size : 269x300
Megapixels : 0.081
Scale Factor To 35 mm Equivalent : 1.3
Shutter Speed : 1/180
Circle Of Confusion : 0.022 mm
Field Of View : 20.2 deg
Focal Length : 75.0 mm (35 mm equivalent: 101.0 mm)
Hyperfocal Distance : 74.15 m
Light Value : 9.3
Lens ID : Apo-Summicron-M 75mm f/2 ASPH.