Uber Exif Photo
Keywords : 35mm, Eiffel, France, Leica, M9, Paris, Places, Summicron
Photometric Interpretation : RGB
Make : Leica Camera AG
Camera Model Name : M9 Digital Camera
Orientation : Horizontal (normal)
Software : Adobe Photoshop CS5 Windows
Modify Date : 2012:09:27 19:48:09
Exposure Time : 1/30
F Number : 2.4
Exposure Program : Manual
ISO : 1600
Date/Time Original : 2012:09:21 14:22:16
Create Date : 2012:09:21 14:22:16
Shutter Speed Value : 1/30
Aperture Value : 2.4
Exposure Compensation : 0
Max Aperture Value : 2.0
Metering Mode : Center-weighted average
Light Source : Unknown
Flash : No Flash
Focal Length : 35.0 mm
Color Space : sRGB
Exif Image Width : 4904
Exif Image Height : 2744
Scene Type : Directly photographed
Exposure Mode : Manual
White Balance : Auto
Digital Zoom Ratio : 0
Focal Length In 35mm Format : 35 mm
Scene Capture Type : Standard
Serial Number : 3973621
Lens Model : Leica Summicron-M 35mm f/2 (IV)
Creator Tool : Adobe Photoshop Lightroom 4.1 (Windows)
Lens : Leica Summicron-M 35mm f/2 (IV)
Date Created : 2012:09:21 14:22:16
Color Mode : RGB
ICC Profile Name : sRGB IEC61966-2.1
Format : image/jpeg
Version : 7.1
Process Version : 6.7
Color Temperature : 2750
Tint : +4
Sharpness : 65
Luminance Smoothing : 73
Color Noise Reduction : 52
Vignette Amount : 0
Shadow Tint : 0
Red Hue : 0
Red Saturation : 0
Green Hue : 0
Green Saturation : 0
Blue Hue : 0
Blue Saturation : 0
Gray Mixer Red : -7
Gray Mixer Orange : -15
Gray Mixer Yellow : -18
Gray Mixer Green : -24
Gray Mixer Aqua : -19
Gray Mixer Blue : +6
Gray Mixer Purple : +13
Gray Mixer Magenta : +4
Split Toning Shadow Hue : 0
Split Toning Shadow Saturation : 0
Split Toning Highlight Hue : 0
Split Toning Highlight Saturation : 0
Split Toning Balance : 0
Parametric Shadows : 0
Parametric Darks : 0
Parametric Lights : 0
Parametric Highlights : 0
Parametric Shadow Split : 25
Parametric Midtone Split : 50
Parametric Highlight Split : 75
Sharpen Radius : +1.5
Sharpen Detail : 15
Sharpen Edge Masking : 45
Post Crop Vignette Amount : 0
Grain Amount : 0
Luminance Noise Reduction Detail : 40
Color Noise Reduction Detail : 50
Luminance Noise Reduction Contrast : 0
Lens Profile Enable : 0
Lens Manual Distortion Amount : 0
Perspective Vertical : 0
Perspective Horizontal : 0
Perspective Rotate : 0.0
Perspective Scale : 100
Auto Lateral CA : 0
Exposure 2012 : +0.56
Contrast 2012 : +17
Highlights 2012 : 0
Shadows 2012 : 0
Whites 2012 : -25
Blacks 2012 : +25
Clarity 2012 : +15
Convert To Grayscale : True
Tone Curve Name 2012 : Custom
Camera Profile : Adobe Standard
Lens Profile Setup : LensDefaults
Has Settings : True
Crop Top : 0
Crop Left : 0.059057
Crop Bottom : 0.791367
Crop Right : 1
Crop Angle : 0
Crop Constrain To Warp : 0
Crop Width : 4904
Crop Height : 2744
Crop Unit : pixels
Has Crop : True
Already Applied : True
Subject : 35mm, Eiffel, France, Leica, M9, Paris, Places, Summicron
Tone Curve PV2012 : 0, 0, 17, 11, 34, 27, 51, 45, 68, 63, 85, 81, 102, 99, 119, 118, 136, 137, 153, 156, 170, 175, 187, 193, 204, 210, 221, 226, 238, 241, 255, 255
Tone Curve PV2012 Red : 0, 0, 255, 255
Tone Curve PV2012 Green : 0, 0, 255, 255
Tone Curve PV2012 Blue : 0, 0, 255, 255
Image Width : 300
Image Height : 168
Bits Per Sample : 8
Color Components : 1
Aperture : 2.4
Image Size : 300x168
Megapixels : 0.050
Scale Factor To 35 mm Equivalent : 1.0
Shutter Speed : 1/30
Circle Of Confusion : 0.030 mm
Field Of View : 54.4 deg
Focal Length : 35.0 mm (35 mm equivalent: 35.0 mm)
Hyperfocal Distance : 16.99 m
Light Value : 3.4
Lens ID : Summicron-M 35mm f/2 (IV)