Uber Exif Photo
Make : Leica Camera AG
Camera Model Name : M9 Digital Camera
Software : Adobe Photoshop Lightroom 4.1 (Macintosh)
Modify Date : 2012:09:18 19:21:44
Exposure Time : 1/1000
Exposure Program : Aperture-priority AE
ISO : 160
Create Date : 2012:09:18 00:30:09
Shutter Speed Value : 1/1000
Exposure Compensation : 0
Max Aperture Value : 1.4
Metering Mode : Center-weighted average
Light Source : Unknown
Flash : No Flash
Focal Length : 35.0 mm
Profile Description : sRGB IEC61966-2.1
Creator Tool : Adobe Photoshop Lightroom 4.1 (Macintosh)
Format : image/jpeg
Version : 7.1
Process Version : 6.7
White Balance : Custom
Incremental Temperature : +5
Incremental Tint : +8
Saturation : +12
Sharpness : 55
Luminance Smoothing : 0
Color Noise Reduction : 0
Vignette Amount : 0
Shadow Tint : -1
Red Hue : +36
Red Saturation : +13
Green Hue : +1
Green Saturation : +12
Blue Hue : -7
Blue Saturation : +13
Vibrance : +7
Hue Adjustment Red : 0
Hue Adjustment Orange : 0
Hue Adjustment Yellow : 0
Hue Adjustment Green : 0
Hue Adjustment Aqua : 0
Hue Adjustment Blue : +9
Hue Adjustment Purple : 0
Hue Adjustment Magenta : 0
Saturation Adjustment Red : 0
Saturation Adjustment Orange : 0
Saturation Adjustment Yellow : 0
Saturation Adjustment Green : 0
Saturation Adjustment Aqua : 0
Saturation Adjustment Blue : +3
Saturation Adjustment Purple : 0
Saturation Adjustment Magenta : 0
Luminance Adjustment Red : 0
Luminance Adjustment Orange : 0
Luminance Adjustment Yellow : 0
Luminance Adjustment Green : 0
Luminance Adjustment Aqua : 0
Luminance Adjustment Blue : +1
Luminance Adjustment Purple : 0
Luminance Adjustment Magenta : 0
Split Toning Shadow Hue : 0
Split Toning Shadow Saturation : 0
Split Toning Highlight Hue : 0
Split Toning Highlight Saturation : 0
Split Toning Balance : 0
Parametric Shadows : 0
Parametric Darks : +1
Parametric Lights : -24
Parametric Highlights : +31
Parametric Shadow Split : 25
Parametric Midtone Split : 50
Parametric Highlight Split : 75
Sharpen Radius : +0.5
Sharpen Detail : 68
Sharpen Edge Masking : 8
Post Crop Vignette Amount : 0
Grain Amount : 0
Lens Profile Enable : 0
Lens Manual Distortion Amount : 0
Perspective Vertical : 0
Perspective Horizontal : 0
Perspective Rotate : 0.0
Perspective Scale : 100
Auto Lateral CA : 0
Exposure 2012 : +0.10
Contrast 2012 : -16
Highlights 2012 : +48
Shadows 2012 : +28
Whites 2012 : -24
Blacks 2012 : +25
Clarity 2012 : +22
Defringe Purple Amount : 0
Defringe Purple Hue Lo : 30
Defringe Purple Hue Hi : 70
Defringe Green Amount : 0
Defringe Green Hue Lo : 40
Defringe Green Hue Hi : 60
Convert To Grayscale : False
Tone Curve Name 2012 : Linear
Camera Profile : Embedded
Lens Profile Setup : LensDefaults
Has Settings : True
Crop Top : 0.33478
Crop Left : 0.267366
Crop Bottom : 0.996178
Crop Right : 1
Crop Angle : 0
Crop Constrain To Warp : 0
Crop Width : 2541
Crop Height : 3447
Crop Unit : pixels
Has Crop : True
Already Applied : True
Tone Curve PV2012 : 0, 0, 255, 255
Tone Curve PV2012 Red : 0, 0, 255, 255
Tone Curve PV2012 Green : 0, 0, 255, 255
Tone Curve PV2012 Blue : 0, 0, 255, 255
Image Width : 221
Image Height : 300
Bits Per Sample : 8
Color Components : 3
Image Size : 221x300
Megapixels : 0.066
Shutter Speed : 1/1000