Uber Exif Photo
By-line : Patrik Nellhag
Copyright Notice : Patrik Nellhag
Copyright Flag : True
URL : www.nellhag.com
Make : Leica Camera AG
Camera Model Name : M9 Digital Camera
Software : Adobe Photoshop Lightroom 4.0 (Macintosh)
Modify Date : 2012:08:06 20:51:25
Artist : Patrik Nellhag
Copyright : Patrik Nellhag
Exposure Time : 1/125
F Number : 3.4
Exposure Program : Manual
ISO : 500
Date/Time Original : 2012:08:03 19:42:35
Create Date : 2012:08:03 19:42:35
Shutter Speed Value : 1/125
Aperture Value : 3.4
Exposure Compensation : 0
Max Aperture Value : 1.0
Metering Mode : Center-weighted average
Light Source : Unknown
Flash : No Flash
Contrast : Normal
Sharpening : Normal
Saturation : Normal
White Balance : Auto
JPEG Quality : Fine
WB RGB Levels : 0.4221266071 1 0.8767123288
User Profile : Off
JPEG Size : 5216x3472
Firmware Version : 1.176
Base ISO : 160
Sensor Width : 5270
Sensor Height : 3516
Sensor Bit Depth : 14
Camera Temperature : 30 C
Lens Type : Uncoded lens
Approximate F Number : 3.5
Measured LV : 2.94
External Sensor Brightness Value : 2.11
Scene Type : Directly photographed
Exposure Mode : Manual
Digital Zoom Ratio : 0
Scene Capture Type : Standard
Serial Number : 3978723
Maker Note Safety : Safe
Creator Tool : Adobe Photoshop Lightroom 4.0 (Macintosh)
Rating : 5
Date Created : 2012:08:03 19:42:35
Format : image/jpeg
Marked : True
Web Statement : www.nellhag.com
Version : 7.0
Process Version : 6.7
Color Temperature : 6050
Tint : -1
Exposure : 0.00
Shadows : 5
Brightness : +50
Sharpness : 27
Luminance Smoothing : 0
Color Noise Reduction : 25
Vignette Amount : 0
Shadow Tint : 0
Red Hue : 0
Red Saturation : 0
Green Hue : 0
Green Saturation : 0
Blue Hue : 0
Blue Saturation : 0
Fill Light : 0
Highlight Recovery : 0
Clarity : 0
Defringe : 0
Gray Mixer Red : -11
Gray Mixer Orange : -19
Gray Mixer Yellow : -23
Gray Mixer Green : -26
Gray Mixer Aqua : -16
Gray Mixer Blue : +11
Gray Mixer Purple : +15
Gray Mixer Magenta : +3
Split Toning Shadow Hue : 0
Split Toning Shadow Saturation : 0
Split Toning Highlight Hue : 0
Split Toning Highlight Saturation : 0
Split Toning Balance : 0
Parametric Shadows : 0
Parametric Darks : 0
Parametric Lights : 0
Parametric Highlights : 0
Parametric Shadow Split : 25
Parametric Midtone Split : 50
Parametric Highlight Split : 75
Sharpen Radius : +1.1
Sharpen Detail : 28
Sharpen Edge Masking : 100
Post Crop Vignette Amount : 0
Grain Amount : 0
Color Noise Reduction Detail : 50
Lens Profile Enable : 0
Lens Manual Distortion Amount : 0
Perspective Vertical : 0
Perspective Horizontal : 0
Perspective Rotate : 0.0
Perspective Scale : 100
Auto Lateral CA : 0
Exposure 2012 : +0.10
Contrast 2012 : +13
Highlights 2012 : +7
Shadows 2012 : -2
Whites 2012 : +62
Blacks 2012 : -24
Clarity 2012 : 0
Convert To Grayscale : True
Tone Curve Name : Linear
Tone Curve Name 2012 : Linear
Camera Profile : Adobe Standard
Lens Profile Setup : LensDefaults
Has Settings : True
Crop Top : 0
Crop Left : 0.531381
Crop Bottom : 1
Crop Right : 0.974433
Crop Angle : 0
Crop Constrain To Warp : 0
Crop Width : 666
Crop Height : 1000
Crop Unit : pixels
Has Crop : True
Already Applied : True
Creator : Patrik Nellhag
Rights : Patrik Nellhag
Usage Terms : Copyrighted
Creator Work Email : patrik@nellhag.com
Creator Address : www.nellhag.com
Creator Work URL : www.nellhag.com
Tone Curve : 0, 0, 255, 255
Tone Curve Red : 0, 0, 255, 255
Tone Curve Green : 0, 0, 255, 255
Tone Curve Blue : 0, 0, 255, 255
Tone Curve PV2012 : 0, 0, 255, 255
Tone Curve PV2012 Red : 0, 0, 255, 255
Tone Curve PV2012 Green : 0, 0, 255, 255
Tone Curve PV2012 Blue : 0, 0, 255, 255
Paint Correction What : Correction
Paint Correction Amount : 1.000000
Paint Correction Active : true
Paint Correction Saturation : 0.000000
Paint Correction Sharpness : 0.000000
Paint Correction Brightness : 0.000000
Paint Correction Toning Hue : 233.000000
Paint Correction Toning Saturation : 0.000000
Paint Correction Exposure 2012 : 0.024930
Paint Correction Contrast 2012 : 0.000000
Paint Correction Highlights 2012 : -1.000000
Paint Correction Shadows 2012 : 0.000000
Paint Correction Clarity 2012 : 0.690221
Paint Correction Luminance Noise : 0.000000
Paint Correction Moire : 0.000000
Paint Correction Temperature : 0.000000
Paint Correction Tint : 0.000000
Paint Correction Mask What : Mask/Paint
Paint Correction Mask Value : 0.534298
Paint Correction Mask Radius : 0.028570
Paint Correction Mask Flow : 0.500000
Paint Correction Mask Center Weight : 0.000000
Image Width : 200
Image Height : 300
Bits Per Sample : 8
Color Components : 1
Aperture : 3.4
Blue Balance : 0.876712
Image Size : 200x300
Lens ID : Uncoded lens
Megapixels : 0.060
Red Balance : 0.422127
Scale Factor To 35 mm Equivalent : 17.4
Shutter Speed : 1/125
Circle Of Confusion : 0.002 mm
Light Value : 8.2