Uber Exif Photo
Make : Leica Camera AG
Camera Model Name : M8 Digital Camera
Software : Adobe Photoshop Lightroom 4.0 (Macintosh)
Modify Date : 2012:02:03 21:48:00
Exposure Time : 1/45
F Number : 2.0
Exposure Program : Aperture-priority AE
ISO : 320
Date/Time Original : 2012:02:02 19:31:16
Create Date : 2012:02:02 19:31:16
Shutter Speed Value : 1/45
Aperture Value : 2.0
Exposure Compensation : 0
Max Aperture Value : 1.0
Metering Mode : Center-weighted average
Light Source : Unknown
Flash : Auto, Did not fire
Scene Type : Directly photographed
White Balance : Auto
Digital Zoom Ratio : 0
Scene Capture Type : Standard
Serial Number : 3104624
Profile Description : Adobe RGB (1998)
Creator Tool : Adobe Photoshop Lightroom 4.0 (Macintosh)
Date Created : 2012:02:02 19:31:16
Format : image/jpeg
Version : 7.0
Process Version : 6.6
Color Temperature : 3350
Tint : +8
Exposure : +1.15
Shadows : 2
Brightness : +20
Contrast : +10
Saturation : -16
Sharpness : 31
Luminance Smoothing : 30
Color Noise Reduction : 25
Vignette Amount : -69
Vignette Midpoint : 17
Shadow Tint : 0
Red Hue : +49
Red Saturation : 0
Green Hue : +46
Green Saturation : 0
Blue Hue : -44
Blue Saturation : +33
Fill Light : 0
Vibrance : +21
Highlight Recovery : 0
Clarity : 0
Defringe : 0
Hue Adjustment Red : 0
Hue Adjustment Orange : 0
Hue Adjustment Yellow : 0
Hue Adjustment Green : 0
Hue Adjustment Aqua : 0
Hue Adjustment Blue : 0
Hue Adjustment Purple : 0
Hue Adjustment Magenta : 0
Saturation Adjustment Red : -12
Saturation Adjustment Orange : -12
Saturation Adjustment Yellow : -13
Saturation Adjustment Green : -14
Saturation Adjustment Aqua : -14
Saturation Adjustment Blue : -14
Saturation Adjustment Purple : -14
Saturation Adjustment Magenta : -14
Luminance Adjustment Red : 0
Luminance Adjustment Orange : 0
Luminance Adjustment Yellow : 0
Luminance Adjustment Green : 0
Luminance Adjustment Aqua : 0
Luminance Adjustment Blue : 0
Luminance Adjustment Purple : 0
Luminance Adjustment Magenta : 0
Split Toning Shadow Hue : 236
Split Toning Shadow Saturation : 20
Split Toning Highlight Hue : 78
Split Toning Highlight Saturation : 28
Split Toning Balance : 0
Parametric Shadows : 0
Parametric Darks : +52
Parametric Lights : 0
Parametric Highlights : 0
Parametric Shadow Split : 10
Parametric Midtone Split : 59
Parametric Highlight Split : 90
Sharpen Radius : +0.6
Sharpen Detail : 15
Sharpen Edge Masking : 32
Post Crop Vignette Amount : -7
Post Crop Vignette Midpoint : 50
Post Crop Vignette Feather : 50
Post Crop Vignette Roundness : 0
Post Crop Vignette Style : Highlight Priority
Post Crop Vignette Highlight Contrast : 0
Grain Amount : 0
Luminance Noise Reduction Detail : 50
Color Noise Reduction Detail : 50
Luminance Noise Reduction Contrast : 0
Lens Profile Enable : 0
Lens Manual Distortion Amount : 0
Perspective Vertical : 0
Perspective Horizontal : 0
Perspective Rotate : 0.0
Perspective Scale : 100
Auto Lateral CA : 0
Exposure 2012 : +1.95
Contrast 2012 : +8
Highlights 2012 : 0
Shadows 2012 : +25
Whites 2012 : +23
Blacks 2012 : -12
Clarity 2012 : +18
Convert To Grayscale : False
Tone Curve Name : Linear
Tone Curve Name 2012 : Linear
Camera Profile : Embedded
Lens Profile Setup : LensDefaults
Has Settings : True
Has Crop : False
Already Applied : True
Tone Curve : 0, 0, 255, 255
Tone Curve Red : 0, 0, 255, 255
Tone Curve Green : 0, 0, 255, 255
Tone Curve Blue : 0, 0, 255, 255
Tone Curve PV2012 : 0, 0, 255, 255
Tone Curve PV2012 Red : 0, 0, 255, 255
Tone Curve PV2012 Green : 0, 0, 255, 255
Tone Curve PV2012 Blue : 0, 0, 255, 255
Paint Correction What : Correction
Paint Correction Amount : 1.000000
Paint Correction Active : true
Paint Correction Exposure : 0.000000
Paint Correction Saturation : 0.000000
Paint Correction Contrast : 0.000000
Paint Correction Clarity : 0.000000
Paint Correction Sharpness : 0.525056
Paint Correction Brightness : 0.000000
Paint Correction Toning Hue : 0.000000
Paint Correction Toning Saturation : 0.000000
Paint Correction Exposure 2012 : 0.000000
Paint Correction Contrast 2012 : 0.000000
Paint Correction Highlights 2012 : 0.000000
Paint Correction Shadows 2012 : 0.000000
Paint Correction Clarity 2012 : 0.196791
Paint Correction Luminance Noise : 0.000000
Paint Correction Moire : 0.000000
Paint Correction Temperature : 0.000000
Paint Correction Tint : 0.000000
Paint Correction Mask What : Mask/Paint
Paint Correction Mask Value : 1.000000
Paint Correction Mask Radius : 0.005473
Paint Correction Mask Flow : 0.700310
Paint Correction Mask Center Weight : 0.035302
Image Width : 300
Image Height : 202
Bits Per Sample : 8
Color Components : 3
Aperture : 2.0
Image Size : 300x202
Megapixels : 0.061
Scale Factor To 35 mm Equivalent : 17.6
Shutter Speed : 1/45
Circle Of Confusion : 0.002 mm
Light Value : 5.8